Workbook
Name ayatvafaeian: INDIRECT(#REF!)

Sheet لیستوفر هوشمند (3)
N2: =INDEX(#REF!,#REF!) -> #REF!
B3: رديف | C3: Pos | D3: سایز | E3: تعداد | F3: طول جزء (متر) | G3: طول کل (متر) | H3: وزن واحد (کیلوگرم) | I3: ضریب | J3: وزن کل (کیلوگرم) | K3: شکل | L3: موقعیت | N3: =IF(N2="مستقیم","طول",IF(N2="L خوابیده به راست","طول",IF(N2="L خوابیده به چپ","طول",IF(N2="L ایستاده به راست","ارتفاع",IF(N2="L ایستاده به چپ","ارتفاع",IF(N2="] به راست","ارتفاع",IF(N2=" [به چپ","ارتفاع",IF(N2="] به بالا","طول",IF(N2="] به پایین","طول",IF(N2="ریشه پله","عمودی",IF(N2="خاموت دایره","قطر",IF(N2="خاموت 90","طول",IF(N2="خاموت 135","طول",IF(N2="رکابی","طول",IF(N2="سنجاقی 135","طول",IF(N2="خرک","پاشنه چپ","")))))))))))))))) -> #REF! | O3: =IF(N2="L خوابیده به راست","ارتفاع",IF(N2="L خوابیده به چپ","ارتفاع",IF(N2="L ایستاده به راست","پاشنه",IF(N2="L ایستاده به چپ","پاشنه",IF(N2="] به راست","عرض پایین",IF(N2=" [به چپ","عرض پایین",IF(N2="] به بالا","ارتفاع چپ",IF(N2="] به پایین","ارتفاع چپ",IF(N2="ریشه پله","شیب",IF(N2="خاموت 90","عرض",IF(N2="خاموت 135","عرض",IF(N2="رکابی","عرض",IF(N2="سنجاقی 135","طول خم 90",IF(N2="خرک","ارتفاع","")))))))))))))) -> #REF! | P3: =IF(N2="] به راست","عرض بالا",IF(N2=" [به چپ","عرض بالا",IF(N2="] به بالا","ارتفاع راست",IF(N2="] به پایین","ارتفاع راست",IF(N2="ریشه پله","افقی",IF(N2="خاموت 90","طول خم",IF(N2="خاموت 135","طول خم",IF(N2="رکابی","طول خم",IF(N2="سنجاقی 135","طول خم 135",IF(N2="خرک","طول","")))))))))) -> #REF! | Q3: =IF(N2="رکابی","قطر خم",IF(N2="سنجاقی 135","قطر خم",IF(N2="خرک","پاشنه راست",""))) -> #REF!
B4: 1 | C4: 1 | D4: 18 | E4: 110 | F4: 9.9 | G4: =F4*E4 -> 1089 | H4: =IF(D4=6,#REF!,IF('لیستوفر هوشمند (3)'!D4=8,#REF!,IF('لیستوفر هوشمند (3)'!D4=10,#REF!,IF(D4=12,#REF!,IF('لیستوفر هوشمند (3)'!D4=14,#REF!,IF('لیستوفر هوشمند (3)'!D4=16,#REF!,IF('لیستوفر هوشمند (3)'!D4=18,#REF!,IF('لیستوفر هوشمند (3)'!D4=20,#REF!,IF('لیستوفر هوشمند (3)'!D4=22,#REF!,IF('لیستوفر هوشمند (3)'!D4=24,#REF!,IF('لیستوفر هوشمند (3)'!D4=25,#REF!,IF('لیستوفر هوشمند (3)'!D4=26,#REF!,IF('لیستوفر هوشمند (3)'!D4=28,#REF!,IF('لیستوفر هوشمند (3)'!D4=30,#REF!,IF('لیستوفر هوشمند (3)'!D4=32,#REF!,0))))))))))))))) -> #REF! | I4: 1 | J4: =G4*H4 -> #REF! | L4: فونداسیون | N4: 1460 | O4: 320 | P4: 90 | Q4: 30mm | W4: {=IFERROR(INDEX($D$4:$D$88,MATCH(0,COUNTIF($W$3:W3,$D$4:$D$88),0)),"")} -> 18 | Y4: {=IFERROR(INDEX($L$4:$L$88,MATCH(0,COUNTIF($Y$3:Y3,$L$4:$L$88),0),0),0)} -> فونداسیون
B5: 2 | C5: 2 | D5: 18 | E5: 94 | F5: 12 | G5: =F5*E5 -> 1128 | H5: =IF(D5=6,#REF!,IF('لیستوفر هوشمند (3)'!D5=8,#REF!,IF('لیستوفر هوشمند (3)'!D5=10,#REF!,IF(D5=12,#REF!,IF('لیستوفر هوشمند (3)'!D5=14,#REF!,IF('لیستوفر هوشمند (3)'!D5=16,#REF!,IF('لیستوفر هوشمند (3)'!D5=18,#REF!,IF('لیستوفر هوشمند (3)'!D5=20,#REF!,IF('لیستوفر هوشمند (3)'!D5=22,#REF!,IF('لیستوفر هوشمند (3)'!D5=24,#REF!,IF('لیستوفر هوشمند (3)'!D5=25,#REF!,IF('لیستوفر هوشمند (3)'!D5=26,#REF!,IF('لیستوفر هوشمند (3)'!D5=28,#REF!,IF('لیستوفر هوشمند (3)'!D5=30,#REF!,IF('لیستوفر هوشمند (3)'!D5=32,#REF!,0))))))))))))))) -> #REF! | I5: 1 | J5: =G5*H5 -> #REF! | L5: فونداسیون
B6: 3 | C6: 3 | D6: 18 | E6: 25 | F6: 3 | G6: =F6*E6 -> 75 | H6: =IF(D6=6,#REF!,IF('لیستوفر هوشمند (3)'!D6=8,#REF!,IF('لیستوفر هوشمند (3)'!D6=10,#REF!,IF(D6=12,#REF!,IF('لیستوفر هوشمند (3)'!D6=14,#REF!,IF('لیستوفر هوشمند (3)'!D6=16,#REF!,IF('لیستوفر هوشمند (3)'!D6=18,#REF!,IF('لیستوفر هوشمند (3)'!D6=20,#REF!,IF('لیستوفر هوشمند (3)'!D6=22,#REF!,IF('لیستوفر هوشمند (3)'!D6=24,#REF!,IF('لیستوفر هوشمند (3)'!D6=25,#REF!,IF('لیستوفر هوشمند (3)'!D6=26,#REF!,IF('لیستوفر هوشمند (3)'!D6=28,#REF!,IF('لیستوفر هوشمند (3)'!D6=30,#REF!,IF('لیستوفر هوشمند (3)'!D6=32,#REF!,0))))))))))))))) -> #REF! | I6: 1 | J6: =G6*H6 -> #REF! | L6: فونداسیون | W6: {=IFERROR(INDEX($D$4:$D$88,MATCH(0,COUNTIF($W$3:W4,$D$4:$D$88),0)),"")} -> 10 | Y6: {=IFERROR(INDEX($L$4:$L$88,MATCH(0,COUNTIF($Y$3:Y4,$L$4:$L$88),0),0),0)} -> ستون طبقه 1
B7: 4 | C7: 4 | D7: 18 | E7: 90 | F7: 4.9 | G7: =F7*E7 -> 441 | H7: =IF(D7=6,#REF!,IF('لیستوفر هوشمند (3)'!D7=8,#REF!,IF('لیستوفر هوشمند (3)'!D7=10,#REF!,IF(D7=12,#REF!,IF('لیستوفر هوشمند (3)'!D7=14,#REF!,IF('لیستوفر هوشمند (3)'!D7=16,#REF!,IF('لیستوفر هوشمند (3)'!D7=18,#REF!,IF('لیستوفر هوشمند (3)'!D7=20,#REF!,IF('لیستوفر هوشمند (3)'!D7=22,#REF!,IF('لیستوفر هوشمند (3)'!D7=24,#REF!,IF('لیستوفر هوشمند (3)'!D7=25,#REF!,IF('لیستوفر هوشمند (3)'!D7=26,#REF!,IF('لیستوفر هوشمند (3)'!D7=28,#REF!,IF('لیستوفر هوشمند (3)'!D7=30,#REF!,IF('لیستوفر هوشمند (3)'!D7=32,#REF!,0))))))))))))))) -> #REF! | I7: 1.25 | J7: =G7*H7*I7 -> #REF! | L7: ستون طبقه 1 | W7: {=IFERROR(INDEX($D$4:$D$88,MATCH(0,COUNTIF($W$3:W6,$D$4:$D$88),0)),"")} -> 8 | Y7: {=IFERROR(INDEX($L$4:$L$88,MATCH(0,COUNTIF($Y$3:Y6,$L$4:$L$88),0),0),0)} -> خاموت ستون اول
B8: 5 | C8: 5 | D8: 10 | E8: =32*9 -> 288 | F8: 1.46 | G8: =F8*E8 -> 420.48 | H8: =IF(D8=6,#REF!,IF('لیستوفر هوشمند (3)'!D8=8,#REF!,IF('لیستوفر هوشمند (3)'!D8=10,#REF!,IF(D8=12,#REF!,IF('لیستوفر هوشمند (3)'!D8=14,#REF!,IF('لیستوفر هوشمند (3)'!D8=16,#REF!,IF('لیستوفر هوشمند (3)'!D8=18,#REF!,IF('لیستوفر هوشمند (3)'!D8=20,#REF!,IF('لیستوفر هوشمند (3)'!D8=22,#REF!,IF('لیستوفر هوشمند (3)'!D8=24,#REF!,IF('لیستوفر هوشمند (3)'!D8=25,#REF!,IF('لیستوفر هوشمند (3)'!D8=26,#REF!,IF('لیستوفر هوشمند (3)'!D8=28,#REF!,IF('لیستوفر هوشمند (3)'!D8=30,#REF!,IF('لیستوفر هوشمند (3)'!D8=32,#REF!,0))))))))))))))) -> #REF! | I8: 1 | J8: =G8*H8 -> #REF! | L8: خاموت ستون اول | W8: {=IFERROR(INDEX($D$4:$D$88,MATCH(0,COUNTIF($W$3:W7,$D$4:$D$88),0)),"")} -> 0 | Y8: {=IFERROR(INDEX($L$4:$L$88,MATCH(0,COUNTIF($Y$3:Y7,$L$4:$L$88),0),0),0)} -> سنجاقی ستون اول
B9: 6 | C9: 6 | D9: 10 | E9: =32*9 -> 288 | F9: 0.5 | G9: =F9*E9 -> 144 | H9: =IF(D9=6,#REF!,IF('لیستوفر هوشمند (3)'!D9=8,#REF!,IF('لیستوفر هوشمند (3)'!D9=10,#REF!,IF(D9=12,#REF!,IF('لیستوفر هوشمند (3)'!D9=14,#REF!,IF('لیستوفر هوشمند (3)'!D9=16,#REF!,IF('لیستوفر هوشمند (3)'!D9=18,#REF!,IF('لیستوفر هوشمند (3)'!D9=20,#REF!,IF('لیستوفر هوشمند (3)'!D9=22,#REF!,IF('لیستوفر هوشمند (3)'!D9=24,#REF!,IF('لیستوفر هوشمند (3)'!D9=25,#REF!,IF('لیستوفر هوشمند (3)'!D9=26,#REF!,IF('لیستوفر هوشمند (3)'!D9=28,#REF!,IF('لیستوفر هوشمند (3)'!D9=30,#REF!,IF('لیستوفر هوشمند (3)'!D9=32,#REF!,0))))))))))))))) -> #REF! | I9: 1 | J9: =G9*H9 -> #REF! | L9: سنجاقی ستون اول | W9: {=IFERROR(INDEX($D$4:$D$88,MATCH(0,COUNTIF($W$3:W8,$D$4:$D$88),0)),"")} | Y9: {=IFERROR(INDEX($L$4:$L$88,MATCH(0,COUNTIF($Y$3:Y8,$L$4:$L$88),0),0),0)} -> همبندی
B10: 7 | C10: 7 | D10: 8 | E10: 1 | F10: 175 | G10: =F10*E10 -> 175 | H10: =IF(D10=6,#REF!,IF('لیستوفر هوشمند (3)'!D10=8,#REF!,IF('لیستوفر هوشمند (3)'!D10=10,#REF!,IF(D10=12,#REF!,IF('لیستوفر هوشمند (3)'!D10=14,#REF!,IF('لیستوفر هوشمند (3)'!D10=16,#REF!,IF('لیستوفر هوشمند (3)'!D10=18,#REF!,IF('لیستوفر هوشمند (3)'!D10=20,#REF!,IF('لیستوفر هوشمند (3)'!D10=22,#REF!,IF('لیستوفر هوشمند (3)'!D10=24,#REF!,IF('لیستوفر هوشمند (3)'!D10=25,#REF!,IF('لیستوفر هوشمند (3)'!D10=26,#REF!,IF('لیستوفر هوشمند (3)'!D10=28,#REF!,IF('لیستوفر هوشمند (3)'!D10=30,#REF!,IF('لیستوفر هوشمند (3)'!D10=32,#REF!,0))))))))))))))) -> #REF! | I10: 1 | J10: =G10*H10 -> #REF! | L10: همبندی | W10: {=IFERROR(INDEX($D$4:$D$88,MATCH(0,COUNTIF($W$3:W9,$D$4:$D$88),0)),"")} | Y10: {=IFERROR(INDEX($L$4:$L$88,MATCH(0,COUNTIF($Y$3:Y9,$L$4:$L$88),0),0),0)} -> 0
B11: 20 | C11: 6 | E11: 0 | F11: 1.8 | G11: =F11*E11 -> 0 | H11: =IF(D11=6,#REF!,IF('لیستوفر هوشمند (3)'!D11=8,#REF!,IF('لیستوفر هوشمند (3)'!D11=10,#REF!,IF(D11=12,#REF!,IF('لیستوفر هوشمند (3)'!D11=14,#REF!,IF('لیستوفر هوشمند (3)'!D11=16,#REF!,IF('لیستوفر هوشمند (3)'!D11=18,#REF!,IF('لیستوفر هوشمند (3)'!D11=20,#REF!,IF('لیستوفر هوشمند (3)'!D11=22,#REF!,IF('لیستوفر هوشمند (3)'!D11=24,#REF!,IF('لیستوفر هوشمند (3)'!D11=25,#REF!,IF('لیستوفر هوشمند (3)'!D11=26,#REF!,IF('لیستوفر هوشمند (3)'!D11=28,#REF!,IF('لیستوفر هوشمند (3)'!D11=30,#REF!,IF('لیستوفر هوشمند (3)'!D11=32,#REF!,0))))))))))))))) -> 0 | J11: =G11*H11 -> 0 | W11: {=IFERROR(INDEX($D$4:$D$88,MATCH(0,COUNTIF(#REF!,$D$4:$D$88),0)),"")} | Y11: {=IFERROR(INDEX($L$4:$L$88,MATCH(0,COUNTIF($Y$3:Y10,$L$4:$L$88),0),0),0)} -> 0
B12: 21 | C12: 6 | E12: 0 | F12: 1.8 | G12: =F12*E12 -> 0 | H12: =IF(D12=6,#REF!,IF('لیستوفر هوشمند (3)'!D12=8,#REF!,IF('لیستوفر هوشمند (3)'!D12=10,#REF!,IF(D12=12,#REF!,IF('لیستوفر هوشمند (3)'!D12=14,#REF!,IF('لیستوفر هوشمند (3)'!D12=16,#REF!,IF('لیستوفر هوشمند (3)'!D12=18,#REF!,IF('لیستوفر هوشمند (3)'!D12=20,#REF!,IF('لیستوفر هوشمند (3)'!D12=22,#REF!,IF('لیستوفر هوشمند (3)'!D12=24,#REF!,IF('لیستوفر هوشمند (3)'!D12=25,#REF!,IF('لیستوفر هوشمند (3)'!D12=26,#REF!,IF('لیستوفر هوشمند (3)'!D12=28,#REF!,IF('لیستوفر هوشمند (3)'!D12=30,#REF!,IF('لیستوفر هوشمند (3)'!D12=32,#REF!,0))))))))))))))) -> 0 | J12: =G12*H12 -> 0 | W12: {=IFERROR(INDEX($D$4:$D$88,MATCH(0,COUNTIF(#REF!,$D$4:$D$88),0)),"")} | Y12: {=IFERROR(INDEX($L$4:$L$88,MATCH(0,COUNTIF($Y$3:Y11,$L$4:$L$88),0),0),0)} -> 0
B13: 22 | C13: 6 | E13: 0 | F13: 1.8 | G13: =F13*E13 -> 0 | H13: =IF(D13=6,#REF!,IF('لیستوفر هوشمند (3)'!D13=8,#REF!,IF('لیستوفر هوشمند (3)'!D13=10,#REF!,IF(D13=12,#REF!,IF('لیستوفر هوشمند (3)'!D13=14,#REF!,IF('لیستوفر هوشمند (3)'!D13=16,#REF!,IF('لیستوفر هوشمند (3)'!D13=18,#REF!,IF('لیستوفر هوشمند (3)'!D13=20,#REF!,IF('لیستوفر هوشمند (3)'!D13=22,#REF!,IF('لیستوفر هوشمند (3)'!D13=24,#REF!,IF('لیستوفر هوشمند (3)'!D13=25,#REF!,IF('لیستوفر هوشمند (3)'!D13=26,#REF!,IF('لیستوفر هوشمند (3)'!D13=28,#REF!,IF('لیستوفر هوشمند (3)'!D13=30,#REF!,IF('لیستوفر هوشمند (3)'!D13=32,#REF!,0))))))))))))))) -> 0 | J13: =G13*H13 -> 0 | W13: {=IFERROR(INDEX($D$4:$D$88,MATCH(0,COUNTIF(#REF!,$D$4:$D$88),0)),"")} | Y13: {=IFERROR(INDEX($L$4:$L$88,MATCH(0,COUNTIF($Y$3:Y12,$L$4:$L$88),0),0),0)} -> 0
B14: 23 | C14: 6 | E14: 0 | F14: 1.8 | G14: =F14*E14 -> 0 | H14: =IF(D14=6,#REF!,IF('لیستوفر هوشمند (3)'!D14=8,#REF!,IF('لیستوفر هوشمند (3)'!D14=10,#REF!,IF(D14=12,#REF!,IF('لیستوفر هوشمند (3)'!D14=14,#REF!,IF('لیستوفر هوشمند (3)'!D14=16,#REF!,IF('لیستوفر هوشمند (3)'!D14=18,#REF!,IF('لیستوفر هوشمند (3)'!D14=20,#REF!,IF('لیستوفر هوشمند (3)'!D14=22,#REF!,IF('لیستوفر هوشمند (3)'!D14=24,#REF!,IF('لیستوفر هوشمند (3)'!D14=25,#REF!,IF('لیستوفر هوشمند (3)'!D14=26,#REF!,IF('لیستوفر هوشمند (3)'!D14=28,#REF!,IF('لیستوفر هوشمند (3)'!D14=30,#REF!,IF('لیستوفر هوشمند (3)'!D14=32,#REF!,0))))))))))))))) -> 0 | J14: =G14*H14 -> 0 | W14: {=IFERROR(INDEX($D$4:$D$88,MATCH(0,COUNTIF(#REF!,$D$4:$D$88),0)),"")} | Y14: {=IFERROR(INDEX($L$4:$L$88,MATCH(0,COUNTIF($Y$3:Y13,$L$4:$L$88),0),0),0)} -> 0
B15: 24 | C15: 6 | E15: 0 | F15: 1.8 | G15: =F15*E15 -> 0 | H15: =IF(D15=6,#REF!,IF('لیستوفر هوشمند (3)'!D15=8,#REF!,IF('لیستوفر هوشمند (3)'!D15=10,#REF!,IF(D15=12,#REF!,IF('لیستوفر هوشمند (3)'!D15=14,#REF!,IF('لیستوفر هوشمند (3)'!D15=16,#REF!,IF('لیستوفر هوشمند (3)'!D15=18,#REF!,IF('لیستوفر هوشمند (3)'!D15=20,#REF!,IF('لیستوفر هوشمند (3)'!D15=22,#REF!,IF('لیستوفر هوشمند (3)'!D15=24,#REF!,IF('لیستوفر هوشمند (3)'!D15=25,#REF!,IF('لیستوفر هوشمند (3)'!D15=26,#REF!,IF('لیستوفر هوشمند (3)'!D15=28,#REF!,IF('لیستوفر هوشمند (3)'!D15=30,#REF!,IF('لیستوفر هوشمند (3)'!D15=32,#REF!,0))))))))))))))) -> 0 | J15: =G15*H15 -> 0 | W15: {=IFERROR(INDEX($D$4:$D$88,MATCH(0,COUNTIF(#REF!,$D$4:$D$88),0)),"")} | Y15: {=IFERROR(INDEX($L$4:$L$88,MATCH(0,COUNTIF($Y$3:Y14,$L$4:$L$88),0),0),0)} -> 0
B16: 25 | C16: 6 | E16: 0 | F16: 1.8 | G16: =F16*E16 -> 0 | H16: =IF(D16=6,#REF!,IF('لیستوفر هوشمند (3)'!D16=8,#REF!,IF('لیستوفر هوشمند (3)'!D16=10,#REF!,IF(D16=12,#REF!,IF('لیستوفر هوشمند (3)'!D16=14,#REF!,IF('لیستوفر هوشمند (3)'!D16=16,#REF!,IF('لیستوفر هوشمند (3)'!D16=18,#REF!,IF('لیستوفر هوشمند (3)'!D16=20,#REF!,IF('لیستوفر هوشمند (3)'!D16=22,#REF!,IF('لیستوفر هوشمند (3)'!D16=24,#REF!,IF('لیستوفر هوشمند (3)'!D16=25,#REF!,IF('لیستوفر هوشمند (3)'!D16=26,#REF!,IF('لیستوفر هوشمند (3)'!D16=28,#REF!,IF('لیستوفر هوشمند (3)'!D16=30,#REF!,IF('لیستوفر هوشمند (3)'!D16=32,#REF!,0))))))))))))))) -> 0 | J16: =G16*H16 -> 0 | W16: {=IFERROR(INDEX($D$4:$D$88,MATCH(0,COUNTIF(#REF!,$D$4:$D$88),0)),"")} | Y16: {=IFERROR(INDEX($L$4:$L$88,MATCH(0,COUNTIF($Y$3:Y15,$L$4:$L$88),0),0),0)} -> 0
B17: 26 | C17: 6 | E17: 0 | F17: 1.8 | G17: =F17*E17 -> 0 | H17: =IF(D17=6,#REF!,IF('لیستوفر هوشمند (3)'!D17=8,#REF!,IF('لیستوفر هوشمند (3)'!D17=10,#REF!,IF(D17=12,#REF!,IF('لیستوفر هوشمند (3)'!D17=14,#REF!,IF('لیستوفر هوشمند (3)'!D17=16,#REF!,IF('لیستوفر هوشمند (3)'!D17=18,#REF!,IF('لیستوفر هوشمند (3)'!D17=20,#REF!,IF('لیستوفر هوشمند (3)'!D17=22,#REF!,IF('لیستوفر هوشمند (3)'!D17=24,#REF!,IF('لیستوفر هوشمند (3)'!D17=25,#REF!,IF('لیستوفر هوشمند (3)'!D17=26,#REF!,IF('لیستوفر هوشمند (3)'!D17=28,#REF!,IF('لیستوفر هوشمند (3)'!D17=30,#REF!,IF('لیستوفر هوشمند (3)'!D17=32,#REF!,0))))))))))))))) -> 0 | J17: =G17*H17 -> 0 | W17: {=IFERROR(INDEX($D$4:$D$88,MATCH(0,COUNTIF(#REF!,$D$4:$D$88),0)),"")} | Y17: {=IFERROR(INDEX($L$4:$L$88,MATCH(0,COUNTIF($Y$3:Y16,$L$4:$L$88),0),0),0)} -> 0
B18: 27 | C18: 6 | E18: 0 | F18: 1.8 | G18: =F18*E18 -> 0 | H18: =IF(D18=6,#REF!,IF('لیستوفر هوشمند (3)'!D18=8,#REF!,IF('لیستوفر هوشمند (3)'!D18=10,#REF!,IF(D18=12,#REF!,IF('لیستوفر هوشمند (3)'!D18=14,#REF!,IF('لیستوفر هوشمند (3)'!D18=16,#REF!,IF('لیستوفر هوشمند (3)'!D18=18,#REF!,IF('لیستوفر هوشمند (3)'!D18=20,#REF!,IF('لیستوفر هوشمند (3)'!D18=22,#REF!,IF('لیستوفر هوشمند (3)'!D18=24,#REF!,IF('لیستوفر هوشمند (3)'!D18=25,#REF!,IF('لیستوفر هوشمند (3)'!D18=26,#REF!,IF('لیستوفر هوشمند (3)'!D18=28,#REF!,IF('لیستوفر هوشمند (3)'!D18=30,#REF!,IF('لیستوفر هوشمند (3)'!D18=32,#REF!,0))))))))))))))) -> 0 | J18: =G18*H18 -> 0 | W18: {=IFERROR(INDEX($D$4:$D$88,MATCH(0,COUNTIF(#REF!,$D$4:$D$88),0)),"")} | Y18: {=IFERROR(INDEX($L$4:$L$88,MATCH(0,COUNTIF($Y$3:Y17,$L$4:$L$88),0),0),0)} -> 0
B19: 28 | C19: 6 | E19: 0 | F19: 1.8 | G19: =F19*E19 -> 0 | H19: =IF(D19=6,#REF!,IF('لیستوفر هوشمند (3)'!D19=8,#REF!,IF('لیستوفر هوشمند (3)'!D19=10,#REF!,IF(D19=12,#REF!,IF('لیستوفر هوشمند (3)'!D19=14,#REF!,IF('لیستوفر هوشمند (3)'!D19=16,#REF!,IF('لیستوفر هوشمند (3)'!D19=18,#REF!,IF('لیستوفر هوشمند (3)'!D19=20,#REF!,IF('لیستوفر هوشمند (3)'!D19=22,#REF!,IF('لیستوفر هوشمند (3)'!D19=24,#REF!,IF('لیستوفر هوشمند (3)'!D19=25,#REF!,IF('لیستوفر هوشمند (3)'!D19=26,#REF!,IF('لیستوفر هوشمند (3)'!D19=28,#REF!,IF('لیستوفر هوشمند (3)'!D19=30,#REF!,IF('لیستوفر هوشمند (3)'!D19=32,#REF!,0))))))))))))))) -> 0 | J19: =G19*H19 -> 0 | W19: {=IFERROR(INDEX($D$4:$D$88,MATCH(0,COUNTIF(#REF!,$D$4:$D$88),0)),"")} | Y19: {=IFERROR(INDEX($L$4:$L$88,MATCH(0,COUNTIF($Y$3:Y18,$L$4:$L$88),0),0),0)} -> 0
B20: 29 | C20: 6 | E20: 0 | F20: 1.8 | G20: =F20*E20 -> 0 | H20: =IF(D20=6,#REF!,IF('لیستوفر هوشمند (3)'!D20=8,#REF!,IF('لیستوفر هوشمند (3)'!D20=10,#REF!,IF(D20=12,#REF!,IF('لیستوفر هوشمند (3)'!D20=14,#REF!,IF('لیستوفر هوشمند (3)'!D20=16,#REF!,IF('لیستوفر هوشمند (3)'!D20=18,#REF!,IF('لیستوفر هوشمند (3)'!D20=20,#REF!,IF('لیستوفر هوشمند (3)'!D20=22,#REF!,IF('لیستوفر هوشمند (3)'!D20=24,#REF!,IF('لیستوفر هوشمند (3)'!D20=25,#REF!,IF('لیستوفر هوشمند (3)'!D20=26,#REF!,IF('لیستوفر هوشمند (3)'!D20=28,#REF!,IF('لیستوفر هوشمند (3)'!D20=30,#REF!,IF('لیستوفر هوشمند (3)'!D20=32,#REF!,0))))))))))))))) -> 0 | J20: =G20*H20 -> 0 | W20: {=IFERROR(INDEX($D$4:$D$88,MATCH(0,COUNTIF(#REF!,$D$4:$D$88),0)),"")} | Y20: {=IFERROR(INDEX($L$4:$L$88,MATCH(0,COUNTIF($Y$3:Y19,$L$4:$L$88),0),0),0)} -> 0
B21: 30 | C21: 6 | E21: 0 | F21: 1.8 | G21: =F21*E21 -> 0 | H21: =IF(D21=6,#REF!,IF('لیستوفر هوشمند (3)'!D21=8,#REF!,IF('لیستوفر هوشمند (3)'!D21=10,#REF!,IF(D21=12,#REF!,IF('لیستوفر هوشمند (3)'!D21=14,#REF!,IF('لیستوفر هوشمند (3)'!D21=16,#REF!,IF('لیستوفر هوشمند (3)'!D21=18,#REF!,IF('لیستوفر هوشمند (3)'!D21=20,#REF!,IF('لیستوفر هوشمند (3)'!D21=22,#REF!,IF('لیستوفر هوشمند (3)'!D21=24,#REF!,IF('لیستوفر هوشمند (3)'!D21=25,#REF!,IF('لیستوفر هوشمند (3)'!D21=26,#REF!,IF('لیستوفر هوشمند (3)'!D21=28,#REF!,IF('لیستوفر هوشمند (3)'!D21=30,#REF!,IF('لیستوفر هوشمند (3)'!D21=32,#REF!,0))))))))))))))) -> 0 | J21: =G21*H21 -> 0 | W21: {=IFERROR(INDEX($D$4:$D$88,MATCH(0,COUNTIF(#REF!,$D$4:$D$88),0)),"")} | Y21: {=IFERROR(INDEX($L$4:$L$88,MATCH(0,COUNTIF($Y$3:Y20,$L$4:$L$88),0),0),0)} -> 0
B22: 31 | C22: 6 | E22: 0 | F22: 1.8 | G22: =F22*E22 -> 0 | H22: =IF(D22=6,#REF!,IF('لیستوفر هوشمند (3)'!D22=8,#REF!,IF('لیستوفر هوشمند (3)'!D22=10,#REF!,IF(D22=12,#REF!,IF('لیستوفر هوشمند (3)'!D22=14,#REF!,IF('لیستوفر هوشمند (3)'!D22=16,#REF!,IF('لیستوفر هوشمند (3)'!D22=18,#REF!,IF('لیستوفر هوشمند (3)'!D22=20,#REF!,IF('لیستوفر هوشمند (3)'!D22=22,#REF!,IF('لیستوفر هوشمند (3)'!D22=24,#REF!,IF('لیستوفر هوشمند (3)'!D22=25,#REF!,IF('لیستوفر هوشمند (3)'!D22=26,#REF!,IF('لیستوفر هوشمند (3)'!D22=28,#REF!,IF('لیستوفر هوشمند (3)'!D22=30,#REF!,IF('لیستوفر هوشمند (3)'!D22=32,#REF!,0))))))))))))))) -> 0 | J22: =G22*H22 -> 0 | W22: {=IFERROR(INDEX($D$4:$D$88,MATCH(0,COUNTIF(#REF!,$D$4:$D$88),0)),"")} | Y22: {=IFERROR(INDEX($L$4:$L$88,MATCH(0,COUNTIF($Y$3:Y21,$L$4:$L$88),0),0),0)} -> 0
... B54: 63 | C54: 6 | E54: 0 | F54: 1.8 | G54: =F54*E54 -> 0 | H54: =IF(D54=6,#REF!,IF('لیستوفر هوشمند (3)'!D54=8,#REF!,IF('لیستوفر هوشمند (3)'!D54=10,#REF!,IF(D54=12,#REF!,IF('لیستوفر هوشمند (3)'!D54=14,#REF!,IF('لیستوفر هوشمند (3)'!D54=16,#REF!,IF('لیستوفر هوشمند (3)'!D54=18,#REF!,IF('لیستوفر هوشمند (3)'!D54=20,#REF!,IF('لیستوفر هوشمند (3)'!D54=22,#REF!,IF('لیستوفر هوشمند (3)'!D54=24,#REF!,IF('لیستوفر هوشمند (3)'!D54=25,#REF!,IF('لیستوفر هوشمند (3)'!D54=26,#REF!,IF('لیستوفر هوشمند (3)'!D54=28,#REF!,IF('لیستوفر هوشمند (3)'!D54=30,#REF!,IF('لیستوفر هوشمند (3)'!D54=32,#REF!,0))))))))))))))) -> 0 | J54: =G54*H54 -> 0 | W54: {=IFERROR(INDEX($D$4:$D$88,MATCH(0,COUNTIF(#REF!,$D$4:$D$88),0)),"")} | Y54: {=IFERROR(INDEX($L$4:$L$88,MATCH(0,COUNTIF($Y$3:Y53,$L$4:$L$88),0),0),0)} -> 0
B55: 64 | C55: 6 | E55: 0 | F55: 1.8 | G55: =F55*E55 -> 0 | H55: =IF(D55=6,#REF!,IF('لیستوفر هوشمند (3)'!D55=8,#REF!,IF('لیستوفر هوشمند (3)'!D55=10,#REF!,IF(D55=12,#REF!,IF('لیستوفر هوشمند (3)'!D55=14,#REF!,IF('لیستوفر هوشمند (3)'!D55=16,#REF!,IF('لیستوفر هوشمند (3)'!D55=18,#REF!,IF('لیستوفر هوشمند (3)'!D55=20,#REF!,IF('لیستوفر هوشمند (3)'!D55=22,#REF!,IF('لیستوفر هوشمند (3)'!D55=24,#REF!,IF('لیستوفر هوشمند (3)'!D55=25,#REF!,IF('لیستوفر هوشمند (3)'!D55=26,#REF!,IF('لیستوفر هوشمند (3)'!D55=28,#REF!,IF('لیستوفر هوشمند (3)'!D55=30,#REF!,IF('لیستوفر هوشمند (3)'!D55=32,#REF!,0))))))))))))))) -> 0 | J55: =G55*H55 -> 0 | W55: {=IFERROR(INDEX($D$4:$D$88,MATCH(0,COUNTIF($W1:W$3,$D$4:$D$88),0)),"")} -> 18 | Y55: {=IFERROR(INDEX($L$4:$L$88,MATCH(0,COUNTIF($Y$3:Y54,$L$4:$L$88),0),0),0)} -> 0
B56: 65 | C56: 6 | E56: 0 | F56: 1.8 | G56: =F56*E56 -> 0 | H56: =IF(D56=6,#REF!,IF('لیستوفر هوشمند (3)'!D56=8,#REF!,IF('لیستوفر هوشمند (3)'!D56=10,#REF!,IF(D56=12,#REF!,IF('لیستوفر هوشمند (3)'!D56=14,#REF!,IF('لیستوفر هوشمند (3)'!D56=16,#REF!,IF('لیستوفر هوشمند (3)'!D56=18,#REF!,IF('لیستوفر هوشمند (3)'!D56=20,#REF!,IF('لیستوفر هوشمند (3)'!D56=22,#REF!,IF('لیستوفر هوشمند (3)'!D56=24,#REF!,IF('لیستوفر هوشمند (3)'!D56=25,#REF!,IF('لیستوفر هوشمند (3)'!D56=26,#REF!,IF('لیستوفر هوشمند (3)'!D56=28,#REF!,IF('لیستوفر هوشمند (3)'!D56=30,#REF!,IF('لیستوفر هوشمند (3)'!D56=32,#REF!,0))))))))))))))) -> 0 | J56: =G56*H56 -> 0 | W56: {=IFERROR(INDEX($D$4:$D$88,MATCH(0,COUNTIF($W2:W$3,$D$4:$D$88),0)),"")} -> 18 | Y56: {=IFERROR(INDEX($L$4:$L$88,MATCH(0,COUNTIF($Y$3:Y55,$L$4:$L$88),0),0),0)} -> 0
B57: 66 | C57: 6 | E57: 0 | F57: 1.8 | G57: =F57*E57 -> 0 | H57: =IF(D57=6,#REF!,IF('لیستوفر هوشمند (3)'!D57=8,#REF!,IF('لیستوفر هوشمند (3)'!D57=10,#REF!,IF(D57=12,#REF!,IF('لیستوفر هوشمند (3)'!D57=14,#REF!,IF('لیستوفر هوشمند (3)'!D57=16,#REF!,IF('لیستوفر هوشمند (3)'!D57=18,#REF!,IF('لیستوفر هوشمند (3)'!D57=20,#REF!,IF('لیستوفر هوشمند (3)'!D57=22,#REF!,IF('لیستوفر هوشمند (3)'!D57=24,#REF!,IF('لیستوفر هوشمند (3)'!D57=25,#REF!,IF('لیستوفر هوشمند (3)'!D57=26,#REF!,IF('لیستوفر هوشمند (3)'!D57=28,#REF!,IF('لیستوفر هوشمند (3)'!D57=30,#REF!,IF('لیستوفر هوشمند (3)'!D57=32,#REF!,0))))))))))))))) -> 0 | J57: =G57*H57 -> 0 | W57: {=IFERROR(INDEX($D$4:$D$88,MATCH(0,COUNTIF($W$3:W3,$D$4:$D$88),0)),"")} -> 18 | Y57: {=IFERROR(INDEX($L$4:$L$88,MATCH(0,COUNTIF($Y$3:Y56,$L$4:$L$88),0),0),0)} -> 0
B58: 67 | C58: 6 | E58: 0 | F58: 1.8 | G58: =F58*E58 -> 0 | H58: =IF(D58=6,#REF!,IF('لیستوفر هوشمند (3)'!D58=8,#REF!,IF('لیستوفر هوشمند (3)'!D58=10,#REF!,IF(D58=12,#REF!,IF('لیستوفر هوشمند (3)'!D58=14,#REF!,IF('لیستوفر هوشمند (3)'!D58=16,#REF!,IF('لیستوفر هوشمند (3)'!D58=18,#REF!,IF('لیستوفر هوشمند (3)'!D58=20,#REF!,IF('لیستوفر هوشمند (3)'!D58=22,#REF!,IF('لیستوفر هوشمند (3)'!D58=24,#REF!,IF('لیستوفر هوشمند (3)'!D58=25,#REF!,IF('لیستوفر هوشمند (3)'!D58=26,#REF!,IF('لیستوفر هوشمند (3)'!D58=28,#REF!,IF('لیستوفر هوشمند (3)'!D58=30,#REF!,IF('لیستوفر هوشمند (3)'!D58=32,#REF!,0))))))))))))))) -> 0 | J58: =G58*H58 -> 0 | W58: {=IFERROR(INDEX($D$4:$D$88,MATCH(0,COUNTIF($W$3:W4,$D$4:$D$88),0)),"")} -> 10 | Y58: {=IFERROR(INDEX($L$4:$L$88,MATCH(0,COUNTIF($Y$3:Y57,$L$4:$L$88),0),0),0)} -> 0
B59: 68 | C59: 6 | E59: 0 | F59: 1.8 | G59: =F59*E59 -> 0 | H59: =IF(D59=6,#REF!,IF('لیستوفر هوشمند (3)'!D59=8,#REF!,IF('لیستوفر هوشمند (3)'!D59=10,#REF!,IF(D59=12,#REF!,IF('لیستوفر هوشمند (3)'!D59=14,#REF!,IF('لیستوفر هوشمند (3)'!D59=16,#REF!,IF('لیستوفر هوشمند (3)'!D59=18,#REF!,IF('لیستوفر هوشمند (3)'!D59=20,#REF!,IF('لیستوفر هوشمند (3)'!D59=22,#REF!,IF('لیستوفر هوشمند (3)'!D59=24,#REF!,IF('لیستوفر هوشمند (3)'!D59=25,#REF!,IF('لیستوفر هوشمند (3)'!D59=26,#REF!,IF('لیستوفر هوشمند (3)'!D59=28,#REF!,IF('لیستوفر هوشمند (3)'!D59=30,#REF!,IF('لیستوفر هوشمند (3)'!D59=32,#REF!,0))))))))))))))) -> 0 | J59: =G59*H59 -> 0 | W59: {=IFERROR(INDEX($D$4:$D$88,MATCH(0,COUNTIF($W$3:W6,$D$4:$D$88),0)),"")} -> 8 | Y59: {=IFERROR(INDEX($L$4:$L$88,MATCH(0,COUNTIF($Y$3:Y58,$L$4:$L$88),0),0),0)} -> 0
B60: 69 | C60: 6 | E60: 0 | F60: 1.8 | G60: =F60*E60 -> 0 | H60: =IF(D60=6,#REF!,IF('لیستوفر هوشمند (3)'!D60=8,#REF!,IF('لیستوفر هوشمند (3)'!D60=10,#REF!,IF(D60=12,#REF!,IF('لیستوفر هوشمند (3)'!D60=14,#REF!,IF('لیستوفر هوشمند (3)'!D60=16,#REF!,IF('لیستوفر هوشمند (3)'!D60=18,#REF!,IF('لیستوفر هوشمند (3)'!D60=20,#REF!,IF('لیستوفر هوشمند (3)'!D60=22,#REF!,IF('لیستوفر هوشمند (3)'!D60=24,#REF!,IF('لیستوفر هوشمند (3)'!D60=25,#REF!,IF('لیستوفر هوشمند (3)'!D60=26,#REF!,IF('لیستوفر هوشمند (3)'!D60=28,#REF!,IF('لیستوفر هوشمند (3)'!D60=30,#REF!,IF('لیستوفر هوشمند (3)'!D60=32,#REF!,0))))))))))))))) -> 0 | J60: =G60*H60 -> 0 | W60: {=IFERROR(INDEX($D$4:$D$88,MATCH(0,COUNTIF($W$3:W7,$D$4:$D$88),0)),"")} -> 0 | Y60: {=IFERROR(INDEX($L$4:$L$88,MATCH(0,COUNTIF($Y$3:Y59,$L$4:$L$88),0),0),0)} -> 0
B61: 70 | C61: 6 | E61: 0 | F61: 1.8 | G61: =F61*E61 -> 0 | H61: =IF(D61=6,#REF!,IF('لیستوفر هوشمند (3)'!D61=8,#REF!,IF('لیستوفر هوشمند (3)'!D61=10,#REF!,IF(D61=12,#REF!,IF('لیستوفر هوشمند (3)'!D61=14,#REF!,IF('لیستوفر هوشمند (3)'!D61=16,#REF!,IF('لیستوفر هوشمند (3)'!D61=18,#REF!,IF('لیستوفر هوشمند (3)'!D61=20,#REF!,IF('لیستوفر هوشمند (3)'!D61=22,#REF!,IF('لیستوفر هوشمند (3)'!D61=24,#REF!,IF('لیستوفر هوشمند (3)'!D61=25,#REF!,IF('لیستوفر هوشمند (3)'!D61=26,#REF!,IF('لیستوفر هوشمند (3)'!D61=28,#REF!,IF('لیستوفر هوشمند (3)'!D61=30,#REF!,IF('لیستوفر هوشمند (3)'!D61=32,#REF!,0))))))))))))))) -> 0 | J61: =G61*H61 -> 0 | W61: {=IFERROR(INDEX($D$4:$D$88,MATCH(0,COUNTIF($W$3:W8,$D$4:$D$88),0)),"")} | Y61: {=IFERROR(INDEX($L$4:$L$88,MATCH(0,COUNTIF($Y$3:Y60,$L$4:$L$88),0),0),0)} -> 0
B62: 71 | C62: 6 | E62: 0 | F62: 1.8 | G62: =F62*E62 -> 0 | H62: =IF(D62=6,#REF!,IF('لیستوفر هوشمند (3)'!D62=8,#REF!,IF('لیستوفر هوشمند (3)'!D62=10,#REF!,IF(D62=12,#REF!,IF('لیستوفر هوشمند (3)'!D62=14,#REF!,IF('لیستوفر هوشمند (3)'!D62=16,#REF!,IF('لیستوفر هوشمند (3)'!D62=18,#REF!,IF('لیستوفر هوشمند (3)'!D62=20,#REF!,IF('لیستوفر هوشمند (3)'!D62=22,#REF!,IF('لیستوفر هوشمند (3)'!D62=24,#REF!,IF('لیستوفر هوشمند (3)'!D62=25,#REF!,IF('لیستوفر هوشمند (3)'!D62=26,#REF!,IF('لیستوفر هوشمند (3)'!D62=28,#REF!,IF('لیستوفر هوشمند (3)'!D62=30,#REF!,IF('لیستوفر هوشمند (3)'!D62=32,#REF!,0))))))))))))))) -> 0 | J62: =G62*H62 -> 0 | W62: {=IFERROR(INDEX($D$4:$D$88,MATCH(0,COUNTIF($W$3:W9,$D$4:$D$88),0)),"")} | Y62: {=IFERROR(INDEX($L$4:$L$88,MATCH(0,COUNTIF($Y$3:Y61,$L$4:$L$88),0),0),0)} -> 0
B63: 72 | C63: 6 | E63: 0 | F63: 1.8 | G63: =F63*E63 -> 0 | H63: =IF(D63=6,#REF!,IF('لیستوفر هوشمند (3)'!D63=8,#REF!,IF('لیستوفر هوشمند (3)'!D63=10,#REF!,IF(D63=12,#REF!,IF('لیستوفر هوشمند (3)'!D63=14,#REF!,IF('لیستوفر هوشمند (3)'!D63=16,#REF!,IF('لیستوفر هوشمند (3)'!D63=18,#REF!,IF('لیستوفر هوشمند (3)'!D63=20,#REF!,IF('لیستوفر هوشمند (3)'!D63=22,#REF!,IF('لیستوفر هوشمند (3)'!D63=24,#REF!,IF('لیستوفر هوشمند (3)'!D63=25,#REF!,IF('لیستوفر هوشمند (3)'!D63=26,#REF!,IF('لیستوفر هوشمند (3)'!D63=28,#REF!,IF('لیستوفر هوشمند (3)'!D63=30,#REF!,IF('لیستوفر هوشمند (3)'!D63=32,#REF!,0))))))))))))))) -> 0 | J63: =G63*H63 -> 0 | W63: {=IFERROR(INDEX($D$4:$D$88,MATCH(0,COUNTIF($W$3:W9,$D$4:$D$88),0)),"")} | Y63: {=IFERROR(INDEX($L$4:$L$88,MATCH(0,COUNTIF($Y$3:Y62,$L$4:$L$88),0),0),0)} -> 0
B64: 73 | C64: 6 | E64: 0 | F64: 1.8 | G64: =F64*E64 -> 0 | H64: =IF(D64=6,#REF!,IF('لیستوفر هوشمند (3)'!D64=8,#REF!,IF('لیستوفر هوشمند (3)'!D64=10,#REF!,IF(D64=12,#REF!,IF('لیستوفر هوشمند (3)'!D64=14,#REF!,IF('لیستوفر هوشمند (3)'!D64=16,#REF!,IF('لیستوفر هوشمند (3)'!D64=18,#REF!,IF('لیستوفر هوشمند (3)'!D64=20,#REF!,IF('لیستوفر هوشمند (3)'!D64=22,#REF!,IF('لیستوفر هوشمند (3)'!D64=24,#REF!,IF('لیستوفر هوشمند (3)'!D64=25,#REF!,IF('لیستوفر هوشمند (3)'!D64=26,#REF!,IF('لیستوفر هوشمند (3)'!D64=28,#REF!,IF('لیستوفر هوشمند (3)'!D64=30,#REF!,IF('لیستوفر هوشمند (3)'!D64=32,#REF!,0))))))))))))))) -> 0 | J64: =G64*H64 -> 0 | W64: {=IFERROR(INDEX($D$4:$D$88,MATCH(0,COUNTIF($W$3:W9,$D$4:$D$88),0)),"")} | Y64: {=IFERROR(INDEX($L$4:$L$88,MATCH(0,COUNTIF($Y$3:Y63,$L$4:$L$88),0),0),0)} -> 0
B65: 74 | C65: 6 | E65: 0 | F65: 1.8 | G65: =F65*E65 -> 0 | H65: =IF(D65=6,#REF!,IF('لیستوفر هوشمند (3)'!D65=8,#REF!,IF('لیستوفر هوشمند (3)'!D65=10,#REF!,IF(D65=12,#REF!,IF('لیستوفر هوشمند (3)'!D65=14,#REF!,IF('لیستوفر هوشمند (3)'!D65=16,#REF!,IF('لیستوفر هوشمند (3)'!D65=18,#REF!,IF('لیستوفر هوشمند (3)'!D65=20,#REF!,IF('لیستوفر هوشمند (3)'!D65=22,#REF!,IF('لیستوفر هوشمند (3)'!D65=24,#REF!,IF('لیستوفر هوشمند (3)'!D65=25,#REF!,IF('لیستوفر هوشمند (3)'!D65=26,#REF!,IF('لیستوفر هوشمند (3)'!D65=28,#REF!,IF('لیستوفر هوشمند (3)'!D65=30,#REF!,IF('لیستوفر هوشمند (3)'!D65=32,#REF!,0))))))))))))))) -> 0 | J65: =G65*H65 -> 0 | W65: {=IFERROR(INDEX($D$4:$D$88,MATCH(0,COUNTIF($W1:W$3,$D$4:$D$88),0)),"")} -> 18 | Y65: {=IFERROR(INDEX($L$4:$L$88,MATCH(0,COUNTIF($Y$3:Y64,$L$4:$L$88),0),0),0)} -> 0
B66: 75 | C66: 6 | E66: 0 | F66: 1.8 | G66: =F66*E66 -> 0 | H66: =IF(D66=6,#REF!,IF('لیستوفر هوشمند (3)'!D66=8,#REF!,IF('لیستوفر هوشمند (3)'!D66=10,#REF!,IF(D66=12,#REF!,IF('لیستوفر هوشمند (3)'!D66=14,#REF!,IF('لیستوفر هوشمند (3)'!D66=16,#REF!,IF('لیستوفر هوشمند (3)'!D66=18,#REF!,IF('لیستوفر هوشمند (3)'!D66=20,#REF!,IF('لیستوفر هوشمند (3)'!D66=22,#REF!,IF('لیستوفر هوشمند (3)'!D66=24,#REF!,IF('لیستوفر هوشمند (3)'!D66=25,#REF!,IF('لیستوفر هوشمند (3)'!D66=26,#REF!,IF('لیستوفر هوشمند (3)'!D66=28,#REF!,IF('لیستوفر هوشمند (3)'!D66=30,#REF!,IF('لیستوفر هوشمند (3)'!D66=32,#REF!,0))))))))))))))) -> 0 | J66: =G66*H66 -> 0 | W66: {=IFERROR(INDEX($D$4:$D$88,MATCH(0,COUNTIF($W2:W$3,$D$4:$D$88),0)),"")} -> 18 | Y66: {=IFERROR(INDEX($L$4:$L$88,MATCH(0,COUNTIF($Y$3:Y65,$L$4:$L$88),0),0),0)} -> 0
B67: 76 | C67: 6 | E67: 0 | F67: 1.8 | G67: =F67*E67 -> 0 | H67: =IF(D67=6,#REF!,IF('لیستوفر هوشمند (3)'!D67=8,#REF!,IF('لیستوفر هوشمند (3)'!D67=10,#REF!,IF(D67=12,#REF!,IF('لیستوفر هوشمند (3)'!D67=14,#REF!,IF('لیستوفر هوشمند (3)'!D67=16,#REF!,IF('لیستوفر هوشمند (3)'!D67=18,#REF!,IF('لیستوفر هوشمند (3)'!D67=20,#REF!,IF('لیستوفر هوشمند (3)'!D67=22,#REF!,IF('لیستوفر هوشمند (3)'!D67=24,#REF!,IF('لیستوفر هوشمند (3)'!D67=25,#REF!,IF('لیستوفر هوشمند (3)'!D67=26,#REF!,IF('لیستوفر هوشمند (3)'!D67=28,#REF!,IF('لیستوفر هوشمند (3)'!D67=30,#REF!,IF('لیستوفر هوشمند (3)'!D67=32,#REF!,0))))))))))))))) -> 0 | J67: =G67*H67 -> 0 | W67: {=IFERROR(INDEX($D$4:$D$88,MATCH(0,COUNTIF($W$3:W3,$D$4:$D$88),0)),"")} -> 18 | Y67: {=IFERROR(INDEX($L$4:$L$88,MATCH(0,COUNTIF($Y$3:Y66,$L$4:$L$88),0),0),0)} -> 0
B68: 77 | C68: 6 | E68: 0 | F68: 1.8 | G68: =F68*E68 -> 0 | H68: =IF(D68=6,#REF!,IF('لیستوفر هوشمند (3)'!D68=8,#REF!,IF('لیستوفر هوشمند (3)'!D68=10,#REF!,IF(D68=12,#REF!,IF('لیستوفر هوشمند (3)'!D68=14,#REF!,IF('لیستوفر هوشمند (3)'!D68=16,#REF!,IF('لیستوفر هوشمند (3)'!D68=18,#REF!,IF('لیستوفر هوشمند (3)'!D68=20,#REF!,IF('لیستوفر هوشمند (3)'!D68=22,#REF!,IF('لیستوفر هوشمند (3)'!D68=24,#REF!,IF('لیستوفر هوشمند (3)'!D68=25,#REF!,IF('لیستوفر هوشمند (3)'!D68=26,#REF!,IF('لیستوفر هوشمند (3)'!D68=28,#REF!,IF('لیستوفر هوشمند (3)'!D68=30,#REF!,IF('لیستوفر هوشمند (3)'!D68=32,#REF!,0))))))))))))))) -> 0 | J68: =G68*H68 -> 0 | W68: {=IFERROR(INDEX($D$4:$D$88,MATCH(0,COUNTIF($W$3:W4,$D$4:$D$88),0)),"")} -> 10 | Y68: {=IFERROR(INDEX($L$4:$L$88,MATCH(0,COUNTIF($Y$3:Y67,$L$4:$L$88),0),0),0)} -> 0
B69: 78 | C69: 6 | E69: 0 | F69: 1.8 | G69: =F69*E69 -> 0 | H69: =IF(D69=6,#REF!,IF('لیستوفر هوشمند (3)'!D69=8,#REF!,IF('لیستوفر هوشمند (3)'!D69=10,#REF!,IF(D69=12,#REF!,IF('لیستوفر هوشمند (3)'!D69=14,#REF!,IF('لیستوفر هوشمند (3)'!D69=16,#REF!,IF('لیستوفر هوشمند (3)'!D69=18,#REF!,IF('لیستوفر هوشمند (3)'!D69=20,#REF!,IF('لیستوفر هوشمند (3)'!D69=22,#REF!,IF('لیستوفر هوشمند (3)'!D69=24,#REF!,IF('لیستوفر هوشمند (3)'!D69=25,#REF!,IF('لیستوفر هوشمند (3)'!D69=26,#REF!,IF('لیستوفر هوشمند (3)'!D69=28,#REF!,IF('لیستوفر هوشمند (3)'!D69=30,#REF!,IF('لیستوفر هوشمند (3)'!D69=32,#REF!,0))))))))))))))) -> 0 | J69: =G69*H69 -> 0 | W69: {=IFERROR(INDEX($D$4:$D$88,MATCH(0,COUNTIF($W$3:W6,$D$4:$D$88),0)),"")} -> 8 | Y69: {=IFERROR(INDEX($L$4:$L$88,MATCH(0,COUNTIF($Y$3:Y68,$L$4:$L$88),0),0),0)} -> 0
B70: 79 | C70: 6 | E70: 0 | F70: 1.8 | G70: =F70*E70 -> 0 | H70: =IF(D70=6,#REF!,IF('لیستوفر هوشمند (3)'!D70=8,#REF!,IF('لیستوفر هوشمند (3)'!D70=10,#REF!,IF(D70=12,#REF!,IF('لیستوفر هوشمند (3)'!D70=14,#REF!,IF('لیستوفر هوشمند (3)'!D70=16,#REF!,IF('لیستوفر هوشمند (3)'!D70=18,#REF!,IF('لیستوفر هوشمند (3)'!D70=20,#REF!,IF('لیستوفر هوشمند (3)'!D70=22,#REF!,IF('لیستوفر هوشمند (3)'!D70=24,#REF!,IF('لیستوفر هوشمند (3)'!D70=25,#REF!,IF('لیستوفر هوشمند (3)'!D70=26,#REF!,IF('لیستوفر هوشمند (3)'!D70=28,#REF!,IF('لیستوفر هوشمند (3)'!D70=30,#REF!,IF('لیستوفر هوشمند (3)'!D70=32,#REF!,0))))))))))))))) -> 0 | J70: =G70*H70 -> 0 | W70: {=IFERROR(INDEX($D$4:$D$88,MATCH(0,COUNTIF($W$3:W7,$D$4:$D$88),0)),"")} -> 0 | Y70: {=IFERROR(INDEX($L$4:$L$88,MATCH(0,COUNTIF($Y$3:Y69,$L$4:$L$88),0),0),0)} -> 0
B71: 80 | C71: 6 | E71: 0 | F71: 1.8 | G71: =F71*E71 -> 0 | H71: =IF(D71=6,#REF!,IF('لیستوفر هوشمند (3)'!D71=8,#REF!,IF('لیستوفر هوشمند (3)'!D71=10,#REF!,IF(D71=12,#REF!,IF('لیستوفر هوشمند (3)'!D71=14,#REF!,IF('لیستوفر هوشمند (3)'!D71=16,#REF!,IF('لیستوفر هوشمند (3)'!D71=18,#REF!,IF('لیستوفر هوشمند (3)'!D71=20,#REF!,IF('لیستوفر هوشمند (3)'!D71=22,#REF!,IF('لیستوفر هوشمند (3)'!D71=24,#REF!,IF('لیستوفر هوشمند (3)'!D71=25,#REF!,IF('لیستوفر هوشمند (3)'!D71=26,#REF!,IF('لیستوفر هوشمند (3)'!D71=28,#REF!,IF('لیستوفر هوشمند (3)'!D71=30,#REF!,IF('لیستوفر هوشمند (3)'!D71=32,#REF!,0))))))))))))))) -> 0 | J71: =G71*H71 -> 0 | W71: {=IFERROR(INDEX($D$4:$D$88,MATCH(0,COUNTIF($W$3:W8,$D$4:$D$88),0)),"")} | Y71: {=IFERROR(INDEX($L$4:$L$88,MATCH(0,COUNTIF($Y$3:Y70,$L$4:$L$88),0),0),0)} -> 0
B72: 81 | C72: 6 | E72: 0 | F72: 1.8 | G72: =F72*E72 -> 0 | H72: =IF(D72=6,#REF!,IF('لیستوفر هوشمند (3)'!D72=8,#REF!,IF('لیستوفر هوشمند (3)'!D72=10,#REF!,IF(D72=12,#REF!,IF('لیستوفر هوشمند (3)'!D72=14,#REF!,IF('لیستوفر هوشمند (3)'!D72=16,#REF!,IF('لیستوفر هوشمند (3)'!D72=18,#REF!,IF('لیستوفر هوشمند (3)'!D72=20,#REF!,IF('لیستوفر هوشمند (3)'!D72=22,#REF!,IF('لیستوفر هوشمند (3)'!D72=24,#REF!,IF('لیستوفر هوشمند (3)'!D72=25,#REF!,IF('لیستوفر هوشمند (3)'!D72=26,#REF!,IF('لیستوفر هوشمند (3)'!D72=28,#REF!,IF('لیستوفر هوشمند (3)'!D72=30,#REF!,IF('لیستوفر هوشمند (3)'!D72=32,#REF!,0))))))))))))))) -> 0 | J72: =G72*H72 -> 0 | W72: {=IFERROR(INDEX($D$4:$D$88,MATCH(0,COUNTIF($W$3:W9,$D$4:$D$88),0)),"")} | Y72: {=IFERROR(INDEX($L$4:$L$88,MATCH(0,COUNTIF($Y$3:Y71,$L$4:$L$88),0),0),0)} -> 0
B73: 82 | C73: 6 | E73: 0 | F73: 1.8 | G73: =F73*E73 -> 0 | H73: =IF(D73=6,#REF!,IF('لیستوفر هوشمند (3)'!D73=8,#REF!,IF('لیستوفر هوشمند (3)'!D73=10,#REF!,IF(D73=12,#REF!,IF('لیستوفر هوشمند (3)'!D73=14,#REF!,IF('لیستوفر هوشمند (3)'!D73=16,#REF!,IF('لیستوفر هوشمند (3)'!D73=18,#REF!,IF('لیستوفر هوشمند (3)'!D73=20,#REF!,IF('لیستوفر هوشمند (3)'!D73=22,#REF!,IF('لیستوفر هوشمند (3)'!D73=24,#REF!,IF('لیستوفر هوشمند (3)'!D73=25,#REF!,IF('لیستوفر هوشمند (3)'!D73=26,#REF!,IF('لیستوفر هوشمند (3)'!D73=28,#REF!,IF('لیستوفر هوشمند (3)'!D73=30,#REF!,IF('لیستوفر هوشمند (3)'!D73=32,#REF!,0))))))))))))))) -> 0 | J73: =G73*H73 -> 0 | W73: {=IFERROR(INDEX($D$4:$D$88,MATCH(0,COUNTIF($W$3:W9,$D$4:$D$88),0)),"")} | Y73: {=IFERROR(INDEX($L$4:$L$88,MATCH(0,COUNTIF($Y$3:Y72,$L$4:$L$88),0),0),0)} -> 0
B74: 83 | C74: 6 | E74: 0 | F74: 1.8 | G74: =F74*E74 -> 0 | H74: =IF(D74=6,#REF!,IF('لیستوفر هوشمند (3)'!D74=8,#REF!,IF('لیستوفر هوشمند (3)'!D74=10,#REF!,IF(D74=12,#REF!,IF('لیستوفر هوشمند (3)'!D74=14,#REF!,IF('لیستوفر هوشمند (3)'!D74=16,#REF!,IF('لیستوفر هوشمند (3)'!D74=18,#REF!,IF('لیستوفر هوشمند (3)'!D74=20,#REF!,IF('لیستوفر هوشمند (3)'!D74=22,#REF!,IF('لیستوفر هوشمند (3)'!D74=24,#REF!,IF('لیستوفر هوشمند (3)'!D74=25,#REF!,IF('لیستوفر هوشمند (3)'!D74=26,#REF!,IF('لیستوفر هوشمند (3)'!D74=28,#REF!,IF('لیستوفر هوشمند (3)'!D74=30,#REF!,IF('لیستوفر هوشمند (3)'!D74=32,#REF!,0))))))))))))))) -> 0 | J74: =G74*H74 -> 0 | W74: {=IFERROR(INDEX($D$4:$D$88,MATCH(0,COUNTIF($W$3:W9,$D$4:$D$88),0)),"")} | Y74: {=IFERROR(INDEX($L$4:$L$88,MATCH(0,COUNTIF($Y$3:Y73,$L$4:$L$88),0),0),0)} -> 0
B75: 84 | C75: 6 | E75: 0 | F75: 1.8 | G75: =F75*E75 -> 0 | H75: =IF(D75=6,#REF!,IF('لیستوفر هوشمند (3)'!D75=8,#REF!,IF('لیستوفر هوشمند (3)'!D75=10,#REF!,IF(D75=12,#REF!,IF('لیستوفر هوشمند (3)'!D75=14,#REF!,IF('لیستوفر هوشمند (3)'!D75=16,#REF!,IF('لیستوفر هوشمند (3)'!D75=18,#REF!,IF('لیستوفر هوشمند (3)'!D75=20,#REF!,IF('لیستوفر هوشمند (3)'!D75=22,#REF!,IF('لیستوفر هوشمند (3)'!D75=24,#REF!,IF('لیستوفر هوشمند (3)'!D75=25,#REF!,IF('لیستوفر هوشمند (3)'!D75=26,#REF!,IF('لیستوفر هوشمند (3)'!D75=28,#REF!,IF('لیستوفر هوشمند (3)'!D75=30,#REF!,IF('لیستوفر هوشمند (3)'!D75=32,#REF!,0))))))))))))))) -> 0 | J75: =G75*H75 -> 0 | W75: {=IFERROR(INDEX($D$4:$D$88,MATCH(0,COUNTIF($W$3:W9,$D$4:$D$88),0)),"")} | Y75: {=IFERROR(INDEX($L$4:$L$88,MATCH(0,COUNTIF($Y$3:Y74,$L$4:$L$88),0),0),0)} -> 0
B76: 85 | C76: 6 | E76: 0 | F76: 1.8 | G76: =F76*E76 -> 0 | H76: =IF(D76=6,#REF!,IF('لیستوفر هوشمند (3)'!D76=8,#REF!,IF('لیستوفر هوشمند (3)'!D76=10,#REF!,IF(D76=12,#REF!,IF('لیستوفر هوشمند (3)'!D76=14,#REF!,IF('لیستوفر هوشمند (3)'!D76=16,#REF!,IF('لیستوفر هوشمند (3)'!D76=18,#REF!,IF('لیستوفر هوشمند (3)'!D76=20,#REF!,IF('لیستوفر هوشمند (3)'!D76=22,#REF!,IF('لیستوفر هوشمند (3)'!D76=24,#REF!,IF('لیستوفر هوشمند (3)'!D76=25,#REF!,IF('لیستوفر هوشمند (3)'!D76=26,#REF!,IF('لیستوفر هوشمند (3)'!D76=28,#REF!,IF('لیستوفر هوشمند (3)'!D76=30,#REF!,IF('لیستوفر هوشمند (3)'!D76=32,#REF!,0))))))))))))))) -> 0 | J76: =G76*H76 -> 0 | W76: {=IFERROR(INDEX($D$4:$D$88,MATCH(0,COUNTIF($W$3:W9,$D$4:$D$88),0)),"")} | Y76: {=IFERROR(INDEX($L$4:$L$88,MATCH(0,COUNTIF($Y$3:Y75,$L$4:$L$88),0),0),0)} -> 0
B77: 86 | C77: 6 | E77: 0 | F77: 1.8 | G77: =F77*E77 -> 0 | H77: =IF(D77=6,#REF!,IF('لیستوفر هوشمند (3)'!D77=8,#REF!,IF('لیستوفر هوشمند (3)'!D77=10,#REF!,IF(D77=12,#REF!,IF('لیستوفر هوشمند (3)'!D77=14,#REF!,IF('لیستوفر هوشمند (3)'!D77=16,#REF!,IF('لیستوفر هوشمند (3)'!D77=18,#REF!,IF('لیستوفر هوشمند (3)'!D77=20,#REF!,IF('لیستوفر هوشمند (3)'!D77=22,#REF!,IF('لیستوفر هوشمند (3)'!D77=24,#REF!,IF('لیستوفر هوشمند (3)'!D77=25,#REF!,IF('لیستوفر هوشمند (3)'!D77=26,#REF!,IF('لیستوفر هوشمند (3)'!D77=28,#REF!,IF('لیستوفر هوشمند (3)'!D77=30,#REF!,IF('لیستوفر هوشمند (3)'!D77=32,#REF!,0))))))))))))))) -> 0 | J77: =G77*H77 -> 0 | W77: {=IFERROR(INDEX($D$4:$D$88,MATCH(0,COUNTIF($W$3:W9,$D$4:$D$88),0)),"")} | Y77: {=IFERROR(INDEX($L$4:$L$88,MATCH(0,COUNTIF($Y$3:Y76,$L$4:$L$88),0),0),0)} -> 0
B78: 87 | C78: 6 | E78: 0 | F78: 1.8 | G78: =F78*E78 -> 0 | H78: =IF(D78=6,#REF!,IF('لیستوفر هوشمند (3)'!D78=8,#REF!,IF('لیستوفر هوشمند (3)'!D78=10,#REF!,IF(D78=12,#REF!,IF('لیستوفر هوشمند (3)'!D78=14,#REF!,IF('لیستوفر هوشمند (3)'!D78=16,#REF!,IF('لیستوفر هوشمند (3)'!D78=18,#REF!,IF('لیستوفر هوشمند (3)'!D78=20,#REF!,IF('لیستوفر هوشمند (3)'!D78=22,#REF!,IF('لیستوفر هوشمند (3)'!D78=24,#REF!,IF('لیستوفر هوشمند (3)'!D78=25,#REF!,IF('لیستوفر هوشمند (3)'!D78=26,#REF!,IF('لیستوفر هوشمند (3)'!D78=28,#REF!,IF('لیستوفر هوشمند (3)'!D78=30,#REF!,IF('لیستوفر هوشمند (3)'!D78=32,#REF!,0))))))))))))))) -> 0 | J78: =G78*H78 -> 0 | W78: {=IFERROR(INDEX($D$4:$D$88,MATCH(0,COUNTIF($W$3:W9,$D$4:$D$88),0)),"")} | Y78: {=IFERROR(INDEX($L$4:$L$88,MATCH(0,COUNTIF($Y$3:Y77,$L$4:$L$88),0),0),0)} -> 0
B79: 88 | C79: 6 | E79: 0 | F79: 1.8 | G79: =F79*E79 -> 0 | H79: =IF(D79=6,#REF!,IF('لیستوفر هوشمند (3)'!D79=8,#REF!,IF('لیستوفر هوشمند (3)'!D79=10,#REF!,IF(D79=12,#REF!,IF('لیستوفر هوشمند (3)'!D79=14,#REF!,IF('لیستوفر هوشمند (3)'!D79=16,#REF!,IF('لیستوفر هوشمند (3)'!D79=18,#REF!,IF('لیستوفر هوشمند (3)'!D79=20,#REF!,IF('لیستوفر هوشمند (3)'!D79=22,#REF!,IF('لیستوفر هوشمند (3)'!D79=24,#REF!,IF('لیستوفر هوشمند (3)'!D79=25,#REF!,IF('لیستوفر هوشمند (3)'!D79=26,#REF!,IF('لیستوفر هوشمند (3)'!D79=28,#REF!,IF('لیستوفر هوشمند (3)'!D79=30,#REF!,IF('لیستوفر هوشمند (3)'!D79=32,#REF!,0))))))))))))))) -> 0 | J79: =G79*H79 -> 0 | W79: {=IFERROR(INDEX($D$4:$D$88,MATCH(0,COUNTIF($W$3:W10,$D$4:$D$88),0)),"")} | Y79: {=IFERROR(INDEX($L$4:$L$88,MATCH(0,COUNTIF($Y$3:Y78,$L$4:$L$88),0),0),0)} -> 0
B80: 89 | C80: 6 | E80: 0 | F80: 1.8 | G80: =F80*E80 -> 0 | H80: =IF(D80=6,#REF!,IF('لیستوفر هوشمند (3)'!D80=8,#REF!,IF('لیستوفر هوشمند (3)'!D80=10,#REF!,IF(D80=12,#REF!,IF('لیستوفر هوشمند (3)'!D80=14,#REF!,IF('لیستوفر هوشمند (3)'!D80=16,#REF!,IF('لیستوفر هوشمند (3)'!D80=18,#REF!,IF('لیستوفر هوشمند (3)'!D80=20,#REF!,IF('لیستوفر هوشمند (3)'!D80=22,#REF!,IF('لیستوفر هوشمند (3)'!D80=24,#REF!,IF('لیستوفر هوشمند (3)'!D80=25,#REF!,IF('لیستوفر هوشمند (3)'!D80=26,#REF!,IF('لیستوفر هوشمند (3)'!D80=28,#REF!,IF('لیستوفر هوشمند (3)'!D80=30,#REF!,IF('لیستوفر هوشمند (3)'!D80=32,#REF!,0))))))))))))))) -> 0 | J80: =G80*H80 -> 0 | W80: {=IFERROR(INDEX($D$4:$D$88,MATCH(0,COUNTIF($W$3:W10,$D$4:$D$88),0)),"")} | Y80: {=IFERROR(INDEX($L$4:$L$88,MATCH(0,COUNTIF($Y$3:Y79,$L$4:$L$88),0),0),0)} -> 0
B81: 90 | C81: 6 | E81: 0 | F81: 1.8 | G81: =F81*E81 -> 0 | H81: =IF(D81=6,#REF!,IF('لیستوفر هوشمند (3)'!D81=8,#REF!,IF('لیستوفر هوشمند (3)'!D81=10,#REF!,IF(D81=12,#REF!,IF('لیستوفر هوشمند (3)'!D81=14,#REF!,IF('لیستوفر هوشمند (3)'!D81=16,#REF!,IF('لیستوفر هوشمند (3)'!D81=18,#REF!,IF('لیستوفر هوشمند (3)'!D81=20,#REF!,IF('لیستوفر هوشمند (3)'!D81=22,#REF!,IF('لیستوفر هوشمند (3)'!D81=24,#REF!,IF('لیستوفر هوشمند (3)'!D81=25,#REF!,IF('لیستوفر هوشمند (3)'!D81=26,#REF!,IF('لیستوفر هوشمند (3)'!D81=28,#REF!,IF('لیستوفر هوشمند (3)'!D81=30,#REF!,IF('لیستوفر هوشمند (3)'!D81=32,#REF!,0))))))))))))))) -> 0 | J81: =G81*H81 -> 0 | W81: {=IFERROR(INDEX($D$4:$D$88,MATCH(0,COUNTIF($W$3:W9,$D$4:$D$88),0)),"")} | Y81: {=IFERROR(INDEX($L$4:$L$88,MATCH(0,COUNTIF($Y$3:Y80,$L$4:$L$88),0),0),0)} -> 0
B82: 91 | C82: 6 | E82: 0 | F82: 1.8 | G82: =F82*E82 -> 0 | H82: =IF(D82=6,#REF!,IF('لیستوفر هوشمند (3)'!D82=8,#REF!,IF('لیستوفر هوشمند (3)'!D82=10,#REF!,IF(D82=12,#REF!,IF('لیستوفر هوشمند (3)'!D82=14,#REF!,IF('لیستوفر هوشمند (3)'!D82=16,#REF!,IF('لیستوفر هوشمند (3)'!D82=18,#REF!,IF('لیستوفر هوشمند (3)'!D82=20,#REF!,IF('لیستوفر هوشمند (3)'!D82=22,#REF!,IF('لیستوفر هوشمند (3)'!D82=24,#REF!,IF('لیستوفر هوشمند (3)'!D82=25,#REF!,IF('لیستوفر هوشمند (3)'!D82=26,#REF!,IF('لیستوفر هوشمند (3)'!D82=28,#REF!,IF('لیستوفر هوشمند (3)'!D82=30,#REF!,IF('لیستوفر هوشمند (3)'!D82=32,#REF!,0))))))))))))))) -> 0 | J82: =G82*H82 -> 0 | W82: {=IFERROR(INDEX($D$4:$D$88,MATCH(0,COUNTIF($W$3:W9,$D$4:$D$88),0)),"")} | Y82: {=IFERROR(INDEX($L$4:$L$88,MATCH(0,COUNTIF($Y$3:Y81,$L$4:$L$88),0),0),0)} -> 0
B83: 92 | C83: 6 | E83: 0 | F83: 1.8 | G83: =F83*E83 -> 0 | H83: =IF(D83=6,#REF!,IF('لیستوفر هوشمند (3)'!D83=8,#REF!,IF('لیستوفر هوشمند (3)'!D83=10,#REF!,IF(D83=12,#REF!,IF('لیستوفر هوشمند (3)'!D83=14,#REF!,IF('لیستوفر هوشمند (3)'!D83=16,#REF!,IF('لیستوفر هوشمند (3)'!D83=18,#REF!,IF('لیستوفر هوشمند (3)'!D83=20,#REF!,IF('لیستوفر هوشمند (3)'!D83=22,#REF!,IF('لیستوفر هوشمند (3)'!D83=24,#REF!,IF('لیستوفر هوشمند (3)'!D83=25,#REF!,IF('لیستوفر هوشمند (3)'!D83=26,#REF!,IF('لیستوفر هوشمند (3)'!D83=28,#REF!,IF('لیستوفر هوشمند (3)'!D83=30,#REF!,IF('لیستوفر هوشمند (3)'!D83=32,#REF!,0))))))))))))))) -> 0 | J83: =G83*H83 -> 0 | W83: {=IFERROR(INDEX($D$4:$D$88,MATCH(0,COUNTIF($W$3:W10,$D$4:$D$88),0)),"")} | Y83: {=IFERROR(INDEX($L$4:$L$88,MATCH(0,COUNTIF($Y$3:Y82,$L$4:$L$88),0),0),0)} -> 0
B84: 93 | C84: 6 | E84: 0 | F84: 1.8 | G84: =F84*E84 -> 0 | H84: =IF(D84=6,#REF!,IF('لیستوفر هوشمند (3)'!D84=8,#REF!,IF('لیستوفر هوشمند (3)'!D84=10,#REF!,IF(D84=12,#REF!,IF('لیستوفر هوشمند (3)'!D84=14,#REF!,IF('لیستوفر هوشمند (3)'!D84=16,#REF!,IF('لیستوفر هوشمند (3)'!D84=18,#REF!,IF('لیستوفر هوشمند (3)'!D84=20,#REF!,IF('لیستوفر هوشمند (3)'!D84=22,#REF!,IF('لیستوفر هوشمند (3)'!D84=24,#REF!,IF('لیستوفر هوشمند (3)'!D84=25,#REF!,IF('لیستوفر هوشمند (3)'!D84=26,#REF!,IF('لیستوفر هوشمند (3)'!D84=28,#REF!,IF('لیستوفر هوشمند (3)'!D84=30,#REF!,IF('لیستوفر هوشمند (3)'!D84=32,#REF!,0))))))))))))))) -> 0 | J84: =G84*H84 -> 0 | W84: {=IFERROR(INDEX($D$4:$D$88,MATCH(0,COUNTIF($W$3:W10,$D$4:$D$88),0)),"")} | Y84: {=IFERROR(INDEX($L$4:$L$88,MATCH(0,COUNTIF($Y$3:Y83,$L$4:$L$88),0),0),0)} -> 0
B85: 94 | C85: 6 | E85: 0 | F85: 1.8 | G85: =F85*E85 -> 0 | H85: =IF(D85=6,#REF!,IF('لیستوفر هوشمند (3)'!D85=8,#REF!,IF('لیستوفر هوشمند (3)'!D85=10,#REF!,IF(D85=12,#REF!,IF('لیستوفر هوشمند (3)'!D85=14,#REF!,IF('لیستوفر هوشمند (3)'!D85=16,#REF!,IF('لیستوفر هوشمند (3)'!D85=18,#REF!,IF('لیستوفر هوشمند (3)'!D85=20,#REF!,IF('لیستوفر هوشمند (3)'!D85=22,#REF!,IF('لیستوفر هوشمند (3)'!D85=24,#REF!,IF('لیستوفر هوشمند (3)'!D85=25,#REF!,IF('لیستوفر هوشمند (3)'!D85=26,#REF!,IF('لیستوفر هوشمند (3)'!D85=28,#REF!,IF('لیستوفر هوشمند (3)'!D85=30,#REF!,IF('لیستوفر هوشمند (3)'!D85=32,#REF!,0))))))))))))))) -> 0 | J85: =G85*H85 -> 0 | W85: {=IFERROR(INDEX($D$4:$D$88,MATCH(0,COUNTIF($W$3:W10,$D$4:$D$88),0)),"")} | Y85: {=IFERROR(INDEX($L$4:$L$88,MATCH(0,COUNTIF($Y$3:Y84,$L$4:$L$88),0),0),0)} -> 0
B86: 95 | C86: 6 | E86: 0 | F86: 1.8 | G86: =F86*E86 -> 0 | H86: =IF(D86=6,#REF!,IF('لیستوفر هوشمند (3)'!D86=8,#REF!,IF('لیستوفر هوشمند (3)'!D86=10,#REF!,IF(D86=12,#REF!,IF('لیستوفر هوشمند (3)'!D86=14,#REF!,IF('لیستوفر هوشمند (3)'!D86=16,#REF!,IF('لیستوفر هوشمند (3)'!D86=18,#REF!,IF('لیستوفر هوشمند (3)'!D86=20,#REF!,IF('لیستوفر هوشمند (3)'!D86=22,#REF!,IF('لیستوفر هوشمند (3)'!D86=24,#REF!,IF('لیستوفر هوشمند (3)'!D86=25,#REF!,IF('لیستوفر هوشمند (3)'!D86=26,#REF!,IF('لیستوفر هوشمند (3)'!D86=28,#REF!,IF('لیستوفر هوشمند (3)'!D86=30,#REF!,IF('لیستوفر هوشمند (3)'!D86=32,#REF!,0))))))))))))))) -> 0 | J86: =G86*H86 -> 0 | W86: {=IFERROR(INDEX($D$4:$D$88,MATCH(0,COUNTIF($W$3:W10,$D$4:$D$88),0)),"")} | Y86: {=IFERROR(INDEX($L$4:$L$88,MATCH(0,COUNTIF($Y$3:Y85,$L$4:$L$88),0),0),0)} -> 0
B87: 96 | C87: 6 | E87: 0 | F87: 1.8 | G87: =F87*E87 -> 0 | H87: =IF(D87=6,#REF!,IF('لیستوفر هوشمند (3)'!D87=8,#REF!,IF('لیستوفر هوشمند (3)'!D87=10,#REF!,IF(D87=12,#REF!,IF('لیستوفر هوشمند (3)'!D87=14,#REF!,IF('لیستوفر هوشمند (3)'!D87=16,#REF!,IF('لیستوفر هوشمند (3)'!D87=18,#REF!,IF('لیستوفر هوشمند (3)'!D87=20,#REF!,IF('لیستوفر هوشمند (3)'!D87=22,#REF!,IF('لیستوفر هوشمند (3)'!D87=24,#REF!,IF('لیستوفر هوشمند (3)'!D87=25,#REF!,IF('لیستوفر هوشمند (3)'!D87=26,#REF!,IF('لیستوفر هوشمند (3)'!D87=28,#REF!,IF('لیستوفر هوشمند (3)'!D87=30,#REF!,IF('لیستوفر هوشمند (3)'!D87=32,#REF!,0))))))))))))))) -> 0 | J87: =G87*H87 -> 0 | W87: {=IFERROR(INDEX($D$4:$D$88,MATCH(0,COUNTIF($W$3:W10,$D$4:$D$88),0)),"")} | Y87: {=IFERROR(INDEX($L$4:$L$88,MATCH(0,COUNTIF($Y$3:Y86,$L$4:$L$88),0),0),0)} -> 0
B88: 97 | C88: 6 | E88: 0 | F88: 1.8 | G88: =F88*E88 -> 0 | H88: =IF(D88=6,#REF!,IF('لیستوفر هوشمند (3)'!D88=8,#REF!,IF('لیستوفر هوشمند (3)'!D88=10,#REF!,IF(D88=12,#REF!,IF('لیستوفر هوشمند (3)'!D88=14,#REF!,IF('لیستوفر هوشمند (3)'!D88=16,#REF!,IF('لیستوفر هوشمند (3)'!D88=18,#REF!,IF('لیستوفر هوشمند (3)'!D88=20,#REF!,IF('لیستوفر هوشمند (3)'!D88=22,#REF!,IF('لیستوفر هوشمند (3)'!D88=24,#REF!,IF('لیستوفر هوشمند (3)'!D88=25,#REF!,IF('لیستوفر هوشمند (3)'!D88=26,#REF!,IF('لیستوفر هوشمند (3)'!D88=28,#REF!,IF('لیستوفر هوشمند (3)'!D88=30,#REF!,IF('لیستوفر هوشمند (3)'!D88=32,#REF!,0))))))))))))))) -> 0 | J88: =G88*H88 -> 0 | W88: {=IFERROR(INDEX($D$4:$D$88,MATCH(0,COUNTIF($W$3:W10,$D$4:$D$88),0)),"")} | Y88: {=IFERROR(INDEX($L$4:$L$88,MATCH(0,COUNTIF($Y$3:Y87,$L$4:$L$88),0),0),0)} -> 0
B89: وزن کل (کیلوگرم) | J89: =SUM(J4:J88) -> #REF! | W89: {=IFERROR(INDEX($D$4:$D$88,MATCH(0,COUNTIF($W$3:W88,$D$4:$D$88),0)),"")}
B90: مجموع طول و وزن هر سایز میلگرد | W90: {=IFERROR(INDEX($D$4:$D$88,MATCH(0,COUNTIF($W$3:W89,$D$4:$D$88),0)),"")}
B91: سایز | C91: طول (متر) | F91: وزن (کیلوگرم) | H91: سایز | J91: طول (متر) | K91: وزن (کیلوگرم) | W91: {=IFERROR(INDEX($D$4:$D$88,MATCH(0,COUNTIF($W$3:W90,$D$4:$D$88),0)),"")}
B92: =$W$4 -> 18 | C92: =SUMIF($D$4:$D$88,B92,$G$4:$G$88) -> 2733 | F92: =SUMIF($D$4:$D$88,B92,$J$4:$J$88) -> #REF! | H92: =$W$6 -> 10 | J92: =SUMIF($D$4:$D$88,H92,$G$4:$G$88) -> 564.48 | K92: =SUMIF($D$4:$D$88,H92,$J$4:$J$88) -> #REF! | W92: {=IFERROR(INDEX($D$4:$D$88,MATCH(0,COUNTIF($W$3:W91,$D$4:$D$88),0)),"")}
B93: =$W$7 -> 8 | C93: =SUMIF($D$4:$D$88,B93,$G$4:$G$88) -> 175 | F93: =SUMIF($D$4:$D$88,B93,$J$4:$J$88) -> #REF! | H93: =$W$8 -> 0 | J93: =SUMIF($D$4:$D$88,H93,$G$4:$G$88) -> 0 | K93: =SUMIF($D$4:$D$88,H93,$J$4:$J$88) -> 0 | W93: {=IFERROR(INDEX($D$4:$D$88,MATCH(0,COUNTIF($W$3:W92,$D$4:$D$88),0)),"")}
W94: {=IFERROR(INDEX($D$4:$D$88,MATCH(0,COUNTIF($W$3:W93,$D$4:$D$88),0)),"")}
W95: {=IFERROR(INDEX($D$4:$D$88,MATCH(0,COUNTIF($W$3:W94,$D$4:$D$88),0)),"")}
W96: {=IFERROR(INDEX($D$4:$D$88,MATCH(0,COUNTIF($W$3:W95,$D$4:$D$88),0)),"")}

Sheet لیستوفر هوشمند (2)
N2: =INDEX(#REF!,#REF!) -> #REF!
B3: رديف | C3: Pos | D3: سایز | E3: تعداد | F3: طول جزء (متر) | G3: طول کل (متر) | H3: وزن واحد (کیلوگرم) | I3: ضریب | J3: وزن کل (کیلوگرم) | K3: شکل | L3: موقعیت | N3: =IF(N2="مستقیم","طول",IF(N2="L خوابیده به راست","طول",IF(N2="L خوابیده به چپ","طول",IF(N2="L ایستاده به راست","ارتفاع",IF(N2="L ایستاده به چپ","ارتفاع",IF(N2="] به راست","ارتفاع",IF(N2=" [به چپ","ارتفاع",IF(N2="] به بالا","طول",IF(N2="] به پایین","طول",IF(N2="ریشه پله","عمودی",IF(N2="خاموت دایره","قطر",IF(N2="خاموت 90","طول",IF(N2="خاموت 135","طول",IF(N2="رکابی","طول",IF(N2="سنجاقی 135","طول",IF(N2="خرک","پاشنه چپ","")))))))))))))))) -> #REF! | O3: =IF(N2="L خوابیده به راست","ارتفاع",IF(N2="L خوابیده به چپ","ارتفاع",IF(N2="L ایستاده به راست","پاشنه",IF(N2="L ایستاده به چپ","پاشنه",IF(N2="] به راست","عرض پایین",IF(N2=" [به چپ","عرض پایین",IF(N2="] به بالا","ارتفاع چپ",IF(N2="] به پایین","ارتفاع چپ",IF(N2="ریشه پله","شیب",IF(N2="خاموت 90","عرض",IF(N2="خاموت 135","عرض",IF(N2="رکابی","عرض",IF(N2="سنجاقی 135","طول خم 90",IF(N2="خرک","ارتفاع","")))))))))))))) -> #REF! | P3: =IF(N2="] به راست","عرض بالا",IF(N2=" [به چپ","عرض بالا",IF(N2="] به بالا","ارتفاع راست",IF(N2="] به پایین","ارتفاع راست",IF(N2="ریشه پله","افقی",IF(N2="خاموت 90","طول خم",IF(N2="خاموت 135","طول خم",IF(N2="رکابی","طول خم",IF(N2="سنجاقی 135","طول خم 135",IF(N2="خرک","طول","")))))))))) -> #REF! | Q3: =IF(N2="رکابی","قطر خم",IF(N2="سنجاقی 135","قطر خم",IF(N2="خرک","پاشنه راست",""))) -> #REF!
B4: 1 | C4: 1 | D4: 18 | E4: 47 | F4: 9.8 | G4: =F4*E4 -> 460.6 | H4: =IF(D4=6,#REF!,IF('لیستوفر هوشمند (2)'!D4=8,#REF!,IF('لیستوفر هوشمند (2)'!D4=10,#REF!,IF(D4=12,#REF!,IF('لیستوفر هوشمند (2)'!D4=14,#REF!,IF('لیستوفر هوشمند (2)'!D4=16,#REF!,IF('لیستوفر هوشمند (2)'!D4=18,#REF!,IF('لیستوفر هوشمند (2)'!D4=20,#REF!,IF('لیستوفر هوشمند (2)'!D4=22,#REF!,IF('لیستوفر هوشمند (2)'!D4=24,#REF!,IF('لیستوفر هوشمند (2)'!D4=25,#REF!,IF('لیستوفر هوشمند (2)'!D4=26,#REF!,IF('لیستوفر هوشمند (2)'!D4=28,#REF!,IF('لیستوفر هوشمند (2)'!D4=30,#REF!,IF('لیستوفر هوشمند (2)'!D4=32,#REF!,0))))))))))))))) -> #REF! | I4: 1 | J4: =G4*H4 -> #REF! | L4: فونداسیون | N4: 1460 | O4: 320 | P4: 90 | Q4: 30mm | W4: {=IFERROR(INDEX($D$4:$D$95,MATCH(0,COUNTIF($W$3:W3,$D$4:$D$95),0)),"")} -> 18 | Y4: {=IFERROR(INDEX($L$4:$L$95,MATCH(0,COUNTIF($Y$3:Y3,$L$4:$L$95),0),0),0)} -> فونداسیون
B5: 2 | C5: 2 | D5: 18 | E5: 62 | F5: 12 | G5: =F5*E5 -> 744 | H5: =IF(D5=6,#REF!,IF('لیستوفر هوشمند (2)'!D5=8,#REF!,IF('لیستوفر هوشمند (2)'!D5=10,#REF!,IF(D5=12,#REF!,IF('لیستوفر هوشمند (2)'!D5=14,#REF!,IF('لیستوفر هوشمند (2)'!D5=16,#REF!,IF('لیستوفر هوشمند (2)'!D5=18,#REF!,IF('لیستوفر هوشمند (2)'!D5=20,#REF!,IF('لیستوفر هوشمند (2)'!D5=22,#REF!,IF('لیستوفر هوشمند (2)'!D5=24,#REF!,IF('لیستوفر هوشمند (2)'!D5=25,#REF!,IF('لیستوفر هوشمند (2)'!D5=26,#REF!,IF('لیستوفر هوشمند (2)'!D5=28,#REF!,IF('لیستوفر هوشمند (2)'!D5=30,#REF!,IF('لیستوفر هوشمند (2)'!D5=32,#REF!,0))))))))))))))) -> #REF! | I5: 1 | J5: =G5*H5 -> #REF! | L5: فونداسیون
B6: 3 | C6: 3 | D6: 18 | E6: 62 | F6: 2.2 | G6: =F6*E6 -> 136.4 | H6: =IF(D6=6,#REF!,IF('لیستوفر هوشمند (2)'!D6=8,#REF!,IF('لیستوفر هوشمند (2)'!D6=10,#REF!,IF(D6=12,#REF!,IF('لیستوفر هوشمند (2)'!D6=14,#REF!,IF('لیستوفر هوشمند (2)'!D6=16,#REF!,IF('لیستوفر هوشمند (2)'!D6=18,#REF!,IF('لیستوفر هوشمند (2)'!D6=20,#REF!,IF('لیستوفر هوشمند (2)'!D6=22,#REF!,IF('لیستوفر هوشمند (2)'!D6=24,#REF!,IF('لیستوفر هوشمند (2)'!D6=25,#REF!,IF('لیستوفر هوشمند (2)'!D6=26,#REF!,IF('لیستوفر هوشمند (2)'!D6=28,#REF!,IF('لیستوفر هوشمند (2)'!D6=30,#REF!,IF('لیستوفر هوشمند (2)'!D6=32,#REF!,0))))))))))))))) -> #REF! | I6: 1 | J6: =G6*H6 -> #REF! | L6: فونداسیون
B7: 4 | C7: 4 | D7: 18 | E7: 25 | F7: 3 | G7: =F7*E7 -> 75 | H7: =IF(D7=6,#REF!,IF('لیستوفر هوشمند (2)'!D7=8,#REF!,IF('لیستوفر هوشمند (2)'!D7=10,#REF!,IF(D7=12,#REF!,IF('لیستوفر هوشمند (2)'!D7=14,#REF!,IF('لیستوفر هوشمند (2)'!D7=16,#REF!,IF('لیستوفر هوشمند (2)'!D7=18,#REF!,IF('لیستوفر هوشمند (2)'!D7=20,#REF!,IF('لیستوفر هوشمند (2)'!D7=22,#REF!,IF('لیستوفر هوشمند (2)'!D7=24,#REF!,IF('لیستوفر هوشمند (2)'!D7=25,#REF!,IF('لیستوفر هوشمند (2)'!D7=26,#REF!,IF('لیستوفر هوشمند (2)'!D7=28,#REF!,IF('لیستوفر هوشمند (2)'!D7=30,#REF!,IF('لیستوفر هوشمند (2)'!D7=32,#REF!,0))))))))))))))) -> #REF! | I7: 1 | J7: =G7*H7 -> #REF! | L7: فونداسیون | W7: {=IFERROR(INDEX($D$4:$D$95,MATCH(0,COUNTIF($W$3:W4,$D$4:$D$95),0)),"")} -> 16 | Y7: {=IFERROR(INDEX($L$4:$L$95,MATCH(0,COUNTIF($Y$3:Y4,$L$4:$L$95),0),0),0)} -> ستون طبقه 1
B8: 5 | C8: 5 | D8: 16 | E8: 90 | F8: 4.9 | G8: =F8*E8 -> 441 | H8: =IF(D8=6,#REF!,IF('لیستوفر هوشمند (2)'!D8=8,#REF!,IF('لیستوفر هوشمند (2)'!D8=10,#REF!,IF(D8=12,#REF!,IF('لیستوفر هوشمند (2)'!D8=14,#REF!,IF('لیستوفر هوشمند (2)'!D8=16,#REF!,IF('لیستوفر هوشمند (2)'!D8=18,#REF!,IF('لیستوفر هوشمند (2)'!D8=20,#REF!,IF('لیستوفر هوشمند (2)'!D8=22,#REF!,IF('لیستوفر هوشمند (2)'!D8=24,#REF!,IF('لیستوفر هوشمند (2)'!D8=25,#REF!,IF('لیستوفر هوشمند (2)'!D8=26,#REF!,IF('لیستوفر هوشمند (2)'!D8=28,#REF!,IF('لیستوفر هوشمند (2)'!D8=30,#REF!,IF('لیستوفر هوشمند (2)'!D8=32,#REF!,0))))))))))))))) -> #REF! | I8: 1.25 | J8: =G8*H8*I8 -> #REF! | L8: ستون طبقه 1 | W8: {=IFERROR(INDEX($D$4:$D$95,MATCH(0,COUNTIF($W$3:W7,$D$4:$D$95),0)),"")} -> 10 | Y8: {=IFERROR(INDEX($L$4:$L$95,MATCH(0,COUNTIF($Y$3:Y7,$L$4:$L$95),0),0),0)} -> خاموت ستون اول
B9: 6 | C9: 6 | D9: 10 | E9: =32*9 -> 288 | F9: 1.46 | G9: =F9*E9 -> 420.48 | H9: =IF(D9=6,#REF!,IF('لیستوفر هوشمند (2)'!D9=8,#REF!,IF('لیستوفر هوشمند (2)'!D9=10,#REF!,IF(D9=12,#REF!,IF('لیستوفر هوشمند (2)'!D9=14,#REF!,IF('لیستوفر هوشمند (2)'!D9=16,#REF!,IF('لیستوفر هوشمند (2)'!D9=18,#REF!,IF('لیستوفر هوشمند (2)'!D9=20,#REF!,IF('لیستوفر هوشمند (2)'!D9=22,#REF!,IF('لیستوفر هوشمند (2)'!D9=24,#REF!,IF('لیستوفر هوشمند (2)'!D9=25,#REF!,IF('لیستوفر هوشمند (2)'!D9=26,#REF!,IF('لیستوفر هوشمند (2)'!D9=28,#REF!,IF('لیستوفر هوشمند (2)'!D9=30,#REF!,IF('لیستوفر هوشمند (2)'!D9=32,#REF!,0))))))))))))))) -> #REF! | I9: 1 | J9: =G9*H9 -> #REF! | L9: خاموت ستون اول | W9: {=IFERROR(INDEX($D$4:$D$95,MATCH(0,COUNTIF($W$3:W8,$D$4:$D$95),0)),"")} -> 14 | Y9: {=IFERROR(INDEX($L$4:$L$95,MATCH(0,COUNTIF($Y$3:Y8,$L$4:$L$95),0),0),0)} -> سنجاقی ستون اول
B10: 7 | C10: 7 | D10: 10 | E10: =32*9 -> 288 | F10: 0.5 | G10: =F10*E10 -> 144 | H10: =IF(D10=6,#REF!,IF('لیستوفر هوشمند (2)'!D10=8,#REF!,IF('لیستوفر هوشمند (2)'!D10=10,#REF!,IF(D10=12,#REF!,IF('لیستوفر هوشمند (2)'!D10=14,#REF!,IF('لیستوفر هوشمند (2)'!D10=16,#REF!,IF('لیستوفر هوشمند (2)'!D10=18,#REF!,IF('لیستوفر هوشمند (2)'!D10=20,#REF!,IF('لیستوفر هوشمند (2)'!D10=22,#REF!,IF('لیستوفر هوشمند (2)'!D10=24,#REF!,IF('لیستوفر هوشمند (2)'!D10=25,#REF!,IF('لیستوفر هوشمند (2)'!D10=26,#REF!,IF('لیستوفر هوشمند (2)'!D10=28,#REF!,IF('لیستوفر هوشمند (2)'!D10=30,#REF!,IF('لیستوفر هوشمند (2)'!D10=32,#REF!,0))))))))))))))) -> #REF! | I10: 1 | J10: =G10*H10 -> #REF! | L10: سنجاقی ستون اول | W10: {=IFERROR(INDEX($D$4:$D$95,MATCH(0,COUNTIF($W$3:W9,$D$4:$D$95),0)),"")} -> 0 | Y10: {=IFERROR(INDEX($L$4:$L$95,MATCH(0,COUNTIF($Y$3:Y9,$L$4:$L$95),0),0),0)} -> ستون طبقه 2
B11: 8 | C11: 8 | D11: 14 | E11: 90 | F11: 4 | G11: =F11*E11 -> 360 | H11: =IF(D11=6,#REF!,IF('لیستوفر هوشمند (2)'!D11=8,#REF!,IF('لیستوفر هوشمند (2)'!D11=10,#REF!,IF(D11=12,#REF!,IF('لیستوفر هوشمند (2)'!D11=14,#REF!,IF('لیستوفر هوشمند (2)'!D11=16,#REF!,IF('لیستوفر هوشمند (2)'!D11=18,#REF!,IF('لیستوفر هوشمند (2)'!D11=20,#REF!,IF('لیستوفر هوشمند (2)'!D11=22,#REF!,IF('لیستوفر هوشمند (2)'!D11=24,#REF!,IF('لیستوفر هوشمند (2)'!D11=25,#REF!,IF('لیستوفر هوشمند (2)'!D11=26,#REF!,IF('لیستوفر هوشمند (2)'!D11=28,#REF!,IF('لیستوفر هوشمند (2)'!D11=30,#REF!,IF('لیستوفر هوشمند (2)'!D11=32,#REF!,0))))))))))))))) -> #REF! | I11: 1 | J11: =G11*H11 -> #REF! | L11: ستون طبقه 2 | W11: {=IFERROR(INDEX($D$4:$D$95,MATCH(0,COUNTIF($W$3:W10,$D$4:$D$95),0)),"")} | Y11: {=IFERROR(INDEX($L$4:$L$95,MATCH(0,COUNTIF($Y$3:Y10,$L$4:$L$95),0),0),0)} -> خاموت ستون دوم
B12: 9 | C12: 9 | D12: 10 | E12: 261 | F12: 1.46 | G12: =F12*E12 -> 381.06 | H12: =IF(D12=6,#REF!,IF('لیستوفر هوشمند (2)'!D12=8,#REF!,IF('لیستوفر هوشمند (2)'!D12=10,#REF!,IF(D12=12,#REF!,IF('لیستوفر هوشمند (2)'!D12=14,#REF!,IF('لیستوفر هوشمند (2)'!D12=16,#REF!,IF('لیستوفر هوشمند (2)'!D12=18,#REF!,IF('لیستوفر هوشمند (2)'!D12=20,#REF!,IF('لیستوفر هوشمند (2)'!D12=22,#REF!,IF('لیستوفر هوشمند (2)'!D12=24,#REF!,IF('لیستوفر هوشمند (2)'!D12=25,#REF!,IF('لیستوفر هوشمند (2)'!D12=26,#REF!,IF('لیستوفر هوشمند (2)'!D12=28,#REF!,IF('لیستوفر هوشمند (2)'!D12=30,#REF!,IF('لیستوفر هوشمند (2)'!D12=32,#REF!,0))))))))))))))) -> #REF! | I12: 1 | J12: =G12*H12 -> #REF! | L12: خاموت ستون دوم | W12: {=IFERROR(INDEX($D$4:$D$95,MATCH(0,COUNTIF($W$3:W11,$D$4:$D$95),0)),"")} | Y12: {=IFERROR(INDEX($L$4:$L$95,MATCH(0,COUNTIF($Y$3:Y11,$L$4:$L$95),0),0),0)} -> سنجاقی ستون دوم
B13: 10 | C13: 10 | D13: 10 | E13: 261 | F13: 0.5 | G13: =F13*E13 -> 130.5 | H13: =IF(D13=6,#REF!,IF('لیستوفر هوشمند (2)'!D13=8,#REF!,IF('لیستوفر هوشمند (2)'!D13=10,#REF!,IF(D13=12,#REF!,IF('لیستوفر هوشمند (2)'!D13=14,#REF!,IF('لیستوفر هوشمند (2)'!D13=16,#REF!,IF('لیستوفر هوشمند (2)'!D13=18,#REF!,IF('لیستوفر هوشمند (2)'!D13=20,#REF!,IF('لیستوفر هوشمند (2)'!D13=22,#REF!,IF('لیستوفر هوشمند (2)'!D13=24,#REF!,IF('لیستوفر هوشمند (2)'!D13=25,#REF!,IF('لیستوفر هوشمند (2)'!D13=26,#REF!,IF('لیستوفر هوشمند (2)'!D13=28,#REF!,IF('لیستوفر هوشمند (2)'!D13=30,#REF!,IF('لیستوفر هوشمند (2)'!D13=32,#REF!,0))))))))))))))) -> #REF! | I13: 1 | J13: =G13*H13 -> #REF! | L13: سنجاقی ستون دوم | W13: {=IFERROR(INDEX($D$4:$D$95,MATCH(0,COUNTIF($W$3:W12,$D$4:$D$95),0)),"")} | Y13: {=IFERROR(INDEX($L$4:$L$95,MATCH(0,COUNTIF($Y$3:Y12,$L$4:$L$95),0),0),0)} -> ستون طبقه 3
B14: 11 | C14: 11 | D14: 14 | E14: 72 | F14: 3.24 | G14: =F14*E14 -> 233.28 | H14: =IF(D14=6,#REF!,IF('لیستوفر هوشمند (2)'!D14=8,#REF!,IF('لیستوفر هوشمند (2)'!D14=10,#REF!,IF(D14=12,#REF!,IF('لیستوفر هوشمند (2)'!D14=14,#REF!,IF('لیستوفر هوشمند (2)'!D14=16,#REF!,IF('لیستوفر هوشمند (2)'!D14=18,#REF!,IF('لیستوفر هوشمند (2)'!D14=20,#REF!,IF('لیستوفر هوشمند (2)'!D14=22,#REF!,IF('لیستوفر هوشمند (2)'!D14=24,#REF!,IF('لیستوفر هوشمند (2)'!D14=25,#REF!,IF('لیستوفر هوشمند (2)'!D14=26,#REF!,IF('لیستوفر هوشمند (2)'!D14=28,#REF!,IF('لیستوفر هوشمند (2)'!D14=30,#REF!,IF('لیستوفر هوشمند (2)'!D14=32,#REF!,0))))))))))))))) -> #REF! | I14: 1 | J14: =G14*H14 -> #REF! | L14: ستون طبقه 3 | W14: {=IFERROR(INDEX($D$4:$D$95,MATCH(0,COUNTIF($W$3:W13,$D$4:$D$95),0)),"")} | Y14: {=IFERROR(INDEX($L$4:$L$95,MATCH(0,COUNTIF($Y$3:Y13,$L$4:$L$95),0),0),0)} -> خاموت ستون سوم
B15: 12 | C15: 12 | D15: 10 | E15: =32*9 -> 288 | F15: 1.26 | G15: =F15*E15 -> 362.88 | H15: =IF(D15=6,#REF!,IF('لیستوفر هوشمند (2)'!D15=8,#REF!,IF('لیستوفر هوشمند (2)'!D15=10,#REF!,IF(D15=12,#REF!,IF('لیستوفر هوشمند (2)'!D15=14,#REF!,IF('لیستوفر هوشمند (2)'!D15=16,#REF!,IF('لیستوفر هوشمند (2)'!D15=18,#REF!,IF('لیستوفر هوشمند (2)'!D15=20,#REF!,IF('لیستوفر هوشمند (2)'!D15=22,#REF!,IF('لیستوفر هوشمند (2)'!D15=24,#REF!,IF('لیستوفر هوشمند (2)'!D15=25,#REF!,IF('لیستوفر هوشمند (2)'!D15=26,#REF!,IF('لیستوفر هوشمند (2)'!D15=28,#REF!,IF('لیستوفر هوشمند (2)'!D15=30,#REF!,IF('لیستوفر هوشمند (2)'!D15=32,#REF!,0))))))))))))))) -> #REF! | I15: 1 | J15: =G15*H15 -> #REF! | L15: خاموت ستون سوم | W15: {=IFERROR(INDEX($D$4:$D$95,MATCH(0,COUNTIF($W$3:W14,$D$4:$D$95),0)),"")} | Y15: {=IFERROR(INDEX($L$4:$L$95,MATCH(0,COUNTIF($Y$3:Y14,$L$4:$L$95),0),0),0)} -> سنجاقی ستون سوم
B16: 13 | C16: 13 | D16: 10 | E16: 288 | F16: 0.45 | G16: =F16*E16 -> 129.6 | H16: =IF(D16=6,#REF!,IF('لیستوفر هوشمند (2)'!D16=8,#REF!,IF('لیستوفر هوشمند (2)'!D16=10,#REF!,IF(D16=12,#REF!,IF('لیستوفر هوشمند (2)'!D16=14,#REF!,IF('لیستوفر هوشمند (2)'!D16=16,#REF!,IF('لیستوفر هوشمند (2)'!D16=18,#REF!,IF('لیستوفر هوشمند (2)'!D16=20,#REF!,IF('لیستوفر هوشمند (2)'!D16=22,#REF!,IF('لیستوفر هوشمند (2)'!D16=24,#REF!,IF('لیستوفر هوشمند (2)'!D16=25,#REF!,IF('لیستوفر هوشمند (2)'!D16=26,#REF!,IF('لیستوفر هوشمند (2)'!D16=28,#REF!,IF('لیستوفر هوشمند (2)'!D16=30,#REF!,IF('لیستوفر هوشمند (2)'!D16=32,#REF!,0))))))))))))))) -> #REF! | I16: 1 | J16: =G16*H16 -> #REF! | L16: سنجاقی ستون سوم | W16: {=IFERROR(INDEX($D$4:$D$95,MATCH(0,COUNTIF($W$3:W15,$D$4:$D$95),0)),"")} | Y16: {=IFERROR(INDEX($L$4:$L$95,MATCH(0,COUNTIF($Y$3:Y15,$L$4:$L$95),0),0),0)} -> 0
W17: {=IFERROR(INDEX($D$4:$D$95,MATCH(0,COUNTIF($W$3:W16,$D$4:$D$95),0)),"")} | Y17: {=IFERROR(INDEX($L$4:$L$95,MATCH(0,COUNTIF($Y$3:Y16,$L$4:$L$95),0),0),0)} -> 0
B18: 20 | C18: 6 | E18: 0 | F18: 1.8 | G18: =F18*E18 -> 0 | H18: =IF(D18=6,#REF!,IF('لیستوفر هوشمند (2)'!D18=8,#REF!,IF('لیستوفر هوشمند (2)'!D18=10,#REF!,IF(D18=12,#REF!,IF('لیستوفر هوشمند (2)'!D18=14,#REF!,IF('لیستوفر هوشمند (2)'!D18=16,#REF!,IF('لیستوفر هوشمند (2)'!D18=18,#REF!,IF('لیستوفر هوشمند (2)'!D18=20,#REF!,IF('لیستوفر هوشمند (2)'!D18=22,#REF!,IF('لیستوفر هوشمند (2)'!D18=24,#REF!,IF('لیستوفر هوشمند (2)'!D18=25,#REF!,IF('لیستوفر هوشمند (2)'!D18=26,#REF!,IF('لیستوفر هوشمند (2)'!D18=28,#REF!,IF('لیستوفر هوشمند (2)'!D18=30,#REF!,IF('لیستوفر هوشمند (2)'!D18=32,#REF!,0))))))))))))))) -> 0 | J18: =G18*H18 -> 0 | W18: {=IFERROR(INDEX($D$4:$D$95,MATCH(0,COUNTIF(#REF!,$D$4:$D$95),0)),"")} | Y18: {=IFERROR(INDEX($L$4:$L$95,MATCH(0,COUNTIF($Y$3:Y17,$L$4:$L$95),0),0),0)} -> 0
B19: 21 | C19: 6 | E19: 0 | F19: 1.8 | G19: =F19*E19 -> 0 | H19: =IF(D19=6,#REF!,IF('لیستوفر هوشمند (2)'!D19=8,#REF!,IF('لیستوفر هوشمند (2)'!D19=10,#REF!,IF(D19=12,#REF!,IF('لیستوفر هوشمند (2)'!D19=14,#REF!,IF('لیستوفر هوشمند (2)'!D19=16,#REF!,IF('لیستوفر هوشمند (2)'!D19=18,#REF!,IF('لیستوفر هوشمند (2)'!D19=20,#REF!,IF('لیستوفر هوشمند (2)'!D19=22,#REF!,IF('لیستوفر هوشمند (2)'!D19=24,#REF!,IF('لیستوفر هوشمند (2)'!D19=25,#REF!,IF('لیستوفر هوشمند (2)'!D19=26,#REF!,IF('لیستوفر هوشمند (2)'!D19=28,#REF!,IF('لیستوفر هوشمند (2)'!D19=30,#REF!,IF('لیستوفر هوشمند (2)'!D19=32,#REF!,0))))))))))))))) -> 0 | J19: =G19*H19 -> 0 | W19: {=IFERROR(INDEX($D$4:$D$95,MATCH(0,COUNTIF(#REF!,$D$4:$D$95),0)),"")} | Y19: {=IFERROR(INDEX($L$4:$L$95,MATCH(0,COUNTIF($Y$3:Y18,$L$4:$L$95),0),0),0)} -> 0
B20: 22 | C20: 6 | E20: 0 | F20: 1.8 | G20: =F20*E20 -> 0 | H20: =IF(D20=6,#REF!,IF('لیستوفر هوشمند (2)'!D20=8,#REF!,IF('لیستوفر هوشمند (2)'!D20=10,#REF!,IF(D20=12,#REF!,IF('لیستوفر هوشمند (2)'!D20=14,#REF!,IF('لیستوفر هوشمند (2)'!D20=16,#REF!,IF('لیستوفر هوشمند (2)'!D20=18,#REF!,IF('لیستوفر هوشمند (2)'!D20=20,#REF!,IF('لیستوفر هوشمند (2)'!D20=22,#REF!,IF('لیستوفر هوشمند (2)'!D20=24,#REF!,IF('لیستوفر هوشمند (2)'!D20=25,#REF!,IF('لیستوفر هوشمند (2)'!D20=26,#REF!,IF('لیستوفر هوشمند (2)'!D20=28,#REF!,IF('لیستوفر هوشمند (2)'!D20=30,#REF!,IF('لیستوفر هوشمند (2)'!D20=32,#REF!,0))))))))))))))) -> 0 | J20: =G20*H20 -> 0 | W20: {=IFERROR(INDEX($D$4:$D$95,MATCH(0,COUNTIF(#REF!,$D$4:$D$95),0)),"")} | Y20: {=IFERROR(INDEX($L$4:$L$95,MATCH(0,COUNTIF($Y$3:Y19,$L$4:$L$95),0),0),0)} -> 0
B21: 23 | C21: 6 | E21: 0 | F21: 1.8 | G21: =F21*E21 -> 0 | H21: =IF(D21=6,#REF!,IF('لیستوفر هوشمند (2)'!D21=8,#REF!,IF('لیستوفر هوشمند (2)'!D21=10,#REF!,IF(D21=12,#REF!,IF('لیستوفر هوشمند (2)'!D21=14,#REF!,IF('لیستوفر هوشمند (2)'!D21=16,#REF!,IF('لیستوفر هوشمند (2)'!D21=18,#REF!,IF('لیستوفر هوشمند (2)'!D21=20,#REF!,IF('لیستوفر هوشمند (2)'!D21=22,#REF!,IF('لیستوفر هوشمند (2)'!D21=24,#REF!,IF('لیستوفر هوشمند (2)'!D21=25,#REF!,IF('لیستوفر هوشمند (2)'!D21=26,#REF!,IF('لیستوفر هوشمند (2)'!D21=28,#REF!,IF('لیستوفر هوشمند (2)'!D21=30,#REF!,IF('لیستوفر هوشمند (2)'!D21=32,#REF!,0))))))))))))))) -> 0 | J21: =G21*H21 -> 0 | W21: {=IFERROR(INDEX($D$4:$D$95,MATCH(0,COUNTIF(#REF!,$D$4:$D$95),0)),"")} | Y21: {=IFERROR(INDEX($L$4:$L$95,MATCH(0,COUNTIF($Y$3:Y20,$L$4:$L$95),0),0),0)} -> 0
B22: 24 | C22: 6 | E22: 0 | F22: 1.8 | G22: =F22*E22 -> 0 | H22: =IF(D22=6,#REF!,IF('لیستوفر هوشمند (2)'!D22=8,#REF!,IF('لیستوفر هوشمند (2)'!D22=10,#REF!,IF(D22=12,#REF!,IF('لیستوفر هوشمند (2)'!D22=14,#REF!,IF('لیستوفر هوشمند (2)'!D22=16,#REF!,IF('لیستوفر هوشمند (2)'!D22=18,#REF!,IF('لیستوفر هوشمند (2)'!D22=20,#REF!,IF('لیستوفر هوشمند (2)'!D22=22,#REF!,IF('لیستوفر هوشمند (2)'!D22=24,#REF!,IF('لیستوفر هوشمند (2)'!D22=25,#REF!,IF('لیستوفر هوشمند (2)'!D22=26,#REF!,IF('لیستوفر هوشمند (2)'!D22=28,#REF!,IF('لیستوفر هوشمند (2)'!D22=30,#REF!,IF('لیستوفر هوشمند (2)'!D22=32,#REF!,0))))))))))))))) -> 0 | J22: =G22*H22 -> 0 | W22: {=IFERROR(INDEX($D$4:$D$95,MATCH(0,COUNTIF(#REF!,$D$4:$D$95),0)),"")} | Y22: {=IFERROR(INDEX($L$4:$L$95,MATCH(0,COUNTIF($Y$3:Y21,$L$4:$L$95),0),0),0)} -> 0
B23: 25 | C23: 6 | E23: 0 | F23: 1.8 | G23: =F23*E23 -> 0 | H23: =IF(D23=6,#REF!,IF('لیستوفر هوشمند (2)'!D23=8,#REF!,IF('لیستوفر هوشمند (2)'!D23=10,#REF!,IF(D23=12,#REF!,IF('لیستوفر هوشمند (2)'!D23=14,#REF!,IF('لیستوفر هوشمند (2)'!D23=16,#REF!,IF('لیستوفر هوشمند (2)'!D23=18,#REF!,IF('لیستوفر هوشمند (2)'!D23=20,#REF!,IF('لیستوفر هوشمند (2)'!D23=22,#REF!,IF('لیستوفر هوشمند (2)'!D23=24,#REF!,IF('لیستوفر هوشمند (2)'!D23=25,#REF!,IF('لیستوفر هوشمند (2)'!D23=26,#REF!,IF('لیستوفر هوشمند (2)'!D23=28,#REF!,IF('لیستوفر هوشمند (2)'!D23=30,#REF!,IF('لیستوفر هوشمند (2)'!D23=32,#REF!,0))))))))))))))) -> 0 | J23: =G23*H23 -> 0 | W23: {=IFERROR(INDEX($D$4:$D$95,MATCH(0,COUNTIF(#REF!,$D$4:$D$95),0)),"")} | Y23: {=IFERROR(INDEX($L$4:$L$95,MATCH(0,COUNTIF($Y$3:Y22,$L$4:$L$95),0),0),0)} -> 0
B24: 26 | C24: 6 | E24: 0 | F24: 1.8 | G24: =F24*E24 -> 0 | H24: =IF(D24=6,#REF!,IF('لیستوفر هوشمند (2)'!D24=8,#REF!,IF('لیستوفر هوشمند (2)'!D24=10,#REF!,IF(D24=12,#REF!,IF('لیستوفر هوشمند (2)'!D24=14,#REF!,IF('لیستوفر هوشمند (2)'!D24=16,#REF!,IF('لیستوفر هوشمند (2)'!D24=18,#REF!,IF('لیستوفر هوشمند (2)'!D24=20,#REF!,IF('لیستوفر هوشمند (2)'!D24=22,#REF!,IF('لیستوفر هوشمند (2)'!D24=24,#REF!,IF('لیستوفر هوشمند (2)'!D24=25,#REF!,IF('لیستوفر هوشمند (2)'!D24=26,#REF!,IF('لیستوفر هوشمند (2)'!D24=28,#REF!,IF('لیستوفر هوشمند (2)'!D24=30,#REF!,IF('لیستوفر هوشمند (2)'!D24=32,#REF!,0))))))))))))))) -> 0 | J24: =G24*H24 -> 0 | W24: {=IFERROR(INDEX($D$4:$D$95,MATCH(0,COUNTIF(#REF!,$D$4:$D$95),0)),"")} | Y24: {=IFERROR(INDEX($L$4:$L$95,MATCH(0,COUNTIF($Y$3:Y23,$L$4:$L$95),0),0),0)} -> 0
B25: 27 | C25: 6 | E25: 0 | F25: 1.8 | G25: =F25*E25 -> 0 | H25: =IF(D25=6,#REF!,IF('لیستوفر هوشمند (2)'!D25=8,#REF!,IF('لیستوفر هوشمند (2)'!D25=10,#REF!,IF(D25=12,#REF!,IF('لیستوفر هوشمند (2)'!D25=14,#REF!,IF('لیستوفر هوشمند (2)'!D25=16,#REF!,IF('لیستوفر هوشمند (2)'!D25=18,#REF!,IF('لیستوفر هوشمند (2)'!D25=20,#REF!,IF('لیستوفر هوشمند (2)'!D25=22,#REF!,IF('لیستوفر هوشمند (2)'!D25=24,#REF!,IF('لیستوفر هوشمند (2)'!D25=25,#REF!,IF('لیستوفر هوشمند (2)'!D25=26,#REF!,IF('لیستوفر هوشمند (2)'!D25=28,#REF!,IF('لیستوفر هوشمند (2)'!D25=30,#REF!,IF('لیستوفر هوشمند (2)'!D25=32,#REF!,0))))))))))))))) -> 0 | J25: =G25*H25 -> 0 | W25: {=IFERROR(INDEX($D$4:$D$95,MATCH(0,COUNTIF(#REF!,$D$4:$D$95),0)),"")} | Y25: {=IFERROR(INDEX($L$4:$L$95,MATCH(0,COUNTIF($Y$3:Y24,$L$4:$L$95),0),0),0)} -> 0
B26: 28 | C26: 6 | E26: 0 | F26: 1.8 | G26: =F26*E26 -> 0 | H26: =IF(D26=6,#REF!,IF('لیستوفر هوشمند (2)'!D26=8,#REF!,IF('لیستوفر هوشمند (2)'!D26=10,#REF!,IF(D26=12,#REF!,IF('لیستوفر هوشمند (2)'!D26=14,#REF!,IF('لیستوفر هوشمند (2)'!D26=16,#REF!,IF('لیستوفر هوشمند (2)'!D26=18,#REF!,IF('لیستوفر هوشمند (2)'!D26=20,#REF!,IF('لیستوفر هوشمند (2)'!D26=22,#REF!,IF('لیستوفر هوشمند (2)'!D26=24,#REF!,IF('لیستوفر هوشمند (2)'!D26=25,#REF!,IF('لیستوفر هوشمند (2)'!D26=26,#REF!,IF('لیستوفر هوشمند (2)'!D26=28,#REF!,IF('لیستوفر هوشمند (2)'!D26=30,#REF!,IF('لیستوفر هوشمند (2)'!D26=32,#REF!,0))))))))))))))) -> 0 | J26: =G26*H26 -> 0 | W26: {=IFERROR(INDEX($D$4:$D$95,MATCH(0,COUNTIF(#REF!,$D$4:$D$95),0)),"")} | Y26: {=IFERROR(INDEX($L$4:$L$95,MATCH(0,COUNTIF($Y$3:Y25,$L$4:$L$95),0),0),0)} -> 0
B27: 29 | C27: 6 | E27: 0 | F27: 1.8 | G27: =F27*E27 -> 0 | H27: =IF(D27=6,#REF!,IF('لیستوفر هوشمند (2)'!D27=8,#REF!,IF('لیستوفر هوشمند (2)'!D27=10,#REF!,IF(D27=12,#REF!,IF('لیستوفر هوشمند (2)'!D27=14,#REF!,IF('لیستوفر هوشمند (2)'!D27=16,#REF!,IF('لیستوفر هوشمند (2)'!D27=18,#REF!,IF('لیستوفر هوشمند (2)'!D27=20,#REF!,IF('لیستوفر هوشمند (2)'!D27=22,#REF!,IF('لیستوفر هوشمند (2)'!D27=24,#REF!,IF('لیستوفر هوشمند (2)'!D27=25,#REF!,IF('لیستوفر هوشمند (2)'!D27=26,#REF!,IF('لیستوفر هوشمند (2)'!D27=28,#REF!,IF('لیستوفر هوشمند (2)'!D27=30,#REF!,IF('لیستوفر هوشمند (2)'!D27=32,#REF!,0))))))))))))))) -> 0 | J27: =G27*H27 -> 0 | W27: {=IFERROR(INDEX($D$4:$D$95,MATCH(0,COUNTIF(#REF!,$D$4:$D$95),0)),"")} | Y27: {=IFERROR(INDEX($L$4:$L$95,MATCH(0,COUNTIF($Y$3:Y26,$L$4:$L$95),0),0),0)} -> 0
B28: 30 | C28: 6 | E28: 0 | F28: 1.8 | G28: =F28*E28 -> 0 | H28: =IF(D28=6,#REF!,IF('لیستوفر هوشمند (2)'!D28=8,#REF!,IF('لیستوفر هوشمند (2)'!D28=10,#REF!,IF(D28=12,#REF!,IF('لیستوفر هوشمند (2)'!D28=14,#REF!,IF('لیستوفر هوشمند (2)'!D28=16,#REF!,IF('لیستوفر هوشمند (2)'!D28=18,#REF!,IF('لیستوفر هوشمند (2)'!D28=20,#REF!,IF('لیستوفر هوشمند (2)'!D28=22,#REF!,IF('لیستوفر هوشمند (2)'!D28=24,#REF!,IF('لیستوفر هوشمند (2)'!D28=25,#REF!,IF('لیستوفر هوشمند (2)'!D28=26,#REF!,IF('لیستوفر هوشمند (2)'!D28=28,#REF!,IF('لیستوفر هوشمند (2)'!D28=30,#REF!,IF('لیستوفر هوشمند (2)'!D28=32,#REF!,0))))))))))))))) -> 0 | J28: =G28*H28 -> 0 | W28: {=IFERROR(INDEX($D$4:$D$95,MATCH(0,COUNTIF(#REF!,$D$4:$D$95),0)),"")} | Y28: {=IFERROR(INDEX($L$4:$L$95,MATCH(0,COUNTIF($Y$3:Y27,$L$4:$L$95),0),0),0)} -> 0
B29: 31 | C29: 6 | E29: 0 | F29: 1.8 | G29: =F29*E29 -> 0 | H29: =IF(D29=6,#REF!,IF('لیستوفر هوشمند (2)'!D29=8,#REF!,IF('لیستوفر هوشمند (2)'!D29=10,#REF!,IF(D29=12,#REF!,IF('لیستوفر هوشمند (2)'!D29=14,#REF!,IF('لیستوفر هوشمند (2)'!D29=16,#REF!,IF('لیستوفر هوشمند (2)'!D29=18,#REF!,IF('لیستوفر هوشمند (2)'!D29=20,#REF!,IF('لیستوفر هوشمند (2)'!D29=22,#REF!,IF('لیستوفر هوشمند (2)'!D29=24,#REF!,IF('لیستوفر هوشمند (2)'!D29=25,#REF!,IF('لیستوفر هوشمند (2)'!D29=26,#REF!,IF('لیستوفر هوشمند (2)'!D29=28,#REF!,IF('لیستوفر هوشمند (2)'!D29=30,#REF!,IF('لیستوفر هوشمند (2)'!D29=32,#REF!,0))))))))))))))) -> 0 | J29: =G29*H29 -> 0 | W29: {=IFERROR(INDEX($D$4:$D$95,MATCH(0,COUNTIF(#REF!,$D$4:$D$95),0)),"")} | Y29: {=IFERROR(INDEX($L$4:$L$95,MATCH(0,COUNTIF($Y$3:Y28,$L$4:$L$95),0),0),0)} -> 0
... B61: 63 | C61: 6 | E61: 0 | F61: 1.8 | G61: =F61*E61 -> 0 | H61: =IF(D61=6,#REF!,IF('لیستوفر هوشمند (2)'!D61=8,#REF!,IF('لیستوفر هوشمند (2)'!D61=10,#REF!,IF(D61=12,#REF!,IF('لیستوفر هوشمند (2)'!D61=14,#REF!,IF('لیستوفر هوشمند (2)'!D61=16,#REF!,IF('لیستوفر هوشمند (2)'!D61=18,#REF!,IF('لیستوفر هوشمند (2)'!D61=20,#REF!,IF('لیستوفر هوشمند (2)'!D61=22,#REF!,IF('لیستوفر هوشمند (2)'!D61=24,#REF!,IF('لیستوفر هوشمند (2)'!D61=25,#REF!,IF('لیستوفر هوشمند (2)'!D61=26,#REF!,IF('لیستوفر هوشمند (2)'!D61=28,#REF!,IF('لیستوفر هوشمند (2)'!D61=30,#REF!,IF('لیستوفر هوشمند (2)'!D61=32,#REF!,0))))))))))))))) -> 0 | J61: =G61*H61 -> 0 | W61: {=IFERROR(INDEX($D$4:$D$95,MATCH(0,COUNTIF(#REF!,$D$4:$D$95),0)),"")} | Y61: {=IFERROR(INDEX($L$4:$L$95,MATCH(0,COUNTIF($Y$3:Y60,$L$4:$L$95),0),0),0)} -> 0
B62: 64 | C62: 6 | E62: 0 | F62: 1.8 | G62: =F62*E62 -> 0 | H62: =IF(D62=6,#REF!,IF('لیستوفر هوشمند (2)'!D62=8,#REF!,IF('لیستوفر هوشمند (2)'!D62=10,#REF!,IF(D62=12,#REF!,IF('لیستوفر هوشمند (2)'!D62=14,#REF!,IF('لیستوفر هوشمند (2)'!D62=16,#REF!,IF('لیستوفر هوشمند (2)'!D62=18,#REF!,IF('لیستوفر هوشمند (2)'!D62=20,#REF!,IF('لیستوفر هوشمند (2)'!D62=22,#REF!,IF('لیستوفر هوشمند (2)'!D62=24,#REF!,IF('لیستوفر هوشمند (2)'!D62=25,#REF!,IF('لیستوفر هوشمند (2)'!D62=26,#REF!,IF('لیستوفر هوشمند (2)'!D62=28,#REF!,IF('لیستوفر هوشمند (2)'!D62=30,#REF!,IF('لیستوفر هوشمند (2)'!D62=32,#REF!,0))))))))))))))) -> 0 | J62: =G62*H62 -> 0 | W62: {=IFERROR(INDEX($D$4:$D$95,MATCH(0,COUNTIF($W1:W$3,$D$4:$D$95),0)),"")} -> 18 | Y62: {=IFERROR(INDEX($L$4:$L$95,MATCH(0,COUNTIF($Y$3:Y61,$L$4:$L$95),0),0),0)} -> 0
B63: 65 | C63: 6 | E63: 0 | F63: 1.8 | G63: =F63*E63 -> 0 | H63: =IF(D63=6,#REF!,IF('لیستوفر هوشمند (2)'!D63=8,#REF!,IF('لیستوفر هوشمند (2)'!D63=10,#REF!,IF(D63=12,#REF!,IF('لیستوفر هوشمند (2)'!D63=14,#REF!,IF('لیستوفر هوشمند (2)'!D63=16,#REF!,IF('لیستوفر هوشمند (2)'!D63=18,#REF!,IF('لیستوفر هوشمند (2)'!D63=20,#REF!,IF('لیستوفر هوشمند (2)'!D63=22,#REF!,IF('لیستوفر هوشمند (2)'!D63=24,#REF!,IF('لیستوفر هوشمند (2)'!D63=25,#REF!,IF('لیستوفر هوشمند (2)'!D63=26,#REF!,IF('لیستوفر هوشمند (2)'!D63=28,#REF!,IF('لیستوفر هوشمند (2)'!D63=30,#REF!,IF('لیستوفر هوشمند (2)'!D63=32,#REF!,0))))))))))))))) -> 0 | J63: =G63*H63 -> 0 | W63: {=IFERROR(INDEX($D$4:$D$95,MATCH(0,COUNTIF($W2:W$3,$D$4:$D$95),0)),"")} -> 18 | Y63: {=IFERROR(INDEX($L$4:$L$95,MATCH(0,COUNTIF($Y$3:Y62,$L$4:$L$95),0),0),0)} -> 0
B64: 66 | C64: 6 | E64: 0 | F64: 1.8 | G64: =F64*E64 -> 0 | H64: =IF(D64=6,#REF!,IF('لیستوفر هوشمند (2)'!D64=8,#REF!,IF('لیستوفر هوشمند (2)'!D64=10,#REF!,IF(D64=12,#REF!,IF('لیستوفر هوشمند (2)'!D64=14,#REF!,IF('لیستوفر هوشمند (2)'!D64=16,#REF!,IF('لیستوفر هوشمند (2)'!D64=18,#REF!,IF('لیستوفر هوشمند (2)'!D64=20,#REF!,IF('لیستوفر هوشمند (2)'!D64=22,#REF!,IF('لیستوفر هوشمند (2)'!D64=24,#REF!,IF('لیستوفر هوشمند (2)'!D64=25,#REF!,IF('لیستوفر هوشمند (2)'!D64=26,#REF!,IF('لیستوفر هوشمند (2)'!D64=28,#REF!,IF('لیستوفر هوشمند (2)'!D64=30,#REF!,IF('لیستوفر هوشمند (2)'!D64=32,#REF!,0))))))))))))))) -> 0 | J64: =G64*H64 -> 0 | W64: {=IFERROR(INDEX($D$4:$D$95,MATCH(0,COUNTIF($W$3:W3,$D$4:$D$95),0)),"")} -> 18 | Y64: {=IFERROR(INDEX($L$4:$L$95,MATCH(0,COUNTIF($Y$3:Y63,$L$4:$L$95),0),0),0)} -> 0
B65: 67 | C65: 6 | E65: 0 | F65: 1.8 | G65: =F65*E65 -> 0 | H65: =IF(D65=6,#REF!,IF('لیستوفر هوشمند (2)'!D65=8,#REF!,IF('لیستوفر هوشمند (2)'!D65=10,#REF!,IF(D65=12,#REF!,IF('لیستوفر هوشمند (2)'!D65=14,#REF!,IF('لیستوفر هوشمند (2)'!D65=16,#REF!,IF('لیستوفر هوشمند (2)'!D65=18,#REF!,IF('لیستوفر هوشمند (2)'!D65=20,#REF!,IF('لیستوفر هوشمند (2)'!D65=22,#REF!,IF('لیستوفر هوشمند (2)'!D65=24,#REF!,IF('لیستوفر هوشمند (2)'!D65=25,#REF!,IF('لیستوفر هوشمند (2)'!D65=26,#REF!,IF('لیستوفر هوشمند (2)'!D65=28,#REF!,IF('لیستوفر هوشمند (2)'!D65=30,#REF!,IF('لیستوفر هوشمند (2)'!D65=32,#REF!,0))))))))))))))) -> 0 | J65: =G65*H65 -> 0 | W65: {=IFERROR(INDEX($D$4:$D$95,MATCH(0,COUNTIF($W$3:W4,$D$4:$D$95),0)),"")} -> 16 | Y65: {=IFERROR(INDEX($L$4:$L$95,MATCH(0,COUNTIF($Y$3:Y64,$L$4:$L$95),0),0),0)} -> 0
B66: 68 | C66: 6 | E66: 0 | F66: 1.8 | G66: =F66*E66 -> 0 | H66: =IF(D66=6,#REF!,IF('لیستوفر هوشمند (2)'!D66=8,#REF!,IF('لیستوفر هوشمند (2)'!D66=10,#REF!,IF(D66=12,#REF!,IF('لیستوفر هوشمند (2)'!D66=14,#REF!,IF('لیستوفر هوشمند (2)'!D66=16,#REF!,IF('لیستوفر هوشمند (2)'!D66=18,#REF!,IF('لیستوفر هوشمند (2)'!D66=20,#REF!,IF('لیستوفر هوشمند (2)'!D66=22,#REF!,IF('لیستوفر هوشمند (2)'!D66=24,#REF!,IF('لیستوفر هوشمند (2)'!D66=25,#REF!,IF('لیستوفر هوشمند (2)'!D66=26,#REF!,IF('لیستوفر هوشمند (2)'!D66=28,#REF!,IF('لیستوفر هوشمند (2)'!D66=30,#REF!,IF('لیستوفر هوشمند (2)'!D66=32,#REF!,0))))))))))))))) -> 0 | J66: =G66*H66 -> 0 | W66: {=IFERROR(INDEX($D$4:$D$95,MATCH(0,COUNTIF($W$3:W7,$D$4:$D$95),0)),"")} -> 10 | Y66: {=IFERROR(INDEX($L$4:$L$95,MATCH(0,COUNTIF($Y$3:Y65,$L$4:$L$95),0),0),0)} -> 0
B67: 69 | C67: 6 | E67: 0 | F67: 1.8 | G67: =F67*E67 -> 0 | H67: =IF(D67=6,#REF!,IF('لیستوفر هوشمند (2)'!D67=8,#REF!,IF('لیستوفر هوشمند (2)'!D67=10,#REF!,IF(D67=12,#REF!,IF('لیستوفر هوشمند (2)'!D67=14,#REF!,IF('لیستوفر هوشمند (2)'!D67=16,#REF!,IF('لیستوفر هوشمند (2)'!D67=18,#REF!,IF('لیستوفر هوشمند (2)'!D67=20,#REF!,IF('لیستوفر هوشمند (2)'!D67=22,#REF!,IF('لیستوفر هوشمند (2)'!D67=24,#REF!,IF('لیستوفر هوشمند (2)'!D67=25,#REF!,IF('لیستوفر هوشمند (2)'!D67=26,#REF!,IF('لیستوفر هوشمند (2)'!D67=28,#REF!,IF('لیستوفر هوشمند (2)'!D67=30,#REF!,IF('لیستوفر هوشمند (2)'!D67=32,#REF!,0))))))))))))))) -> 0 | J67: =G67*H67 -> 0 | W67: {=IFERROR(INDEX($D$4:$D$95,MATCH(0,COUNTIF($W$3:W8,$D$4:$D$95),0)),"")} -> 14 | Y67: {=IFERROR(INDEX($L$4:$L$95,MATCH(0,COUNTIF($Y$3:Y66,$L$4:$L$95),0),0),0)} -> 0
B68: 70 | C68: 6 | E68: 0 | F68: 1.8 | G68: =F68*E68 -> 0 | H68: =IF(D68=6,#REF!,IF('لیستوفر هوشمند (2)'!D68=8,#REF!,IF('لیستوفر هوشمند (2)'!D68=10,#REF!,IF(D68=12,#REF!,IF('لیستوفر هوشمند (2)'!D68=14,#REF!,IF('لیستوفر هوشمند (2)'!D68=16,#REF!,IF('لیستوفر هوشمند (2)'!D68=18,#REF!,IF('لیستوفر هوشمند (2)'!D68=20,#REF!,IF('لیستوفر هوشمند (2)'!D68=22,#REF!,IF('لیستوفر هوشمند (2)'!D68=24,#REF!,IF('لیستوفر هوشمند (2)'!D68=25,#REF!,IF('لیستوفر هوشمند (2)'!D68=26,#REF!,IF('لیستوفر هوشمند (2)'!D68=28,#REF!,IF('لیستوفر هوشمند (2)'!D68=30,#REF!,IF('لیستوفر هوشمند (2)'!D68=32,#REF!,0))))))))))))))) -> 0 | J68: =G68*H68 -> 0 | W68: {=IFERROR(INDEX($D$4:$D$95,MATCH(0,COUNTIF($W$3:W9,$D$4:$D$95),0)),"")} -> 0 | Y68: {=IFERROR(INDEX($L$4:$L$95,MATCH(0,COUNTIF($Y$3:Y67,$L$4:$L$95),0),0),0)} -> 0
B69: 71 | C69: 6 | E69: 0 | F69: 1.8 | G69: =F69*E69 -> 0 | H69: =IF(D69=6,#REF!,IF('لیستوفر هوشمند (2)'!D69=8,#REF!,IF('لیستوفر هوشمند (2)'!D69=10,#REF!,IF(D69=12,#REF!,IF('لیستوفر هوشمند (2)'!D69=14,#REF!,IF('لیستوفر هوشمند (2)'!D69=16,#REF!,IF('لیستوفر هوشمند (2)'!D69=18,#REF!,IF('لیستوفر هوشمند (2)'!D69=20,#REF!,IF('لیستوفر هوشمند (2)'!D69=22,#REF!,IF('لیستوفر هوشمند (2)'!D69=24,#REF!,IF('لیستوفر هوشمند (2)'!D69=25,#REF!,IF('لیستوفر هوشمند (2)'!D69=26,#REF!,IF('لیستوفر هوشمند (2)'!D69=28,#REF!,IF('لیستوفر هوشمند (2)'!D69=30,#REF!,IF('لیستوفر هوشمند (2)'!D69=32,#REF!,0))))))))))))))) -> 0 | J69: =G69*H69 -> 0 | W69: {=IFERROR(INDEX($D$4:$D$95,MATCH(0,COUNTIF($W$3:W10,$D$4:$D$95),0)),"")} | Y69: {=IFERROR(INDEX($L$4:$L$95,MATCH(0,COUNTIF($Y$3:Y68,$L$4:$L$95),0),0),0)} -> 0
B70: 72 | C70: 6 | E70: 0 | F70: 1.8 | G70: =F70*E70 -> 0 | H70: =IF(D70=6,#REF!,IF('لیستوفر هوشمند (2)'!D70=8,#REF!,IF('لیستوفر هوشمند (2)'!D70=10,#REF!,IF(D70=12,#REF!,IF('لیستوفر هوشمند (2)'!D70=14,#REF!,IF('لیستوفر هوشمند (2)'!D70=16,#REF!,IF('لیستوفر هوشمند (2)'!D70=18,#REF!,IF('لیستوفر هوشمند (2)'!D70=20,#REF!,IF('لیستوفر هوشمند (2)'!D70=22,#REF!,IF('لیستوفر هوشمند (2)'!D70=24,#REF!,IF('لیستوفر هوشمند (2)'!D70=25,#REF!,IF('لیستوفر هوشمند (2)'!D70=26,#REF!,IF('لیستوفر هوشمند (2)'!D70=28,#REF!,IF('لیستوفر هوشمند (2)'!D70=30,#REF!,IF('لیستوفر هوشمند (2)'!D70=32,#REF!,0))))))))))))))) -> 0 | J70: =G70*H70 -> 0 | W70: {=IFERROR(INDEX($D$4:$D$95,MATCH(0,COUNTIF($W$3:W11,$D$4:$D$95),0)),"")} | Y70: {=IFERROR(INDEX($L$4:$L$95,MATCH(0,COUNTIF($Y$3:Y69,$L$4:$L$95),0),0),0)} -> 0
B71: 73 | C71: 6 | E71: 0 | F71: 1.8 | G71: =F71*E71 -> 0 | H71: =IF(D71=6,#REF!,IF('لیستوفر هوشمند (2)'!D71=8,#REF!,IF('لیستوفر هوشمند (2)'!D71=10,#REF!,IF(D71=12,#REF!,IF('لیستوفر هوشمند (2)'!D71=14,#REF!,IF('لیستوفر هوشمند (2)'!D71=16,#REF!,IF('لیستوفر هوشمند (2)'!D71=18,#REF!,IF('لیستوفر هوشمند (2)'!D71=20,#REF!,IF('لیستوفر هوشمند (2)'!D71=22,#REF!,IF('لیستوفر هوشمند (2)'!D71=24,#REF!,IF('لیستوفر هوشمند (2)'!D71=25,#REF!,IF('لیستوفر هوشمند (2)'!D71=26,#REF!,IF('لیستوفر هوشمند (2)'!D71=28,#REF!,IF('لیستوفر هوشمند (2)'!D71=30,#REF!,IF('لیستوفر هوشمند (2)'!D71=32,#REF!,0))))))))))))))) -> 0 | J71: =G71*H71 -> 0 | W71: {=IFERROR(INDEX($D$4:$D$95,MATCH(0,COUNTIF($W$3:W12,$D$4:$D$95),0)),"")} | Y71: {=IFERROR(INDEX($L$4:$L$95,MATCH(0,COUNTIF($Y$3:Y70,$L$4:$L$95),0),0),0)} -> 0
B72: 74 | C72: 6 | E72: 0 | F72: 1.8 | G72: =F72*E72 -> 0 | H72: =IF(D72=6,#REF!,IF('لیستوفر هوشمند (2)'!D72=8,#REF!,IF('لیستوفر هوشمند (2)'!D72=10,#REF!,IF(D72=12,#REF!,IF('لیستوفر هوشمند (2)'!D72=14,#REF!,IF('لیستوفر هوشمند (2)'!D72=16,#REF!,IF('لیستوفر هوشمند (2)'!D72=18,#REF!,IF('لیستوفر هوشمند (2)'!D72=20,#REF!,IF('لیستوفر هوشمند (2)'!D72=22,#REF!,IF('لیستوفر هوشمند (2)'!D72=24,#REF!,IF('لیستوفر هوشمند (2)'!D72=25,#REF!,IF('لیستوفر هوشمند (2)'!D72=26,#REF!,IF('لیستوفر هوشمند (2)'!D72=28,#REF!,IF('لیستوفر هوشمند (2)'!D72=30,#REF!,IF('لیستوفر هوشمند (2)'!D72=32,#REF!,0))))))))))))))) -> 0 | J72: =G72*H72 -> 0 | W72: {=IFERROR(INDEX($D$4:$D$95,MATCH(0,COUNTIF($W1:W$3,$D$4:$D$95),0)),"")} -> 18 | Y72: {=IFERROR(INDEX($L$4:$L$95,MATCH(0,COUNTIF($Y$3:Y71,$L$4:$L$95),0),0),0)} -> 0
B73: 75 | C73: 6 | E73: 0 | F73: 1.8 | G73: =F73*E73 -> 0 | H73: =IF(D73=6,#REF!,IF('لیستوفر هوشمند (2)'!D73=8,#REF!,IF('لیستوفر هوشمند (2)'!D73=10,#REF!,IF(D73=12,#REF!,IF('لیستوفر هوشمند (2)'!D73=14,#REF!,IF('لیستوفر هوشمند (2)'!D73=16,#REF!,IF('لیستوفر هوشمند (2)'!D73=18,#REF!,IF('لیستوفر هوشمند (2)'!D73=20,#REF!,IF('لیستوفر هوشمند (2)'!D73=22,#REF!,IF('لیستوفر هوشمند (2)'!D73=24,#REF!,IF('لیستوفر هوشمند (2)'!D73=25,#REF!,IF('لیستوفر هوشمند (2)'!D73=26,#REF!,IF('لیستوفر هوشمند (2)'!D73=28,#REF!,IF('لیستوفر هوشمند (2)'!D73=30,#REF!,IF('لیستوفر هوشمند (2)'!D73=32,#REF!,0))))))))))))))) -> 0 | J73: =G73*H73 -> 0 | W73: {=IFERROR(INDEX($D$4:$D$95,MATCH(0,COUNTIF($W2:W$3,$D$4:$D$95),0)),"")} -> 18 | Y73: {=IFERROR(INDEX($L$4:$L$95,MATCH(0,COUNTIF($Y$3:Y72,$L$4:$L$95),0),0),0)} -> 0
B74: 76 | C74: 6 | E74: 0 | F74: 1.8 | G74: =F74*E74 -> 0 | H74: =IF(D74=6,#REF!,IF('لیستوفر هوشمند (2)'!D74=8,#REF!,IF('لیستوفر هوشمند (2)'!D74=10,#REF!,IF(D74=12,#REF!,IF('لیستوفر هوشمند (2)'!D74=14,#REF!,IF('لیستوفر هوشمند (2)'!D74=16,#REF!,IF('لیستوفر هوشمند (2)'!D74=18,#REF!,IF('لیستوفر هوشمند (2)'!D74=20,#REF!,IF('لیستوفر هوشمند (2)'!D74=22,#REF!,IF('لیستوفر هوشمند (2)'!D74=24,#REF!,IF('لیستوفر هوشمند (2)'!D74=25,#REF!,IF('لیستوفر هوشمند (2)'!D74=26,#REF!,IF('لیستوفر هوشمند (2)'!D74=28,#REF!,IF('لیستوفر هوشمند (2)'!D74=30,#REF!,IF('لیستوفر هوشمند (2)'!D74=32,#REF!,0))))))))))))))) -> 0 | J74: =G74*H74 -> 0 | W74: {=IFERROR(INDEX($D$4:$D$95,MATCH(0,COUNTIF($W$3:W3,$D$4:$D$95),0)),"")} -> 18 | Y74: {=IFERROR(INDEX($L$4:$L$95,MATCH(0,COUNTIF($Y$3:Y73,$L$4:$L$95),0),0),0)} -> 0
B75: 77 | C75: 6 | E75: 0 | F75: 1.8 | G75: =F75*E75 -> 0 | H75: =IF(D75=6,#REF!,IF('لیستوفر هوشمند (2)'!D75=8,#REF!,IF('لیستوفر هوشمند (2)'!D75=10,#REF!,IF(D75=12,#REF!,IF('لیستوفر هوشمند (2)'!D75=14,#REF!,IF('لیستوفر هوشمند (2)'!D75=16,#REF!,IF('لیستوفر هوشمند (2)'!D75=18,#REF!,IF('لیستوفر هوشمند (2)'!D75=20,#REF!,IF('لیستوفر هوشمند (2)'!D75=22,#REF!,IF('لیستوفر هوشمند (2)'!D75=24,#REF!,IF('لیستوفر هوشمند (2)'!D75=25,#REF!,IF('لیستوفر هوشمند (2)'!D75=26,#REF!,IF('لیستوفر هوشمند (2)'!D75=28,#REF!,IF('لیستوفر هوشمند (2)'!D75=30,#REF!,IF('لیستوفر هوشمند (2)'!D75=32,#REF!,0))))))))))))))) -> 0 | J75: =G75*H75 -> 0 | W75: {=IFERROR(INDEX($D$4:$D$95,MATCH(0,COUNTIF($W$3:W4,$D$4:$D$95),0)),"")} -> 16 | Y75: {=IFERROR(INDEX($L$4:$L$95,MATCH(0,COUNTIF($Y$3:Y74,$L$4:$L$95),0),0),0)} -> 0
B76: 78 | C76: 6 | E76: 0 | F76: 1.8 | G76: =F76*E76 -> 0 | H76: =IF(D76=6,#REF!,IF('لیستوفر هوشمند (2)'!D76=8,#REF!,IF('لیستوفر هوشمند (2)'!D76=10,#REF!,IF(D76=12,#REF!,IF('لیستوفر هوشمند (2)'!D76=14,#REF!,IF('لیستوفر هوشمند (2)'!D76=16,#REF!,IF('لیستوفر هوشمند (2)'!D76=18,#REF!,IF('لیستوفر هوشمند (2)'!D76=20,#REF!,IF('لیستوفر هوشمند (2)'!D76=22,#REF!,IF('لیستوفر هوشمند (2)'!D76=24,#REF!,IF('لیستوفر هوشمند (2)'!D76=25,#REF!,IF('لیستوفر هوشمند (2)'!D76=26,#REF!,IF('لیستوفر هوشمند (2)'!D76=28,#REF!,IF('لیستوفر هوشمند (2)'!D76=30,#REF!,IF('لیستوفر هوشمند (2)'!D76=32,#REF!,0))))))))))))))) -> 0 | J76: =G76*H76 -> 0 | W76: {=IFERROR(INDEX($D$4:$D$95,MATCH(0,COUNTIF($W$3:W7,$D$4:$D$95),0)),"")} -> 10 | Y76: {=IFERROR(INDEX($L$4:$L$95,MATCH(0,COUNTIF($Y$3:Y75,$L$4:$L$95),0),0),0)} -> 0
B77: 79 | C77: 6 | E77: 0 | F77: 1.8 | G77: =F77*E77 -> 0 | H77: =IF(D77=6,#REF!,IF('لیستوفر هوشمند (2)'!D77=8,#REF!,IF('لیستوفر هوشمند (2)'!D77=10,#REF!,IF(D77=12,#REF!,IF('لیستوفر هوشمند (2)'!D77=14,#REF!,IF('لیستوفر هوشمند (2)'!D77=16,#REF!,IF('لیستوفر هوشمند (2)'!D77=18,#REF!,IF('لیستوفر هوشمند (2)'!D77=20,#REF!,IF('لیستوفر هوشمند (2)'!D77=22,#REF!,IF('لیستوفر هوشمند (2)'!D77=24,#REF!,IF('لیستوفر هوشمند (2)'!D77=25,#REF!,IF('لیستوفر هوشمند (2)'!D77=26,#REF!,IF('لیستوفر هوشمند (2)'!D77=28,#REF!,IF('لیستوفر هوشمند (2)'!D77=30,#REF!,IF('لیستوفر هوشمند (2)'!D77=32,#REF!,0))))))))))))))) -> 0 | J77: =G77*H77 -> 0 | W77: {=IFERROR(INDEX($D$4:$D$95,MATCH(0,COUNTIF($W$3:W8,$D$4:$D$95),0)),"")} -> 14 | Y77: {=IFERROR(INDEX($L$4:$L$95,MATCH(0,COUNTIF($Y$3:Y76,$L$4:$L$95),0),0),0)} -> 0
B78: 80 | C78: 6 | E78: 0 | F78: 1.8 | G78: =F78*E78 -> 0 | H78: =IF(D78=6,#REF!,IF('لیستوفر هوشمند (2)'!D78=8,#REF!,IF('لیستوفر هوشمند (2)'!D78=10,#REF!,IF(D78=12,#REF!,IF('لیستوفر هوشمند (2)'!D78=14,#REF!,IF('لیستوفر هوشمند (2)'!D78=16,#REF!,IF('لیستوفر هوشمند (2)'!D78=18,#REF!,IF('لیستوفر هوشمند (2)'!D78=20,#REF!,IF('لیستوفر هوشمند (2)'!D78=22,#REF!,IF('لیستوفر هوشمند (2)'!D78=24,#REF!,IF('لیستوفر هوشمند (2)'!D78=25,#REF!,IF('لیستوفر هوشمند (2)'!D78=26,#REF!,IF('لیستوفر هوشمند (2)'!D78=28,#REF!,IF('لیستوفر هوشمند (2)'!D78=30,#REF!,IF('لیستوفر هوشمند (2)'!D78=32,#REF!,0))))))))))))))) -> 0 | J78: =G78*H78 -> 0 | W78: {=IFERROR(INDEX($D$4:$D$95,MATCH(0,COUNTIF($W$3:W9,$D$4:$D$95),0)),"")} -> 0 | Y78: {=IFERROR(INDEX($L$4:$L$95,MATCH(0,COUNTIF($Y$3:Y77,$L$4:$L$95),0),0),0)} -> 0
B79: 81 | C79: 6 | E79: 0 | F79: 1.8 | G79: =F79*E79 -> 0 | H79: =IF(D79=6,#REF!,IF('لیستوفر هوشمند (2)'!D79=8,#REF!,IF('لیستوفر هوشمند (2)'!D79=10,#REF!,IF(D79=12,#REF!,IF('لیستوفر هوشمند (2)'!D79=14,#REF!,IF('لیستوفر هوشمند (2)'!D79=16,#REF!,IF('لیستوفر هوشمند (2)'!D79=18,#REF!,IF('لیستوفر هوشمند (2)'!D79=20,#REF!,IF('لیستوفر هوشمند (2)'!D79=22,#REF!,IF('لیستوفر هوشمند (2)'!D79=24,#REF!,IF('لیستوفر هوشمند (2)'!D79=25,#REF!,IF('لیستوفر هوشمند (2)'!D79=26,#REF!,IF('لیستوفر هوشمند (2)'!D79=28,#REF!,IF('لیستوفر هوشمند (2)'!D79=30,#REF!,IF('لیستوفر هوشمند (2)'!D79=32,#REF!,0))))))))))))))) -> 0 | J79: =G79*H79 -> 0 | W79: {=IFERROR(INDEX($D$4:$D$95,MATCH(0,COUNTIF($W$3:W10,$D$4:$D$95),0)),"")} | Y79: {=IFERROR(INDEX($L$4:$L$95,MATCH(0,COUNTIF($Y$3:Y78,$L$4:$L$95),0),0),0)} -> 0
B80: 82 | C80: 6 | E80: 0 | F80: 1.8 | G80: =F80*E80 -> 0 | H80: =IF(D80=6,#REF!,IF('لیستوفر هوشمند (2)'!D80=8,#REF!,IF('لیستوفر هوشمند (2)'!D80=10,#REF!,IF(D80=12,#REF!,IF('لیستوفر هوشمند (2)'!D80=14,#REF!,IF('لیستوفر هوشمند (2)'!D80=16,#REF!,IF('لیستوفر هوشمند (2)'!D80=18,#REF!,IF('لیستوفر هوشمند (2)'!D80=20,#REF!,IF('لیستوفر هوشمند (2)'!D80=22,#REF!,IF('لیستوفر هوشمند (2)'!D80=24,#REF!,IF('لیستوفر هوشمند (2)'!D80=25,#REF!,IF('لیستوفر هوشمند (2)'!D80=26,#REF!,IF('لیستوفر هوشمند (2)'!D80=28,#REF!,IF('لیستوفر هوشمند (2)'!D80=30,#REF!,IF('لیستوفر هوشمند (2)'!D80=32,#REF!,0))))))))))))))) -> 0 | J80: =G80*H80 -> 0 | W80: {=IFERROR(INDEX($D$4:$D$95,MATCH(0,COUNTIF($W$3:W11,$D$4:$D$95),0)),"")} | Y80: {=IFERROR(INDEX($L$4:$L$95,MATCH(0,COUNTIF($Y$3:Y79,$L$4:$L$95),0),0),0)} -> 0
B81: 83 | C81: 6 | E81: 0 | F81: 1.8 | G81: =F81*E81 -> 0 | H81: =IF(D81=6,#REF!,IF('لیستوفر هوشمند (2)'!D81=8,#REF!,IF('لیستوفر هوشمند (2)'!D81=10,#REF!,IF(D81=12,#REF!,IF('لیستوفر هوشمند (2)'!D81=14,#REF!,IF('لیستوفر هوشمند (2)'!D81=16,#REF!,IF('لیستوفر هوشمند (2)'!D81=18,#REF!,IF('لیستوفر هوشمند (2)'!D81=20,#REF!,IF('لیستوفر هوشمند (2)'!D81=22,#REF!,IF('لیستوفر هوشمند (2)'!D81=24,#REF!,IF('لیستوفر هوشمند (2)'!D81=25,#REF!,IF('لیستوفر هوشمند (2)'!D81=26,#REF!,IF('لیستوفر هوشمند (2)'!D81=28,#REF!,IF('لیستوفر هوشمند (2)'!D81=30,#REF!,IF('لیستوفر هوشمند (2)'!D81=32,#REF!,0))))))))))))))) -> 0 | J81: =G81*H81 -> 0 | W81: {=IFERROR(INDEX($D$4:$D$95,MATCH(0,COUNTIF($W$3:W12,$D$4:$D$95),0)),"")} | Y81: {=IFERROR(INDEX($L$4:$L$95,MATCH(0,COUNTIF($Y$3:Y80,$L$4:$L$95),0),0),0)} -> 0
B82: 84 | C82: 6 | E82: 0 | F82: 1.8 | G82: =F82*E82 -> 0 | H82: =IF(D82=6,#REF!,IF('لیستوفر هوشمند (2)'!D82=8,#REF!,IF('لیستوفر هوشمند (2)'!D82=10,#REF!,IF(D82=12,#REF!,IF('لیستوفر هوشمند (2)'!D82=14,#REF!,IF('لیستوفر هوشمند (2)'!D82=16,#REF!,IF('لیستوفر هوشمند (2)'!D82=18,#REF!,IF('لیستوفر هوشمند (2)'!D82=20,#REF!,IF('لیستوفر هوشمند (2)'!D82=22,#REF!,IF('لیستوفر هوشمند (2)'!D82=24,#REF!,IF('لیستوفر هوشمند (2)'!D82=25,#REF!,IF('لیستوفر هوشمند (2)'!D82=26,#REF!,IF('لیستوفر هوشمند (2)'!D82=28,#REF!,IF('لیستوفر هوشمند (2)'!D82=30,#REF!,IF('لیستوفر هوشمند (2)'!D82=32,#REF!,0))))))))))))))) -> 0 | J82: =G82*H82 -> 0 | W82: {=IFERROR(INDEX($D$4:$D$95,MATCH(0,COUNTIF($W$3:W13,$D$4:$D$95),0)),"")} | Y82: {=IFERROR(INDEX($L$4:$L$95,MATCH(0,COUNTIF($Y$3:Y81,$L$4:$L$95),0),0),0)} -> 0
B83: 85 | C83: 6 | E83: 0 | F83: 1.8 | G83: =F83*E83 -> 0 | H83: =IF(D83=6,#REF!,IF('لیستوفر هوشمند (2)'!D83=8,#REF!,IF('لیستوفر هوشمند (2)'!D83=10,#REF!,IF(D83=12,#REF!,IF('لیستوفر هوشمند (2)'!D83=14,#REF!,IF('لیستوفر هوشمند (2)'!D83=16,#REF!,IF('لیستوفر هوشمند (2)'!D83=18,#REF!,IF('لیستوفر هوشمند (2)'!D83=20,#REF!,IF('لیستوفر هوشمند (2)'!D83=22,#REF!,IF('لیستوفر هوشمند (2)'!D83=24,#REF!,IF('لیستوفر هوشمند (2)'!D83=25,#REF!,IF('لیستوفر هوشمند (2)'!D83=26,#REF!,IF('لیستوفر هوشمند (2)'!D83=28,#REF!,IF('لیستوفر هوشمند (2)'!D83=30,#REF!,IF('لیستوفر هوشمند (2)'!D83=32,#REF!,0))))))))))))))) -> 0 | J83: =G83*H83 -> 0 | W83: {=IFERROR(INDEX($D$4:$D$95,MATCH(0,COUNTIF($W$3:W14,$D$4:$D$95),0)),"")} | Y83: {=IFERROR(INDEX($L$4:$L$95,MATCH(0,COUNTIF($Y$3:Y82,$L$4:$L$95),0),0),0)} -> 0
B84: 86 | C84: 6 | E84: 0 | F84: 1.8 | G84: =F84*E84 -> 0 | H84: =IF(D84=6,#REF!,IF('لیستوفر هوشمند (2)'!D84=8,#REF!,IF('لیستوفر هوشمند (2)'!D84=10,#REF!,IF(D84=12,#REF!,IF('لیستوفر هوشمند (2)'!D84=14,#REF!,IF('لیستوفر هوشمند (2)'!D84=16,#REF!,IF('لیستوفر هوشمند (2)'!D84=18,#REF!,IF('لیستوفر هوشمند (2)'!D84=20,#REF!,IF('لیستوفر هوشمند (2)'!D84=22,#REF!,IF('لیستوفر هوشمند (2)'!D84=24,#REF!,IF('لیستوفر هوشمند (2)'!D84=25,#REF!,IF('لیستوفر هوشمند (2)'!D84=26,#REF!,IF('لیستوفر هوشمند (2)'!D84=28,#REF!,IF('لیستوفر هوشمند (2)'!D84=30,#REF!,IF('لیستوفر هوشمند (2)'!D84=32,#REF!,0))))))))))))))) -> 0 | J84: =G84*H84 -> 0 | W84: {=IFERROR(INDEX($D$4:$D$95,MATCH(0,COUNTIF($W$3:W15,$D$4:$D$95),0)),"")} | Y84: {=IFERROR(INDEX($L$4:$L$95,MATCH(0,COUNTIF($Y$3:Y83,$L$4:$L$95),0),0),0)} -> 0
B85: 87 | C85: 6 | E85: 0 | F85: 1.8 | G85: =F85*E85 -> 0 | H85: =IF(D85=6,#REF!,IF('لیستوفر هوشمند (2)'!D85=8,#REF!,IF('لیستوفر هوشمند (2)'!D85=10,#REF!,IF(D85=12,#REF!,IF('لیستوفر هوشمند (2)'!D85=14,#REF!,IF('لیستوفر هوشمند (2)'!D85=16,#REF!,IF('لیستوفر هوشمند (2)'!D85=18,#REF!,IF('لیستوفر هوشمند (2)'!D85=20,#REF!,IF('لیستوفر هوشمند (2)'!D85=22,#REF!,IF('لیستوفر هوشمند (2)'!D85=24,#REF!,IF('لیستوفر هوشمند (2)'!D85=25,#REF!,IF('لیستوفر هوشمند (2)'!D85=26,#REF!,IF('لیستوفر هوشمند (2)'!D85=28,#REF!,IF('لیستوفر هوشمند (2)'!D85=30,#REF!,IF('لیستوفر هوشمند (2)'!D85=32,#REF!,0))))))))))))))) -> 0 | J85: =G85*H85 -> 0 | W85: {=IFERROR(INDEX($D$4:$D$95,MATCH(0,COUNTIF($W$3:W16,$D$4:$D$95),0)),"")} | Y85: {=IFERROR(INDEX($L$4:$L$95,MATCH(0,COUNTIF($Y$3:Y84,$L$4:$L$95),0),0),0)} -> 0
B86: 88 | C86: 6 | E86: 0 | F86: 1.8 | G86: =F86*E86 -> 0 | H86: =IF(D86=6,#REF!,IF('لیستوفر هوشمند (2)'!D86=8,#REF!,IF('لیستوفر هوشمند (2)'!D86=10,#REF!,IF(D86=12,#REF!,IF('لیستوفر هوشمند (2)'!D86=14,#REF!,IF('لیستوفر هوشمند (2)'!D86=16,#REF!,IF('لیستوفر هوشمند (2)'!D86=18,#REF!,IF('لیستوفر هوشمند (2)'!D86=20,#REF!,IF('لیستوفر هوشمند (2)'!D86=22,#REF!,IF('لیستوفر هوشمند (2)'!D86=24,#REF!,IF('لیستوفر هوشمند (2)'!D86=25,#REF!,IF('لیستوفر هوشمند (2)'!D86=26,#REF!,IF('لیستوفر هوشمند (2)'!D86=28,#REF!,IF('لیستوفر هوشمند (2)'!D86=30,#REF!,IF('لیستوفر هوشمند (2)'!D86=32,#REF!,0))))))))))))))) -> 0 | J86: =G86*H86 -> 0 | W86: {=IFERROR(INDEX($D$4:$D$95,MATCH(0,COUNTIF($W$3:W17,$D$4:$D$95),0)),"")} | Y86: {=IFERROR(INDEX($L$4:$L$95,MATCH(0,COUNTIF($Y$3:Y85,$L$4:$L$95),0),0),0)} -> 0
B87: 89 | C87: 6 | E87: 0 | F87: 1.8 | G87: =F87*E87 -> 0 | H87: =IF(D87=6,#REF!,IF('لیستوفر هوشمند (2)'!D87=8,#REF!,IF('لیستوفر هوشمند (2)'!D87=10,#REF!,IF(D87=12,#REF!,IF('لیستوفر هوشمند (2)'!D87=14,#REF!,IF('لیستوفر هوشمند (2)'!D87=16,#REF!,IF('لیستوفر هوشمند (2)'!D87=18,#REF!,IF('لیستوفر هوشمند (2)'!D87=20,#REF!,IF('لیستوفر هوشمند (2)'!D87=22,#REF!,IF('لیستوفر هوشمند (2)'!D87=24,#REF!,IF('لیستوفر هوشمند (2)'!D87=25,#REF!,IF('لیستوفر هوشمند (2)'!D87=26,#REF!,IF('لیستوفر هوشمند (2)'!D87=28,#REF!,IF('لیستوفر هوشمند (2)'!D87=30,#REF!,IF('لیستوفر هوشمند (2)'!D87=32,#REF!,0))))))))))))))) -> 0 | J87: =G87*H87 -> 0 | W87: {=IFERROR(INDEX($D$4:$D$95,MATCH(0,COUNTIF($W$3:W17,$D$4:$D$95),0)),"")} | Y87: {=IFERROR(INDEX($L$4:$L$95,MATCH(0,COUNTIF($Y$3:Y86,$L$4:$L$95),0),0),0)} -> 0
B88: 90 | C88: 6 | E88: 0 | F88: 1.8 | G88: =F88*E88 -> 0 | H88: =IF(D88=6,#REF!,IF('لیستوفر هوشمند (2)'!D88=8,#REF!,IF('لیستوفر هوشمند (2)'!D88=10,#REF!,IF(D88=12,#REF!,IF('لیستوفر هوشمند (2)'!D88=14,#REF!,IF('لیستوفر هوشمند (2)'!D88=16,#REF!,IF('لیستوفر هوشمند (2)'!D88=18,#REF!,IF('لیستوفر هوشمند (2)'!D88=20,#REF!,IF('لیستوفر هوشمند (2)'!D88=22,#REF!,IF('لیستوفر هوشمند (2)'!D88=24,#REF!,IF('لیستوفر هوشمند (2)'!D88=25,#REF!,IF('لیستوفر هوشمند (2)'!D88=26,#REF!,IF('لیستوفر هوشمند (2)'!D88=28,#REF!,IF('لیستوفر هوشمند (2)'!D88=30,#REF!,IF('لیستوفر هوشمند (2)'!D88=32,#REF!,0))))))))))))))) -> 0 | J88: =G88*H88 -> 0 | W88: {=IFERROR(INDEX($D$4:$D$95,MATCH(0,COUNTIF($W$3:W15,$D$4:$D$95),0)),"")} | Y88: {=IFERROR(INDEX($L$4:$L$95,MATCH(0,COUNTIF($Y$3:Y87,$L$4:$L$95),0),0),0)} -> 0
B89: 91 | C89: 6 | E89: 0 | F89: 1.8 | G89: =F89*E89 -> 0 | H89: =IF(D89=6,#REF!,IF('لیستوفر هوشمند (2)'!D89=8,#REF!,IF('لیستوفر هوشمند (2)'!D89=10,#REF!,IF(D89=12,#REF!,IF('لیستوفر هوشمند (2)'!D89=14,#REF!,IF('لیستوفر هوشمند (2)'!D89=16,#REF!,IF('لیستوفر هوشمند (2)'!D89=18,#REF!,IF('لیستوفر هوشمند (2)'!D89=20,#REF!,IF('لیستوفر هوشمند (2)'!D89=22,#REF!,IF('لیستوفر هوشمند (2)'!D89=24,#REF!,IF('لیستوفر هوشمند (2)'!D89=25,#REF!,IF('لیستوفر هوشمند (2)'!D89=26,#REF!,IF('لیستوفر هوشمند (2)'!D89=28,#REF!,IF('لیستوفر هوشمند (2)'!D89=30,#REF!,IF('لیستوفر هوشمند (2)'!D89=32,#REF!,0))))))))))))))) -> 0 | J89: =G89*H89 -> 0 | W89: {=IFERROR(INDEX($D$4:$D$95,MATCH(0,COUNTIF($W$3:W16,$D$4:$D$95),0)),"")} | Y89: {=IFERROR(INDEX($L$4:$L$95,MATCH(0,COUNTIF($Y$3:Y88,$L$4:$L$95),0),0),0)} -> 0
B90: 92 | C90: 6 | E90: 0 | F90: 1.8 | G90: =F90*E90 -> 0 | H90: =IF(D90=6,#REF!,IF('لیستوفر هوشمند (2)'!D90=8,#REF!,IF('لیستوفر هوشمند (2)'!D90=10,#REF!,IF(D90=12,#REF!,IF('لیستوفر هوشمند (2)'!D90=14,#REF!,IF('لیستوفر هوشمند (2)'!D90=16,#REF!,IF('لیستوفر هوشمند (2)'!D90=18,#REF!,IF('لیستوفر هوشمند (2)'!D90=20,#REF!,IF('لیستوفر هوشمند (2)'!D90=22,#REF!,IF('لیستوفر هوشمند (2)'!D90=24,#REF!,IF('لیستوفر هوشمند (2)'!D90=25,#REF!,IF('لیستوفر هوشمند (2)'!D90=26,#REF!,IF('لیستوفر هوشمند (2)'!D90=28,#REF!,IF('لیستوفر هوشمند (2)'!D90=30,#REF!,IF('لیستوفر هوشمند (2)'!D90=32,#REF!,0))))))))))))))) -> 0 | J90: =G90*H90 -> 0 | W90: {=IFERROR(INDEX($D$4:$D$95,MATCH(0,COUNTIF($W$3:W17,$D$4:$D$95),0)),"")} | Y90: {=IFERROR(INDEX($L$4:$L$95,MATCH(0,COUNTIF($Y$3:Y89,$L$4:$L$95),0),0),0)} -> 0
B91: 93 | C91: 6 | E91: 0 | F91: 1.8 | G91: =F91*E91 -> 0 | H91: =IF(D91=6,#REF!,IF('لیستوفر هوشمند (2)'!D91=8,#REF!,IF('لیستوفر هوشمند (2)'!D91=10,#REF!,IF(D91=12,#REF!,IF('لیستوفر هوشمند (2)'!D91=14,#REF!,IF('لیستوفر هوشمند (2)'!D91=16,#REF!,IF('لیستوفر هوشمند (2)'!D91=18,#REF!,IF('لیستوفر هوشمند (2)'!D91=20,#REF!,IF('لیستوفر هوشمند (2)'!D91=22,#REF!,IF('لیستوفر هوشمند (2)'!D91=24,#REF!,IF('لیستوفر هوشمند (2)'!D91=25,#REF!,IF('لیستوفر هوشمند (2)'!D91=26,#REF!,IF('لیستوفر هوشمند (2)'!D91=28,#REF!,IF('لیستوفر هوشمند (2)'!D91=30,#REF!,IF('لیستوفر هوشمند (2)'!D91=32,#REF!,0))))))))))))))) -> 0 | J91: =G91*H91 -> 0 | W91: {=IFERROR(INDEX($D$4:$D$95,MATCH(0,COUNTIF($W$3:W17,$D$4:$D$95),0)),"")} | Y91: {=IFERROR(INDEX($L$4:$L$95,MATCH(0,COUNTIF($Y$3:Y90,$L$4:$L$95),0),0),0)} -> 0
B92: 94 | C92: 6 | E92: 0 | F92: 1.8 | G92: =F92*E92 -> 0 | H92: =IF(D92=6,#REF!,IF('لیستوفر هوشمند (2)'!D92=8,#REF!,IF('لیستوفر هوشمند (2)'!D92=10,#REF!,IF(D92=12,#REF!,IF('لیستوفر هوشمند (2)'!D92=14,#REF!,IF('لیستوفر هوشمند (2)'!D92=16,#REF!,IF('لیستوفر هوشمند (2)'!D92=18,#REF!,IF('لیستوفر هوشمند (2)'!D92=20,#REF!,IF('لیستوفر هوشمند (2)'!D92=22,#REF!,IF('لیستوفر هوشمند (2)'!D92=24,#REF!,IF('لیستوفر هوشمند (2)'!D92=25,#REF!,IF('لیستوفر هوشمند (2)'!D92=26,#REF!,IF('لیستوفر هوشمند (2)'!D92=28,#REF!,IF('لیستوفر هوشمند (2)'!D92=30,#REF!,IF('لیستوفر هوشمند (2)'!D92=32,#REF!,0))))))))))))))) -> 0 | J92: =G92*H92 -> 0 | W92: {=IFERROR(INDEX($D$4:$D$95,MATCH(0,COUNTIF($W$3:W17,$D$4:$D$95),0)),"")} | Y92: {=IFERROR(INDEX($L$4:$L$95,MATCH(0,COUNTIF($Y$3:Y91,$L$4:$L$95),0),0),0)} -> 0
B93: 95 | C93: 6 | E93: 0 | F93: 1.8 | G93: =F93*E93 -> 0 | H93: =IF(D93=6,#REF!,IF('لیستوفر هوشمند (2)'!D93=8,#REF!,IF('لیستوفر هوشمند (2)'!D93=10,#REF!,IF(D93=12,#REF!,IF('لیستوفر هوشمند (2)'!D93=14,#REF!,IF('لیستوفر هوشمند (2)'!D93=16,#REF!,IF('لیستوفر هوشمند (2)'!D93=18,#REF!,IF('لیستوفر هوشمند (2)'!D93=20,#REF!,IF('لیستوفر هوشمند (2)'!D93=22,#REF!,IF('لیستوفر هوشمند (2)'!D93=24,#REF!,IF('لیستوفر هوشمند (2)'!D93=25,#REF!,IF('لیستوفر هوشمند (2)'!D93=26,#REF!,IF('لیستوفر هوشمند (2)'!D93=28,#REF!,IF('لیستوفر هوشمند (2)'!D93=30,#REF!,IF('لیستوفر هوشمند (2)'!D93=32,#REF!,0))))))))))))))) -> 0 | J93: =G93*H93 -> 0 | W93: {=IFERROR(INDEX($D$4:$D$95,MATCH(0,COUNTIF($W$3:W17,$D$4:$D$95),0)),"")} | Y93: {=IFERROR(INDEX($L$4:$L$95,MATCH(0,COUNTIF($Y$3:Y92,$L$4:$L$95),0),0),0)} -> 0
B94: 96 | C94: 6 | E94: 0 | F94: 1.8 | G94: =F94*E94 -> 0 | H94: =IF(D94=6,#REF!,IF('لیستوفر هوشمند (2)'!D94=8,#REF!,IF('لیستوفر هوشمند (2)'!D94=10,#REF!,IF(D94=12,#REF!,IF('لیستوفر هوشمند (2)'!D94=14,#REF!,IF('لیستوفر هوشمند (2)'!D94=16,#REF!,IF('لیستوفر هوشمند (2)'!D94=18,#REF!,IF('لیستوفر هوشمند (2)'!D94=20,#REF!,IF('لیستوفر هوشمند (2)'!D94=22,#REF!,IF('لیستوفر هوشمند (2)'!D94=24,#REF!,IF('لیستوفر هوشمند (2)'!D94=25,#REF!,IF('لیستوفر هوشمند (2)'!D94=26,#REF!,IF('لیستوفر هوشمند (2)'!D94=28,#REF!,IF('لیستوفر هوشمند (2)'!D94=30,#REF!,IF('لیستوفر هوشمند (2)'!D94=32,#REF!,0))))))))))))))) -> 0 | J94: =G94*H94 -> 0 | W94: {=IFERROR(INDEX($D$4:$D$95,MATCH(0,COUNTIF($W$3:W17,$D$4:$D$95),0)),"")} | Y94: {=IFERROR(INDEX($L$4:$L$95,MATCH(0,COUNTIF($Y$3:Y93,$L$4:$L$95),0),0),0)} -> 0
B95: 97 | C95: 6 | E95: 0 | F95: 1.8 | G95: =F95*E95 -> 0 | H95: =IF(D95=6,#REF!,IF('لیستوفر هوشمند (2)'!D95=8,#REF!,IF('لیستوفر هوشمند (2)'!D95=10,#REF!,IF(D95=12,#REF!,IF('لیستوفر هوشمند (2)'!D95=14,#REF!,IF('لیستوفر هوشمند (2)'!D95=16,#REF!,IF('لیستوفر هوشمند (2)'!D95=18,#REF!,IF('لیستوفر هوشمند (2)'!D95=20,#REF!,IF('لیستوفر هوشمند (2)'!D95=22,#REF!,IF('لیستوفر هوشمند (2)'!D95=24,#REF!,IF('لیستوفر هوشمند (2)'!D95=25,#REF!,IF('لیستوفر هوشمند (2)'!D95=26,#REF!,IF('لیستوفر هوشمند (2)'!D95=28,#REF!,IF('لیستوفر هوشمند (2)'!D95=30,#REF!,IF('لیستوفر هوشمند (2)'!D95=32,#REF!,0))))))))))))))) -> 0 | J95: =G95*H95 -> 0 | W95: {=IFERROR(INDEX($D$4:$D$95,MATCH(0,COUNTIF($W$3:W17,$D$4:$D$95),0)),"")} | Y95: {=IFERROR(INDEX($L$4:$L$95,MATCH(0,COUNTIF($Y$3:Y94,$L$4:$L$95),0),0),0)} -> 0
B96: وزن کل (کیلوگرم) | J96: =SUM(J4:J95) -> #REF! | W96: {=IFERROR(INDEX($D$4:$D$95,MATCH(0,COUNTIF($W$3:W95,$D$4:$D$95),0)),"")}
B97: مجموع طول و وزن هر سایز میلگرد | W97: {=IFERROR(INDEX($D$4:$D$95,MATCH(0,COUNTIF($W$3:W96,$D$4:$D$95),0)),"")}
B98: سایز | C98: طول (متر) | F98: وزن (کیلوگرم) | H98: سایز | J98: طول (متر) | K98: وزن (کیلوگرم) | W98: {=IFERROR(INDEX($D$4:$D$95,MATCH(0,COUNTIF($W$3:W97,$D$4:$D$95),0)),"")}
B99: =$W$4 -> 18 | C99: =SUMIF($D$4:$D$95,B99,$G$4:$G$95) -> 1416 | F99: =SUMIF($D$4:$D$95,B99,$J$4:$J$95) -> #REF! | H99: =$W$7 -> 16 | J99: =SUMIF($D$4:$D$95,H99,$G$4:$G$95) -> 441 | K99: =SUMIF($D$4:$D$95,H99,$J$4:$J$95) -> #REF! | W99: {=IFERROR(INDEX($D$4:$D$95,MATCH(0,COUNTIF($W$3:W98,$D$4:$D$95),0)),"")}
B100: =$W$8 -> 10 | C100: =SUMIF($D$4:$D$95,B100,$G$4:$G$95) -> 1568.52 | F100: =SUMIF($D$4:$D$95,B100,$J$4:$J$95) -> #REF! | H100: =$W$9 -> 14 | J100: =SUMIF($D$4:$D$95,H100,$G$4:$G$95) -> 593.28 | K100: =SUMIF($D$4:$D$95,H100,$J$4:$J$95) -> #REF! | W100: {=IFERROR(INDEX($D$4:$D$95,MATCH(0,COUNTIF($W$3:W99,$D$4:$D$95),0)),"")}
W101: {=IFERROR(INDEX($D$4:$D$95,MATCH(0,COUNTIF($W$3:W100,$D$4:$D$95),0)),"")}
W102: {=IFERROR(INDEX($D$4:$D$95,MATCH(0,COUNTIF($W$3:W101,$D$4:$D$95),0)),"")}
W103: {=IFERROR(INDEX($D$4:$D$95,MATCH(0,COUNTIF($W$3:W102,$D$4:$D$95),0)),"")}

Sheet لیستوفر هوشمند
M2: =INDEX(#REF!,#REF!) -> #REF!
B3: رديف | C3: Pos | D3: سایز | E3: تعداد | F3: طول جزء (متر) | G3: طول کل (متر) | H3: وزن واحد (کیلوگرم) | I3: وزن کل (کیلوگرم) | J3: شکل | K3: موقعیت | M3: =IF(M2="مستقیم","طول",IF(M2="L خوابیده به راست","طول",IF(M2="L خوابیده به چپ","طول",IF(M2="L ایستاده به راست","ارتفاع",IF(M2="L ایستاده به چپ","ارتفاع",IF(M2="] به راست","ارتفاع",IF(M2=" [به چپ","ارتفاع",IF(M2="] به بالا","طول",IF(M2="] به پایین","طول",IF(M2="ریشه پله","عمودی",IF(M2="خاموت دایره","قطر",IF(M2="خاموت 90","طول",IF(M2="خاموت 135","طول",IF(M2="رکابی","طول",IF(M2="سنجاقی 135","طول",IF(M2="خرک","پاشنه چپ","")))))))))))))))) -> #REF! | N3: =IF(M2="L خوابیده به راست","ارتفاع",IF(M2="L خوابیده به چپ","ارتفاع",IF(M2="L ایستاده به راست","پاشنه",IF(M2="L ایستاده به چپ","پاشنه",IF(M2="] به راست","عرض پایین",IF(M2=" [به چپ","عرض پایین",IF(M2="] به بالا","ارتفاع چپ",IF(M2="] به پایین","ارتفاع چپ",IF(M2="ریشه پله","شیب",IF(M2="خاموت 90","عرض",IF(M2="خاموت 135","عرض",IF(M2="رکابی","عرض",IF(M2="سنجاقی 135","طول خم 90",IF(M2="خرک","ارتفاع","")))))))))))))) -> #REF! | O3: =IF(M2="] به راست","عرض بالا",IF(M2=" [به چپ","عرض بالا",IF(M2="] به بالا","ارتفاع راست",IF(M2="] به پایین","ارتفاع راست",IF(M2="ریشه پله","افقی",IF(M2="خاموت 90","طول خم",IF(M2="خاموت 135","طول خم",IF(M2="رکابی","طول خم",IF(M2="سنجاقی 135","طول خم 135",IF(M2="خرک","طول","")))))))))) -> #REF! | P3: =IF(M2="رکابی","قطر خم",IF(M2="سنجاقی 135","قطر خم",IF(M2="خرک","پاشنه راست",""))) -> #REF!
B4: 1 | C4: 1 | D4: 8 | E4: 3 | G4: =F4*E4 -> 0 | H4: =IF(D4=6,#REF!,IF('لیستوفر هوشمند'!D4=8,#REF!,IF('لیستوفر هوشمند'!D4=10,#REF!,IF(D4=12,#REF!,IF('لیستوفر هوشمند'!D4=14,#REF!,IF('لیستوفر هوشمند'!D4=16,#REF!,IF('لیستوفر هوشمند'!D4=18,#REF!,IF('لیستوفر هوشمند'!D4=20,#REF!,IF('لیستوفر هوشمند'!D4=22,#REF!,IF('لیستوفر هوشمند'!D4=24,#REF!,IF('لیستوفر هوشمند'!D4=25,#REF!,IF('لیستوفر هوشمند'!D4=26,#REF!,IF('لیستوفر هوشمند'!D4=28,#REF!,IF('لیستوفر هوشمند'!D4=30,#REF!,IF('لیستوفر هوشمند'!D4=32,#REF!,0))))))))))))))) -> #REF! | K4: فونداسیون | M4: 3000mm | N4: 450mm | O4: 120mm | P4: 30mm | V4: {=IFERROR(INDEX($D$4:$D$100,MATCH(0,COUNTIF($V$3:V3,$D$4:$D$100),0)),"")} -> 8 | X4: {=IFERROR(INDEX($K$4:$K$100,MATCH(0,COUNTIF($X$3:X3,$K$4:$K$100),0),0),0)} -> فونداسیون
B5: 2 | C5: 2 | D5: 6 | E5: 1 | F5: 1.8 | G5: =F5*E5 -> 1.8 | H5: =IF(D5=6,#REF!,IF('لیستوفر هوشمند'!D5=8,#REF!,IF('لیستوفر هوشمند'!D5=10,#REF!,IF(D5=12,#REF!,IF('لیستوفر هوشمند'!D5=14,#REF!,IF('لیستوفر هوشمند'!D5=16,#REF!,IF('لیستوفر هوشمند'!D5=18,#REF!,IF('لیستوفر هوشمند'!D5=20,#REF!,IF('لیستوفر هوشمند'!D5=22,#REF!,IF('لیستوفر هوشمند'!D5=24,#REF!,IF('لیستوفر هوشمند'!D5=25,#REF!,IF('لیستوفر هوشمند'!D5=26,#REF!,IF('لیستوفر هوشمند'!D5=28,#REF!,IF('لیستوفر هوشمند'!D5=30,#REF!,IF('لیستوفر هوشمند'!D5=32,#REF!,0))))))))))))))) -> #REF! | I5: =G5*H5 -> #REF! | K5: تیر طبقه 1 | V5: {=IFERROR(INDEX($D$4:$D$100,MATCH(0,COUNTIF($V$3:V4,$D$4:$D$100),0)),"")} -> 6 | X5: {=IFERROR(INDEX($K$4:$K$100,MATCH(0,COUNTIF($X$3:X4,$K$4:$K$100),0),0),0)} -> تیر طبقه 1
B6: 3 | C6: 3 | D6: 6 | E6: 1 | F6: 1.8 | G6: =F6*E6 -> 1.8 | H6: =IF(D6=6,#REF!,IF('لیستوفر هوشمند'!D6=8,#REF!,IF('لیستوفر هوشمند'!D6=10,#REF!,IF(D6=12,#REF!,IF('لیستوفر هوشمند'!D6=14,#REF!,IF('لیستوفر هوشمند'!D6=16,#REF!,IF('لیستوفر هوشمند'!D6=18,#REF!,IF('لیستوفر هوشمند'!D6=20,#REF!,IF('لیستوفر هوشمند'!D6=22,#REF!,IF('لیستوفر هوشمند'!D6=24,#REF!,IF('لیستوفر هوشمند'!D6=25,#REF!,IF('لیستوفر هوشمند'!D6=26,#REF!,IF('لیستوفر هوشمند'!D6=28,#REF!,IF('لیستوفر هوشمند'!D6=30,#REF!,IF('لیستوفر هوشمند'!D6=32,#REF!,0))))))))))))))) -> #REF! | I6: =G6*H6 -> #REF! | K6: تیر طبقه 2 | V6: {=IFERROR(INDEX($D$4:$D$100,MATCH(0,COUNTIF($V$3:V5,$D$4:$D$100),0)),"")} -> 12 | X6: {=IFERROR(INDEX($K$4:$K$100,MATCH(0,COUNTIF($X$3:X5,$K$4:$K$100),0),0),0)} -> تیر طبقه 2
B7: 4 | C7: 4 | D7: 12 | E7: 1 | F7: 1.8 | G7: =F7*E7 -> 1.8 | H7: =IF(D7=6,#REF!,IF('لیستوفر هوشمند'!D7=8,#REF!,IF('لیستوفر هوشمند'!D7=10,#REF!,IF(D7=12,#REF!,IF('لیستوفر هوشمند'!D7=14,#REF!,IF('لیستوفر هوشمند'!D7=16,#REF!,IF('لیستوفر هوشمند'!D7=18,#REF!,IF('لیستوفر هوشمند'!D7=20,#REF!,IF('لیستوفر هوشمند'!D7=22,#REF!,IF('لیستوفر هوشمند'!D7=24,#REF!,IF('لیستوفر هوشمند'!D7=25,#REF!,IF('لیستوفر هوشمند'!D7=26,#REF!,IF('لیستوفر هوشمند'!D7=28,#REF!,IF('لیستوفر هوشمند'!D7=30,#REF!,IF('لیستوفر هوشمند'!D7=32,#REF!,0))))))))))))))) -> #REF! | I7: =G7*H7 -> #REF! | K7: تیر طبقه 1 | V7: {=IFERROR(INDEX($D$4:$D$100,MATCH(0,COUNTIF($V$3:V6,$D$4:$D$100),0)),"")} -> 14 | X7: {=IFERROR(INDEX($K$4:$K$100,MATCH(0,COUNTIF($X$3:X6,$K$4:$K$100),0),0),0)} -> ستون طبقه 2
B8: 5 | C8: 5 | D8: 14 | E8: 1 | F8: 1.8 | G8: =F8*E8 -> 1.8 | H8: =IF(D8=6,#REF!,IF('لیستوفر هوشمند'!D8=8,#REF!,IF('لیستوفر هوشمند'!D8=10,#REF!,IF(D8=12,#REF!,IF('لیستوفر هوشمند'!D8=14,#REF!,IF('لیستوفر هوشمند'!D8=16,#REF!,IF('لیستوفر هوشمند'!D8=18,#REF!,IF('لیستوفر هوشمند'!D8=20,#REF!,IF('لیستوفر هوشمند'!D8=22,#REF!,IF('لیستوفر هوشمند'!D8=24,#REF!,IF('لیستوفر هوشمند'!D8=25,#REF!,IF('لیستوفر هوشمند'!D8=26,#REF!,IF('لیستوفر هوشمند'!D8=28,#REF!,IF('لیستوفر هوشمند'!D8=30,#REF!,IF('لیستوفر هوشمند'!D8=32,#REF!,0))))))))))))))) -> #REF! | I8: =G8*H8 -> #REF! | K8: ستون طبقه 2 | V8: {=IFERROR(INDEX($D$4:$D$100,MATCH(0,COUNTIF($V$3:V7,$D$4:$D$100),0)),"")} -> 16 | X8: {=IFERROR(INDEX($K$4:$K$100,MATCH(0,COUNTIF($X$3:X7,$K$4:$K$100),0),0),0)} -> سقف 1
B9: 6 | C9: 6 | D9: 16 | E9: 3 | F9: 4.5 | G9: =F9*E9 -> 13.5 | H9: =IF(D9=6,#REF!,IF('لیستوفر هوشمند'!D9=8,#REF!,IF('لیستوفر هوشمند'!D9=10,#REF!,IF(D9=12,#REF!,IF('لیستوفر هوشمند'!D9=14,#REF!,IF('لیستوفر هوشمند'!D9=16,#REF!,IF('لیستوفر هوشمند'!D9=18,#REF!,IF('لیستوفر هوشمند'!D9=20,#REF!,IF('لیستوفر هوشمند'!D9=22,#REF!,IF('لیستوفر هوشمند'!D9=24,#REF!,IF('لیستوفر هوشمند'!D9=25,#REF!,IF('لیستوفر هوشمند'!D9=26,#REF!,IF('لیستوفر هوشمند'!D9=28,#REF!,IF('لیستوفر هوشمند'!D9=30,#REF!,IF('لیستوفر هوشمند'!D9=32,#REF!,0))))))))))))))) -> #REF! | I9: =G9*H9 -> #REF! | K9: فونداسیون | V9: {=IFERROR(INDEX($D$4:$D$100,MATCH(0,COUNTIF($V$3:V8,$D$4:$D$100),0)),"")} -> 18 | X9: {=IFERROR(INDEX($K$4:$K$100,MATCH(0,COUNTIF($X$3:X8,$K$4:$K$100),0),0),0)} -> آسانسور
B10: 7 | C10: 6 | D10: 18 | E10: 3 | F10: 1.8 | G10: =F10*E10 -> 5.4 | H10: =IF(D10=6,#REF!,IF('لیستوفر هوشمند'!D10=8,#REF!,IF('لیستوفر هوشمند'!D10=10,#REF!,IF(D10=12,#REF!,IF('لیستوفر هوشمند'!D10=14,#REF!,IF('لیستوفر هوشمند'!D10=16,#REF!,IF('لیستوفر هوشمند'!D10=18,#REF!,IF('لیستوفر هوشمند'!D10=20,#REF!,IF('لیستوفر هوشمند'!D10=22,#REF!,IF('لیستوفر هوشمند'!D10=24,#REF!,IF('لیستوفر هوشمند'!D10=25,#REF!,IF('لیستوفر هوشمند'!D10=26,#REF!,IF('لیستوفر هوشمند'!D10=28,#REF!,IF('لیستوفر هوشمند'!D10=30,#REF!,IF('لیستوفر هوشمند'!D10=32,#REF!,0))))))))))))))) -> #REF! | I10: =G10*H10 -> #REF! | K10: سقف 1 | V10: {=IFERROR(INDEX($D$4:$D$100,MATCH(0,COUNTIF($V$3:V9,$D$4:$D$100),0)),"")} -> 20 | X10: {=IFERROR(INDEX($K$4:$K$100,MATCH(0,COUNTIF($X$3:X9,$K$4:$K$100),0),0),0)} -> سقف 2
B11: 8 | C11: 12 | D11: 20 | E11: 4 | F11: 1.8 | G11: =F11*E11 -> 7.2 | H11: =IF(D11=6,#REF!,IF('لیستوفر هوشمند'!D11=8,#REF!,IF('لیستوفر هوشمند'!D11=10,#REF!,IF(D11=12,#REF!,IF('لیستوفر هوشمند'!D11=14,#REF!,IF('لیستوفر هوشمند'!D11=16,#REF!,IF('لیستوفر هوشمند'!D11=18,#REF!,IF('لیستوفر هوشمند'!D11=20,#REF!,IF('لیستوفر هوشمند'!D11=22,#REF!,IF('لیستوفر هوشمند'!D11=24,#REF!,IF('لیستوفر هوشمند'!D11=25,#REF!,IF('لیستوفر هوشمند'!D11=26,#REF!,IF('لیستوفر هوشمند'!D11=28,#REF!,IF('لیستوفر هوشمند'!D11=30,#REF!,IF('لیستوفر هوشمند'!D11=32,#REF!,0))))))))))))))) -> #REF! | I11: =G11*H11 -> #REF! | K11: آسانسور | V11: {=IFERROR(INDEX($D$4:$D$100,MATCH(0,COUNTIF($V$3:V10,$D$4:$D$100),0)),"")} -> 22 | X11: {=IFERROR(INDEX($K$4:$K$100,MATCH(0,COUNTIF($X$3:X10,$K$4:$K$100),0),0),0)} -> 0
B12: 9 | C12: 6 | D12: 22 | E12: 3 | F12: 1.8 | G12: =F12*E12 -> 5.4 | H12: =IF(D12=6,#REF!,IF('لیستوفر هوشمند'!D12=8,#REF!,IF('لیستوفر هوشمند'!D12=10,#REF!,IF(D12=12,#REF!,IF('لیستوفر هوشمند'!D12=14,#REF!,IF('لیستوفر هوشمند'!D12=16,#REF!,IF('لیستوفر هوشمند'!D12=18,#REF!,IF('لیستوفر هوشمند'!D12=20,#REF!,IF('لیستوفر هوشمند'!D12=22,#REF!,IF('لیستوفر هوشمند'!D12=24,#REF!,IF('لیستوفر هوشمند'!D12=25,#REF!,IF('لیستوفر هوشمند'!D12=26,#REF!,IF('لیستوفر هوشمند'!D12=28,#REF!,IF('لیستوفر هوشمند'!D12=30,#REF!,IF('لیستوفر هوشمند'!D12=32,#REF!,0))))))))))))))) -> #REF! | I12: =G12*H12 -> #REF! | K12: سقف 2 | V12: {=IFERROR(INDEX($D$4:$D$100,MATCH(0,COUNTIF($V$3:V11,$D$4:$D$100),0)),"")} -> 24 | X12: {=IFERROR(INDEX($K$4:$K$100,MATCH(0,COUNTIF($X$3:X11,$K$4:$K$100),0),0),0)} -> 0
B13: 10 | C13: 6 | D13: 24 | E13: 5 | F13: 1.8 | G13: =F13*E13 -> 9 | H13: =IF(D13=6,#REF!,IF('لیستوفر هوشمند'!D13=8,#REF!,IF('لیستوفر هوشمند'!D13=10,#REF!,IF(D13=12,#REF!,IF('لیستوفر هوشمند'!D13=14,#REF!,IF('لیستوفر هوشمند'!D13=16,#REF!,IF('لیستوفر هوشمند'!D13=18,#REF!,IF('لیستوفر هوشمند'!D13=20,#REF!,IF('لیستوفر هوشمند'!D13=22,#REF!,IF('لیستوفر هوشمند'!D13=24,#REF!,IF('لیستوفر هوشمند'!D13=25,#REF!,IF('لیستوفر هوشمند'!D13=26,#REF!,IF('لیستوفر هوشمند'!D13=28,#REF!,IF('لیستوفر هوشمند'!D13=30,#REF!,IF('لیستوفر هوشمند'!D13=32,#REF!,0))))))))))))))) -> #REF! | I13: =G13*H13 -> #REF! | K13: سقف 1 | V13: {=IFERROR(INDEX($D$4:$D$100,MATCH(0,COUNTIF($V$3:V12,$D$4:$D$100),0)),"")} -> 25 | X13: {=IFERROR(INDEX($K$4:$K$100,MATCH(0,COUNTIF($X$3:X12,$K$4:$K$100),0),0),0)} -> 0
B14: 11 | C14: 6 | D14: 25 | E14: 6 | F14: 1.8 | G14: =F14*E14 -> 10.8 | H14: =IF(D14=6,#REF!,IF('لیستوفر هوشمند'!D14=8,#REF!,IF('لیستوفر هوشمند'!D14=10,#REF!,IF(D14=12,#REF!,IF('لیستوفر هوشمند'!D14=14,#REF!,IF('لیستوفر هوشمند'!D14=16,#REF!,IF('لیستوفر هوشمند'!D14=18,#REF!,IF('لیستوفر هوشمند'!D14=20,#REF!,IF('لیستوفر هوشمند'!D14=22,#REF!,IF('لیستوفر هوشمند'!D14=24,#REF!,IF('لیستوفر هوشمند'!D14=25,#REF!,IF('لیستوفر هوشمند'!D14=26,#REF!,IF('لیستوفر هوشمند'!D14=28,#REF!,IF('لیستوفر هوشمند'!D14=30,#REF!,IF('لیستوفر هوشمند'!D14=32,#REF!,0))))))))))))))) -> #REF! | I14: =G14*H14 -> #REF! | K14: تیر طبقه 1 | V14: {=IFERROR(INDEX($D$4:$D$100,MATCH(0,COUNTIF($V$3:V13,$D$4:$D$100),0)),"")} -> 26 | X14: {=IFERROR(INDEX($K$4:$K$100,MATCH(0,COUNTIF($X$3:X13,$K$4:$K$100),0),0),0)} -> 0
B15: 12 | C15: 6 | D15: 26 | E15: 0 | F15: 1.8 | G15: =F15*E15 -> 0 | H15: =IF(D15=6,#REF!,IF('لیستوفر هوشمند'!D15=8,#REF!,IF('لیستوفر هوشمند'!D15=10,#REF!,IF(D15=12,#REF!,IF('لیستوفر هوشمند'!D15=14,#REF!,IF('لیستوفر هوشمند'!D15=16,#REF!,IF('لیستوفر هوشمند'!D15=18,#REF!,IF('لیستوفر هوشمند'!D15=20,#REF!,IF('لیستوفر هوشمند'!D15=22,#REF!,IF('لیستوفر هوشمند'!D15=24,#REF!,IF('لیستوفر هوشمند'!D15=25,#REF!,IF('لیستوفر هوشمند'!D15=26,#REF!,IF('لیستوفر هوشمند'!D15=28,#REF!,IF('لیستوفر هوشمند'!D15=30,#REF!,IF('لیستوفر هوشمند'!D15=32,#REF!,0))))))))))))))) -> #REF! | I15: =G15*H15 -> #REF! | K15: تیر طبقه 1 | V15: {=IFERROR(INDEX($D$4:$D$100,MATCH(0,COUNTIF($V$3:V14,$D$4:$D$100),0)),"")} -> 28 | X15: {=IFERROR(INDEX($K$4:$K$100,MATCH(0,COUNTIF($X$3:X14,$K$4:$K$100),0),0),0)} -> 0
B16: 13 | C16: 5 | D16: 28 | E16: 0 | F16: 1.8 | G16: =F16*E16 -> 0 | H16: =IF(D16=6,#REF!,IF('لیستوفر هوشمند'!D16=8,#REF!,IF('لیستوفر هوشمند'!D16=10,#REF!,IF(D16=12,#REF!,IF('لیستوفر هوشمند'!D16=14,#REF!,IF('لیستوفر هوشمند'!D16=16,#REF!,IF('لیستوفر هوشمند'!D16=18,#REF!,IF('لیستوفر هوشمند'!D16=20,#REF!,IF('لیستوفر هوشمند'!D16=22,#REF!,IF('لیستوفر هوشمند'!D16=24,#REF!,IF('لیستوفر هوشمند'!D16=25,#REF!,IF('لیستوفر هوشمند'!D16=26,#REF!,IF('لیستوفر هوشمند'!D16=28,#REF!,IF('لیستوفر هوشمند'!D16=30,#REF!,IF('لیستوفر هوشمند'!D16=32,#REF!,0))))))))))))))) -> #REF! | I16: =G16*H16 -> #REF! | K16: فونداسیون | V16: {=IFERROR(INDEX($D$4:$D$100,MATCH(0,COUNTIF($V$3:V15,$D$4:$D$100),0)),"")} -> 30 | X16: {=IFERROR(INDEX($K$4:$K$100,MATCH(0,COUNTIF($X$3:X15,$K$4:$K$100),0),0),0)} -> 0
B17: 14 | C17: 6 | D17: 30 | E17: 0 | F17: 1.8 | G17: =F17*E17 -> 0 | H17: =IF(D17=6,#REF!,IF('لیستوفر هوشمند'!D17=8,#REF!,IF('لیستوفر هوشمند'!D17=10,#REF!,IF(D17=12,#REF!,IF('لیستوفر هوشمند'!D17=14,#REF!,IF('لیستوفر هوشمند'!D17=16,#REF!,IF('لیستوفر هوشمند'!D17=18,#REF!,IF('لیستوفر هوشمند'!D17=20,#REF!,IF('لیستوفر هوشمند'!D17=22,#REF!,IF('لیستوفر هوشمند'!D17=24,#REF!,IF('لیستوفر هوشمند'!D17=25,#REF!,IF('لیستوفر هوشمند'!D17=26,#REF!,IF('لیستوفر هوشمند'!D17=28,#REF!,IF('لیستوفر هوشمند'!D17=30,#REF!,IF('لیستوفر هوشمند'!D17=32,#REF!,0))))))))))))))) -> #REF! | I17: =G17*H17 -> #REF! | V17: {=IFERROR(INDEX($D$4:$D$100,MATCH(0,COUNTIF($V$3:V16,$D$4:$D$100),0)),"")} -> 32 | X17: {=IFERROR(INDEX($K$4:$K$100,MATCH(0,COUNTIF($X$3:X16,$K$4:$K$100),0),0),0)} -> 0
B18: 15 | C18: 6 | D18: 32 | E18: 5 | F18: 6.5 | G18: =F18*E18 -> 32.5 | H18: =IF(D18=6,#REF!,IF('لیستوفر هوشمند'!D18=8,#REF!,IF('لیستوفر هوشمند'!D18=10,#REF!,IF(D18=12,#REF!,IF('لیستوفر هوشمند'!D18=14,#REF!,IF('لیستوفر هوشمند'!D18=16,#REF!,IF('لیستوفر هوشمند'!D18=18,#REF!,IF('لیستوفر هوشمند'!D18=20,#REF!,IF('لیستوفر هوشمند'!D18=22,#REF!,IF('لیستوفر هوشمند'!D18=24,#REF!,IF('لیستوفر هوشمند'!D18=25,#REF!,IF('لیستوفر هوشمند'!D18=26,#REF!,IF('لیستوفر هوشمند'!D18=28,#REF!,IF('لیستوفر هوشمند'!D18=30,#REF!,IF('لیستوفر هوشمند'!D18=32,#REF!,0))))))))))))))) -> #REF! | I18: =G18*H18 -> #REF! | V18: {=IFERROR(INDEX($D$4:$D$100,MATCH(0,COUNTIF($V$3:V17,$D$4:$D$100),0)),"")} -> 0 | X18: {=IFERROR(INDEX($K$4:$K$100,MATCH(0,COUNTIF($X$3:X17,$K$4:$K$100),0),0),0)} -> 0
B19: 16 | C19: 6 | D19: 8 | E19: 0 | F19: 1.8 | G19: =F19*E19 -> 0 | H19: =IF(D19=6,#REF!,IF('لیستوفر هوشمند'!D19=8,#REF!,IF('لیستوفر هوشمند'!D19=10,#REF!,IF(D19=12,#REF!,IF('لیستوفر هوشمند'!D19=14,#REF!,IF('لیستوفر هوشمند'!D19=16,#REF!,IF('لیستوفر هوشمند'!D19=18,#REF!,IF('لیستوفر هوشمند'!D19=20,#REF!,IF('لیستوفر هوشمند'!D19=22,#REF!,IF('لیستوفر هوشمند'!D19=24,#REF!,IF('لیستوفر هوشمند'!D19=25,#REF!,IF('لیستوفر هوشمند'!D19=26,#REF!,IF('لیستوفر هوشمند'!D19=28,#REF!,IF('لیستوفر هوشمند'!D19=30,#REF!,IF('لیستوفر هوشمند'!D19=32,#REF!,0))))))))))))))) -> #REF! | I19: =G19*H19 -> #REF! | V19: {=IFERROR(INDEX($D$4:$D$100,MATCH(0,COUNTIF($V$3:V18,$D$4:$D$100),0)),"")} | X19: {=IFERROR(INDEX($K$4:$K$100,MATCH(0,COUNTIF($X$3:X18,$K$4:$K$100),0),0),0)} -> 0
B20: 17 | C20: 6 | D20: 6 | E20: 0 | F20: 1.8 | G20: =F20*E20 -> 0 | H20: =IF(D20=6,#REF!,IF('لیستوفر هوشمند'!D20=8,#REF!,IF('لیستوفر هوشمند'!D20=10,#REF!,IF(D20=12,#REF!,IF('لیستوفر هوشمند'!D20=14,#REF!,IF('لیستوفر هوشمند'!D20=16,#REF!,IF('لیستوفر هوشمند'!D20=18,#REF!,IF('لیستوفر هوشمند'!D20=20,#REF!,IF('لیستوفر هوشمند'!D20=22,#REF!,IF('لیستوفر هوشمند'!D20=24,#REF!,IF('لیستوفر هوشمند'!D20=25,#REF!,IF('لیستوفر هوشمند'!D20=26,#REF!,IF('لیستوفر هوشمند'!D20=28,#REF!,IF('لیستوفر هوشمند'!D20=30,#REF!,IF('لیستوفر هوشمند'!D20=32,#REF!,0))))))))))))))) -> #REF! | I20: =G20*H20 -> #REF! | V20: {=IFERROR(INDEX($D$4:$D$100,MATCH(0,COUNTIF($V$3:V19,$D$4:$D$100),0)),"")} | X20: {=IFERROR(INDEX($K$4:$K$100,MATCH(0,COUNTIF($X$3:X19,$K$4:$K$100),0),0),0)} -> 0
B21: 18 | C21: 6 | D21: 12 | E21: 0 | F21: 1.8 | G21: =F21*E21 -> 0 | H21: =IF(D21=6,#REF!,IF('لیستوفر هوشمند'!D21=8,#REF!,IF('لیستوفر هوشمند'!D21=10,#REF!,IF(D21=12,#REF!,IF('لیستوفر هوشمند'!D21=14,#REF!,IF('لیستوفر هوشمند'!D21=16,#REF!,IF('لیستوفر هوشمند'!D21=18,#REF!,IF('لیستوفر هوشمند'!D21=20,#REF!,IF('لیستوفر هوشمند'!D21=22,#REF!,IF('لیستوفر هوشمند'!D21=24,#REF!,IF('لیستوفر هوشمند'!D21=25,#REF!,IF('لیستوفر هوشمند'!D21=26,#REF!,IF('لیستوفر هوشمند'!D21=28,#REF!,IF('لیستوفر هوشمند'!D21=30,#REF!,IF('لیستوفر هوشمند'!D21=32,#REF!,0))))))))))))))) -> #REF! | I21: =G21*H21 -> #REF! | V21: {=IFERROR(INDEX($D$4:$D$100,MATCH(0,COUNTIF($V$3:V20,$D$4:$D$100),0)),"")} | X21: {=IFERROR(INDEX($K$4:$K$100,MATCH(0,COUNTIF($X$3:X20,$K$4:$K$100),0),0),0)} -> 0
B22: 19 | C22: 6 | E22: 0 | F22: 1.8 | G22: =F22*E22 -> 0 | H22: =IF(D22=6,#REF!,IF('لیستوفر هوشمند'!D22=8,#REF!,IF('لیستوفر هوشمند'!D22=10,#REF!,IF(D22=12,#REF!,IF('لیستوفر هوشمند'!D22=14,#REF!,IF('لیستوفر هوشمند'!D22=16,#REF!,IF('لیستوفر هوشمند'!D22=18,#REF!,IF('لیستوفر هوشمند'!D22=20,#REF!,IF('لیستوفر هوشمند'!D22=22,#REF!,IF('لیستوفر هوشمند'!D22=24,#REF!,IF('لیستوفر هوشمند'!D22=25,#REF!,IF('لیستوفر هوشمند'!D22=26,#REF!,IF('لیستوفر هوشمند'!D22=28,#REF!,IF('لیستوفر هوشمند'!D22=30,#REF!,IF('لیستوفر هوشمند'!D22=32,#REF!,0))))))))))))))) -> 0 | I22: =G22*H22 -> 0 | V22: {=IFERROR(INDEX($D$4:$D$100,MATCH(0,COUNTIF($V$3:V21,$D$4:$D$100),0)),"")} | X22: {=IFERROR(INDEX($K$4:$K$100,MATCH(0,COUNTIF($X$3:X21,$K$4:$K$100),0),0),0)} -> 0
B23: 20 | C23: 6 | E23: 0 | F23: 1.8 | G23: =F23*E23 -> 0 | H23: =IF(D23=6,#REF!,IF('لیستوفر هوشمند'!D23=8,#REF!,IF('لیستوفر هوشمند'!D23=10,#REF!,IF(D23=12,#REF!,IF('لیستوفر هوشمند'!D23=14,#REF!,IF('لیستوفر هوشمند'!D23=16,#REF!,IF('لیستوفر هوشمند'!D23=18,#REF!,IF('لیستوفر هوشمند'!D23=20,#REF!,IF('لیستوفر هوشمند'!D23=22,#REF!,IF('لیستوفر هوشمند'!D23=24,#REF!,IF('لیستوفر هوشمند'!D23=25,#REF!,IF('لیستوفر هوشمند'!D23=26,#REF!,IF('لیستوفر هوشمند'!D23=28,#REF!,IF('لیستوفر هوشمند'!D23=30,#REF!,IF('لیستوفر هوشمند'!D23=32,#REF!,0))))))))))))))) -> 0 | I23: =G23*H23 -> 0 | V23: {=IFERROR(INDEX($D$4:$D$100,MATCH(0,COUNTIF(#REF!,$D$4:$D$100),0)),"")} | X23: {=IFERROR(INDEX($K$4:$K$100,MATCH(0,COUNTIF($X$3:X22,$K$4:$K$100),0),0),0)} -> 0
B24: 21 | C24: 6 | E24: 0 | F24: 1.8 | G24: =F24*E24 -> 0 | H24: =IF(D24=6,#REF!,IF('لیستوفر هوشمند'!D24=8,#REF!,IF('لیستوفر هوشمند'!D24=10,#REF!,IF(D24=12,#REF!,IF('لیستوفر هوشمند'!D24=14,#REF!,IF('لیستوفر هوشمند'!D24=16,#REF!,IF('لیستوفر هوشمند'!D24=18,#REF!,IF('لیستوفر هوشمند'!D24=20,#REF!,IF('لیستوفر هوشمند'!D24=22,#REF!,IF('لیستوفر هوشمند'!D24=24,#REF!,IF('لیستوفر هوشمند'!D24=25,#REF!,IF('لیستوفر هوشمند'!D24=26,#REF!,IF('لیستوفر هوشمند'!D24=28,#REF!,IF('لیستوفر هوشمند'!D24=30,#REF!,IF('لیستوفر هوشمند'!D24=32,#REF!,0))))))))))))))) -> 0 | I24: =G24*H24 -> 0 | V24: {=IFERROR(INDEX($D$4:$D$100,MATCH(0,COUNTIF(#REF!,$D$4:$D$100),0)),"")} | X24: {=IFERROR(INDEX($K$4:$K$100,MATCH(0,COUNTIF($X$3:X23,$K$4:$K$100),0),0),0)} -> 0
B25: 22 | C25: 6 | E25: 0 | F25: 1.8 | G25: =F25*E25 -> 0 | H25: =IF(D25=6,#REF!,IF('لیستوفر هوشمند'!D25=8,#REF!,IF('لیستوفر هوشمند'!D25=10,#REF!,IF(D25=12,#REF!,IF('لیستوفر هوشمند'!D25=14,#REF!,IF('لیستوفر هوشمند'!D25=16,#REF!,IF('لیستوفر هوشمند'!D25=18,#REF!,IF('لیستوفر هوشمند'!D25=20,#REF!,IF('لیستوفر هوشمند'!D25=22,#REF!,IF('لیستوفر هوشمند'!D25=24,#REF!,IF('لیستوفر هوشمند'!D25=25,#REF!,IF('لیستوفر هوشمند'!D25=26,#REF!,IF('لیستوفر هوشمند'!D25=28,#REF!,IF('لیستوفر هوشمند'!D25=30,#REF!,IF('لیستوفر هوشمند'!D25=32,#REF!,0))))))))))))))) -> 0 | I25: =G25*H25 -> 0 | V25: {=IFERROR(INDEX($D$4:$D$100,MATCH(0,COUNTIF(#REF!,$D$4:$D$100),0)),"")} | X25: {=IFERROR(INDEX($K$4:$K$100,MATCH(0,COUNTIF($X$3:X24,$K$4:$K$100),0),0),0)} -> 0
B26: 23 | C26: 6 | E26: 0 | F26: 1.8 | G26: =F26*E26 -> 0 | H26: =IF(D26=6,#REF!,IF('لیستوفر هوشمند'!D26=8,#REF!,IF('لیستوفر هوشمند'!D26=10,#REF!,IF(D26=12,#REF!,IF('لیستوفر هوشمند'!D26=14,#REF!,IF('لیستوفر هوشمند'!D26=16,#REF!,IF('لیستوفر هوشمند'!D26=18,#REF!,IF('لیستوفر هوشمند'!D26=20,#REF!,IF('لیستوفر هوشمند'!D26=22,#REF!,IF('لیستوفر هوشمند'!D26=24,#REF!,IF('لیستوفر هوشمند'!D26=25,#REF!,IF('لیستوفر هوشمند'!D26=26,#REF!,IF('لیستوفر هوشمند'!D26=28,#REF!,IF('لیستوفر هوشمند'!D26=30,#REF!,IF('لیستوفر هوشمند'!D26=32,#REF!,0))))))))))))))) -> 0 | I26: =G26*H26 -> 0 | V26: {=IFERROR(INDEX($D$4:$D$100,MATCH(0,COUNTIF(#REF!,$D$4:$D$100),0)),"")} | X26: {=IFERROR(INDEX($K$4:$K$100,MATCH(0,COUNTIF($X$3:X25,$K$4:$K$100),0),0),0)} -> 0
B27: 24 | C27: 6 | E27: 0 | F27: 1.8 | G27: =F27*E27 -> 0 | H27: =IF(D27=6,#REF!,IF('لیستوفر هوشمند'!D27=8,#REF!,IF('لیستوفر هوشمند'!D27=10,#REF!,IF(D27=12,#REF!,IF('لیستوفر هوشمند'!D27=14,#REF!,IF('لیستوفر هوشمند'!D27=16,#REF!,IF('لیستوفر هوشمند'!D27=18,#REF!,IF('لیستوفر هوشمند'!D27=20,#REF!,IF('لیستوفر هوشمند'!D27=22,#REF!,IF('لیستوفر هوشمند'!D27=24,#REF!,IF('لیستوفر هوشمند'!D27=25,#REF!,IF('لیستوفر هوشمند'!D27=26,#REF!,IF('لیستوفر هوشمند'!D27=28,#REF!,IF('لیستوفر هوشمند'!D27=30,#REF!,IF('لیستوفر هوشمند'!D27=32,#REF!,0))))))))))))))) -> 0 | I27: =G27*H27 -> 0 | V27: {=IFERROR(INDEX($D$4:$D$100,MATCH(0,COUNTIF(#REF!,$D$4:$D$100),0)),"")} | X27: {=IFERROR(INDEX($K$4:$K$100,MATCH(0,COUNTIF($X$3:X26,$K$4:$K$100),0),0),0)} -> 0
B28: 25 | C28: 6 | E28: 0 | F28: 1.8 | G28: =F28*E28 -> 0 | H28: =IF(D28=6,#REF!,IF('لیستوفر هوشمند'!D28=8,#REF!,IF('لیستوفر هوشمند'!D28=10,#REF!,IF(D28=12,#REF!,IF('لیستوفر هوشمند'!D28=14,#REF!,IF('لیستوفر هوشمند'!D28=16,#REF!,IF('لیستوفر هوشمند'!D28=18,#REF!,IF('لیستوفر هوشمند'!D28=20,#REF!,IF('لیستوفر هوشمند'!D28=22,#REF!,IF('لیستوفر هوشمند'!D28=24,#REF!,IF('لیستوفر هوشمند'!D28=25,#REF!,IF('لیستوفر هوشمند'!D28=26,#REF!,IF('لیستوفر هوشمند'!D28=28,#REF!,IF('لیستوفر هوشمند'!D28=30,#REF!,IF('لیستوفر هوشمند'!D28=32,#REF!,0))))))))))))))) -> 0 | I28: =G28*H28 -> 0 | V28: {=IFERROR(INDEX($D$4:$D$100,MATCH(0,COUNTIF(#REF!,$D$4:$D$100),0)),"")} | X28: {=IFERROR(INDEX($K$4:$K$100,MATCH(0,COUNTIF($X$3:X27,$K$4:$K$100),0),0),0)} -> 0
B29: 26 | C29: 6 | E29: 0 | F29: 1.8 | G29: =F29*E29 -> 0 | H29: =IF(D29=6,#REF!,IF('لیستوفر هوشمند'!D29=8,#REF!,IF('لیستوفر هوشمند'!D29=10,#REF!,IF(D29=12,#REF!,IF('لیستوفر هوشمند'!D29=14,#REF!,IF('لیستوفر هوشمند'!D29=16,#REF!,IF('لیستوفر هوشمند'!D29=18,#REF!,IF('لیستوفر هوشمند'!D29=20,#REF!,IF('لیستوفر هوشمند'!D29=22,#REF!,IF('لیستوفر هوشمند'!D29=24,#REF!,IF('لیستوفر هوشمند'!D29=25,#REF!,IF('لیستوفر هوشمند'!D29=26,#REF!,IF('لیستوفر هوشمند'!D29=28,#REF!,IF('لیستوفر هوشمند'!D29=30,#REF!,IF('لیستوفر هوشمند'!D29=32,#REF!,0))))))))))))))) -> 0 | I29: =G29*H29 -> 0 | V29: {=IFERROR(INDEX($D$4:$D$100,MATCH(0,COUNTIF(#REF!,$D$4:$D$100),0)),"")} | X29: {=IFERROR(INDEX($K$4:$K$100,MATCH(0,COUNTIF($X$3:X28,$K$4:$K$100),0),0),0)} -> 0
B30: 27 | C30: 6 | E30: 0 | F30: 1.8 | G30: =F30*E30 -> 0 | H30: =IF(D30=6,#REF!,IF('لیستوفر هوشمند'!D30=8,#REF!,IF('لیستوفر هوشمند'!D30=10,#REF!,IF(D30=12,#REF!,IF('لیستوفر هوشمند'!D30=14,#REF!,IF('لیستوفر هوشمند'!D30=16,#REF!,IF('لیستوفر هوشمند'!D30=18,#REF!,IF('لیستوفر هوشمند'!D30=20,#REF!,IF('لیستوفر هوشمند'!D30=22,#REF!,IF('لیستوفر هوشمند'!D30=24,#REF!,IF('لیستوفر هوشمند'!D30=25,#REF!,IF('لیستوفر هوشمند'!D30=26,#REF!,IF('لیستوفر هوشمند'!D30=28,#REF!,IF('لیستوفر هوشمند'!D30=30,#REF!,IF('لیستوفر هوشمند'!D30=32,#REF!,0))))))))))))))) -> 0 | I30: =G30*H30 -> 0 | V30: {=IFERROR(INDEX($D$4:$D$100,MATCH(0,COUNTIF(#REF!,$D$4:$D$100),0)),"")} | X30: {=IFERROR(INDEX($K$4:$K$100,MATCH(0,COUNTIF($X$3:X29,$K$4:$K$100),0),0),0)} -> 0
B31: 28 | C31: 6 | E31: 0 | F31: 1.8 | G31: =F31*E31 -> 0 | H31: =IF(D31=6,#REF!,IF('لیستوفر هوشمند'!D31=8,#REF!,IF('لیستوفر هوشمند'!D31=10,#REF!,IF(D31=12,#REF!,IF('لیستوفر هوشمند'!D31=14,#REF!,IF('لیستوفر هوشمند'!D31=16,#REF!,IF('لیستوفر هوشمند'!D31=18,#REF!,IF('لیستوفر هوشمند'!D31=20,#REF!,IF('لیستوفر هوشمند'!D31=22,#REF!,IF('لیستوفر هوشمند'!D31=24,#REF!,IF('لیستوفر هوشمند'!D31=25,#REF!,IF('لیستوفر هوشمند'!D31=26,#REF!,IF('لیستوفر هوشمند'!D31=28,#REF!,IF('لیستوفر هوشمند'!D31=30,#REF!,IF('لیستوفر هوشمند'!D31=32,#REF!,0))))))))))))))) -> 0 | I31: =G31*H31 -> 0 | V31: {=IFERROR(INDEX($D$4:$D$100,MATCH(0,COUNTIF(#REF!,$D$4:$D$100),0)),"")} | X31: {=IFERROR(INDEX($K$4:$K$100,MATCH(0,COUNTIF($X$3:X30,$K$4:$K$100),0),0),0)} -> 0
B32: 29 | C32: 6 | E32: 0 | F32: 1.8 | G32: =F32*E32 -> 0 | H32: =IF(D32=6,#REF!,IF('لیستوفر هوشمند'!D32=8,#REF!,IF('لیستوفر هوشمند'!D32=10,#REF!,IF(D32=12,#REF!,IF('لیستوفر هوشمند'!D32=14,#REF!,IF('لیستوفر هوشمند'!D32=16,#REF!,IF('لیستوفر هوشمند'!D32=18,#REF!,IF('لیستوفر هوشمند'!D32=20,#REF!,IF('لیستوفر هوشمند'!D32=22,#REF!,IF('لیستوفر هوشمند'!D32=24,#REF!,IF('لیستوفر هوشمند'!D32=25,#REF!,IF('لیستوفر هوشمند'!D32=26,#REF!,IF('لیستوفر هوشمند'!D32=28,#REF!,IF('لیستوفر هوشمند'!D32=30,#REF!,IF('لیستوفر هوشمند'!D32=32,#REF!,0))))))))))))))) -> 0 | I32: =G32*H32 -> 0 | V32: {=IFERROR(INDEX($D$4:$D$100,MATCH(0,COUNTIF(#REF!,$D$4:$D$100),0)),"")} | X32: {=IFERROR(INDEX($K$4:$K$100,MATCH(0,COUNTIF($X$3:X31,$K$4:$K$100),0),0),0)} -> 0
B33: 30 | C33: 6 | E33: 0 | F33: 1.8 | G33: =F33*E33 -> 0 | H33: =IF(D33=6,#REF!,IF('لیستوفر هوشمند'!D33=8,#REF!,IF('لیستوفر هوشمند'!D33=10,#REF!,IF(D33=12,#REF!,IF('لیستوفر هوشمند'!D33=14,#REF!,IF('لیستوفر هوشمند'!D33=16,#REF!,IF('لیستوفر هوشمند'!D33=18,#REF!,IF('لیستوفر هوشمند'!D33=20,#REF!,IF('لیستوفر هوشمند'!D33=22,#REF!,IF('لیستوفر هوشمند'!D33=24,#REF!,IF('لیستوفر هوشمند'!D33=25,#REF!,IF('لیستوفر هوشمند'!D33=26,#REF!,IF('لیستوفر هوشمند'!D33=28,#REF!,IF('لیستوفر هوشمند'!D33=30,#REF!,IF('لیستوفر هوشمند'!D33=32,#REF!,0))))))))))))))) -> 0 | I33: =G33*H33 -> 0 | V33: {=IFERROR(INDEX($D$4:$D$100,MATCH(0,COUNTIF(#REF!,$D$4:$D$100),0)),"")} | X33: {=IFERROR(INDEX($K$4:$K$100,MATCH(0,COUNTIF($X$3:X32,$K$4:$K$100),0),0),0)} -> 0
B34: 31 | C34: 6 | E34: 0 | F34: 1.8 | G34: =F34*E34 -> 0 | H34: =IF(D34=6,#REF!,IF('لیستوفر هوشمند'!D34=8,#REF!,IF('لیستوفر هوشمند'!D34=10,#REF!,IF(D34=12,#REF!,IF('لیستوفر هوشمند'!D34=14,#REF!,IF('لیستوفر هوشمند'!D34=16,#REF!,IF('لیستوفر هوشمند'!D34=18,#REF!,IF('لیستوفر هوشمند'!D34=20,#REF!,IF('لیستوفر هوشمند'!D34=22,#REF!,IF('لیستوفر هوشمند'!D34=24,#REF!,IF('لیستوفر هوشمند'!D34=25,#REF!,IF('لیستوفر هوشمند'!D34=26,#REF!,IF('لیستوفر هوشمند'!D34=28,#REF!,IF('لیستوفر هوشمند'!D34=30,#REF!,IF('لیستوفر هوشمند'!D34=32,#REF!,0))))))))))))))) -> 0 | I34: =G34*H34 -> 0 | V34: {=IFERROR(INDEX($D$4:$D$100,MATCH(0,COUNTIF(#REF!,$D$4:$D$100),0)),"")} | X34: {=IFERROR(INDEX($K$4:$K$100,MATCH(0,COUNTIF($X$3:X33,$K$4:$K$100),0),0),0)} -> 0
... B66: 63 | C66: 6 | E66: 0 | F66: 1.8 | G66: =F66*E66 -> 0 | H66: =IF(D66=6,#REF!,IF('لیستوفر هوشمند'!D66=8,#REF!,IF('لیستوفر هوشمند'!D66=10,#REF!,IF(D66=12,#REF!,IF('لیستوفر هوشمند'!D66=14,#REF!,IF('لیستوفر هوشمند'!D66=16,#REF!,IF('لیستوفر هوشمند'!D66=18,#REF!,IF('لیستوفر هوشمند'!D66=20,#REF!,IF('لیستوفر هوشمند'!D66=22,#REF!,IF('لیستوفر هوشمند'!D66=24,#REF!,IF('لیستوفر هوشمند'!D66=25,#REF!,IF('لیستوفر هوشمند'!D66=26,#REF!,IF('لیستوفر هوشمند'!D66=28,#REF!,IF('لیستوفر هوشمند'!D66=30,#REF!,IF('لیستوفر هوشمند'!D66=32,#REF!,0))))))))))))))) -> 0 | I66: =G66*H66 -> 0 | V66: {=IFERROR(INDEX($D$4:$D$100,MATCH(0,COUNTIF(#REF!,$D$4:$D$100),0)),"")} | X66: {=IFERROR(INDEX($K$4:$K$100,MATCH(0,COUNTIF($X$3:X65,$K$4:$K$100),0),0),0)} -> 0
B67: 64 | C67: 6 | E67: 0 | F67: 1.8 | G67: =F67*E67 -> 0 | H67: =IF(D67=6,#REF!,IF('لیستوفر هوشمند'!D67=8,#REF!,IF('لیستوفر هوشمند'!D67=10,#REF!,IF(D67=12,#REF!,IF('لیستوفر هوشمند'!D67=14,#REF!,IF('لیستوفر هوشمند'!D67=16,#REF!,IF('لیستوفر هوشمند'!D67=18,#REF!,IF('لیستوفر هوشمند'!D67=20,#REF!,IF('لیستوفر هوشمند'!D67=22,#REF!,IF('لیستوفر هوشمند'!D67=24,#REF!,IF('لیستوفر هوشمند'!D67=25,#REF!,IF('لیستوفر هوشمند'!D67=26,#REF!,IF('لیستوفر هوشمند'!D67=28,#REF!,IF('لیستوفر هوشمند'!D67=30,#REF!,IF('لیستوفر هوشمند'!D67=32,#REF!,0))))))))))))))) -> 0 | I67: =G67*H67 -> 0 | V67: {=IFERROR(INDEX($D$4:$D$100,MATCH(0,COUNTIF($V1:V$3,$D$4:$D$100),0)),"")} -> 8 | X67: {=IFERROR(INDEX($K$4:$K$100,MATCH(0,COUNTIF($X$3:X66,$K$4:$K$100),0),0),0)} -> 0
B68: 65 | C68: 6 | E68: 0 | F68: 1.8 | G68: =F68*E68 -> 0 | H68: =IF(D68=6,#REF!,IF('لیستوفر هوشمند'!D68=8,#REF!,IF('لیستوفر هوشمند'!D68=10,#REF!,IF(D68=12,#REF!,IF('لیستوفر هوشمند'!D68=14,#REF!,IF('لیستوفر هوشمند'!D68=16,#REF!,IF('لیستوفر هوشمند'!D68=18,#REF!,IF('لیستوفر هوشمند'!D68=20,#REF!,IF('لیستوفر هوشمند'!D68=22,#REF!,IF('لیستوفر هوشمند'!D68=24,#REF!,IF('لیستوفر هوشمند'!D68=25,#REF!,IF('لیستوفر هوشمند'!D68=26,#REF!,IF('لیستوفر هوشمند'!D68=28,#REF!,IF('لیستوفر هوشمند'!D68=30,#REF!,IF('لیستوفر هوشمند'!D68=32,#REF!,0))))))))))))))) -> 0 | I68: =G68*H68 -> 0 | V68: {=IFERROR(INDEX($D$4:$D$100,MATCH(0,COUNTIF($V2:V$3,$D$4:$D$100),0)),"")} -> 8 | X68: {=IFERROR(INDEX($K$4:$K$100,MATCH(0,COUNTIF($X$3:X67,$K$4:$K$100),0),0),0)} -> 0
B69: 66 | C69: 6 | E69: 0 | F69: 1.8 | G69: =F69*E69 -> 0 | H69: =IF(D69=6,#REF!,IF('لیستوفر هوشمند'!D69=8,#REF!,IF('لیستوفر هوشمند'!D69=10,#REF!,IF(D69=12,#REF!,IF('لیستوفر هوشمند'!D69=14,#REF!,IF('لیستوفر هوشمند'!D69=16,#REF!,IF('لیستوفر هوشمند'!D69=18,#REF!,IF('لیستوفر هوشمند'!D69=20,#REF!,IF('لیستوفر هوشمند'!D69=22,#REF!,IF('لیستوفر هوشمند'!D69=24,#REF!,IF('لیستوفر هوشمند'!D69=25,#REF!,IF('لیستوفر هوشمند'!D69=26,#REF!,IF('لیستوفر هوشمند'!D69=28,#REF!,IF('لیستوفر هوشمند'!D69=30,#REF!,IF('لیستوفر هوشمند'!D69=32,#REF!,0))))))))))))))) -> 0 | I69: =G69*H69 -> 0 | V69: {=IFERROR(INDEX($D$4:$D$100,MATCH(0,COUNTIF($V$3:V3,$D$4:$D$100),0)),"")} -> 8 | X69: {=IFERROR(INDEX($K$4:$K$100,MATCH(0,COUNTIF($X$3:X68,$K$4:$K$100),0),0),0)} -> 0
B70: 67 | C70: 6 | E70: 0 | F70: 1.8 | G70: =F70*E70 -> 0 | H70: =IF(D70=6,#REF!,IF('لیستوفر هوشمند'!D70=8,#REF!,IF('لیستوفر هوشمند'!D70=10,#REF!,IF(D70=12,#REF!,IF('لیستوفر هوشمند'!D70=14,#REF!,IF('لیستوفر هوشمند'!D70=16,#REF!,IF('لیستوفر هوشمند'!D70=18,#REF!,IF('لیستوفر هوشمند'!D70=20,#REF!,IF('لیستوفر هوشمند'!D70=22,#REF!,IF('لیستوفر هوشمند'!D70=24,#REF!,IF('لیستوفر هوشمند'!D70=25,#REF!,IF('لیستوفر هوشمند'!D70=26,#REF!,IF('لیستوفر هوشمند'!D70=28,#REF!,IF('لیستوفر هوشمند'!D70=30,#REF!,IF('لیستوفر هوشمند'!D70=32,#REF!,0))))))))))))))) -> 0 | I70: =G70*H70 -> 0 | V70: {=IFERROR(INDEX($D$4:$D$100,MATCH(0,COUNTIF($V$3:V4,$D$4:$D$100),0)),"")} -> 6 | X70: {=IFERROR(INDEX($K$4:$K$100,MATCH(0,COUNTIF($X$3:X69,$K$4:$K$100),0),0),0)} -> 0
B71: 68 | C71: 6 | E71: 0 | F71: 1.8 | G71: =F71*E71 -> 0 | H71: =IF(D71=6,#REF!,IF('لیستوفر هوشمند'!D71=8,#REF!,IF('لیستوفر هوشمند'!D71=10,#REF!,IF(D71=12,#REF!,IF('لیستوفر هوشمند'!D71=14,#REF!,IF('لیستوفر هوشمند'!D71=16,#REF!,IF('لیستوفر هوشمند'!D71=18,#REF!,IF('لیستوفر هوشمند'!D71=20,#REF!,IF('لیستوفر هوشمند'!D71=22,#REF!,IF('لیستوفر هوشمند'!D71=24,#REF!,IF('لیستوفر هوشمند'!D71=25,#REF!,IF('لیستوفر هوشمند'!D71=26,#REF!,IF('لیستوفر هوشمند'!D71=28,#REF!,IF('لیستوفر هوشمند'!D71=30,#REF!,IF('لیستوفر هوشمند'!D71=32,#REF!,0))))))))))))))) -> 0 | I71: =G71*H71 -> 0 | V71: {=IFERROR(INDEX($D$4:$D$100,MATCH(0,COUNTIF($V$3:V5,$D$4:$D$100),0)),"")} -> 12 | X71: {=IFERROR(INDEX($K$4:$K$100,MATCH(0,COUNTIF($X$3:X70,$K$4:$K$100),0),0),0)} -> 0
B72: 69 | C72: 6 | E72: 0 | F72: 1.8 | G72: =F72*E72 -> 0 | H72: =IF(D72=6,#REF!,IF('لیستوفر هوشمند'!D72=8,#REF!,IF('لیستوفر هوشمند'!D72=10,#REF!,IF(D72=12,#REF!,IF('لیستوفر هوشمند'!D72=14,#REF!,IF('لیستوفر هوشمند'!D72=16,#REF!,IF('لیستوفر هوشمند'!D72=18,#REF!,IF('لیستوفر هوشمند'!D72=20,#REF!,IF('لیستوفر هوشمند'!D72=22,#REF!,IF('لیستوفر هوشمند'!D72=24,#REF!,IF('لیستوفر هوشمند'!D72=25,#REF!,IF('لیستوفر هوشمند'!D72=26,#REF!,IF('لیستوفر هوشمند'!D72=28,#REF!,IF('لیستوفر هوشمند'!D72=30,#REF!,IF('لیستوفر هوشمند'!D72=32,#REF!,0))))))))))))))) -> 0 | I72: =G72*H72 -> 0 | V72: {=IFERROR(INDEX($D$4:$D$100,MATCH(0,COUNTIF($V$3:V6,$D$4:$D$100),0)),"")} -> 14 | X72: {=IFERROR(INDEX($K$4:$K$100,MATCH(0,COUNTIF($X$3:X71,$K$4:$K$100),0),0),0)} -> 0
B73: 70 | C73: 6 | E73: 0 | F73: 1.8 | G73: =F73*E73 -> 0 | H73: =IF(D73=6,#REF!,IF('لیستوفر هوشمند'!D73=8,#REF!,IF('لیستوفر هوشمند'!D73=10,#REF!,IF(D73=12,#REF!,IF('لیستوفر هوشمند'!D73=14,#REF!,IF('لیستوفر هوشمند'!D73=16,#REF!,IF('لیستوفر هوشمند'!D73=18,#REF!,IF('لیستوفر هوشمند'!D73=20,#REF!,IF('لیستوفر هوشمند'!D73=22,#REF!,IF('لیستوفر هوشمند'!D73=24,#REF!,IF('لیستوفر هوشمند'!D73=25,#REF!,IF('لیستوفر هوشمند'!D73=26,#REF!,IF('لیستوفر هوشمند'!D73=28,#REF!,IF('لیستوفر هوشمند'!D73=30,#REF!,IF('لیستوفر هوشمند'!D73=32,#REF!,0))))))))))))))) -> 0 | I73: =G73*H73 -> 0 | V73: {=IFERROR(INDEX($D$4:$D$100,MATCH(0,COUNTIF($V$3:V7,$D$4:$D$100),0)),"")} -> 16 | X73: {=IFERROR(INDEX($K$4:$K$100,MATCH(0,COUNTIF($X$3:X72,$K$4:$K$100),0),0),0)} -> 0
B74: 71 | C74: 6 | E74: 0 | F74: 1.8 | G74: =F74*E74 -> 0 | H74: =IF(D74=6,#REF!,IF('لیستوفر هوشمند'!D74=8,#REF!,IF('لیستوفر هوشمند'!D74=10,#REF!,IF(D74=12,#REF!,IF('لیستوفر هوشمند'!D74=14,#REF!,IF('لیستوفر هوشمند'!D74=16,#REF!,IF('لیستوفر هوشمند'!D74=18,#REF!,IF('لیستوفر هوشمند'!D74=20,#REF!,IF('لیستوفر هوشمند'!D74=22,#REF!,IF('لیستوفر هوشمند'!D74=24,#REF!,IF('لیستوفر هوشمند'!D74=25,#REF!,IF('لیستوفر هوشمند'!D74=26,#REF!,IF('لیستوفر هوشمند'!D74=28,#REF!,IF('لیستوفر هوشمند'!D74=30,#REF!,IF('لیستوفر هوشمند'!D74=32,#REF!,0))))))))))))))) -> 0 | I74: =G74*H74 -> 0 | V74: {=IFERROR(INDEX($D$4:$D$100,MATCH(0,COUNTIF($V$3:V8,$D$4:$D$100),0)),"")} -> 18 | X74: {=IFERROR(INDEX($K$4:$K$100,MATCH(0,COUNTIF($X$3:X73,$K$4:$K$100),0),0),0)} -> 0
B75: 72 | C75: 6 | E75: 0 | F75: 1.8 | G75: =F75*E75 -> 0 | H75: =IF(D75=6,#REF!,IF('لیستوفر هوشمند'!D75=8,#REF!,IF('لیستوفر هوشمند'!D75=10,#REF!,IF(D75=12,#REF!,IF('لیستوفر هوشمند'!D75=14,#REF!,IF('لیستوفر هوشمند'!D75=16,#REF!,IF('لیستوفر هوشمند'!D75=18,#REF!,IF('لیستوفر هوشمند'!D75=20,#REF!,IF('لیستوفر هوشمند'!D75=22,#REF!,IF('لیستوفر هوشمند'!D75=24,#REF!,IF('لیستوفر هوشمند'!D75=25,#REF!,IF('لیستوفر هوشمند'!D75=26,#REF!,IF('لیستوفر هوشمند'!D75=28,#REF!,IF('لیستوفر هوشمند'!D75=30,#REF!,IF('لیستوفر هوشمند'!D75=32,#REF!,0))))))))))))))) -> 0 | I75: =G75*H75 -> 0 | V75: {=IFERROR(INDEX($D$4:$D$100,MATCH(0,COUNTIF($V$3:V9,$D$4:$D$100),0)),"")} -> 20 | X75: {=IFERROR(INDEX($K$4:$K$100,MATCH(0,COUNTIF($X$3:X74,$K$4:$K$100),0),0),0)} -> 0
B76: 73 | C76: 6 | E76: 0 | F76: 1.8 | G76: =F76*E76 -> 0 | H76: =IF(D76=6,#REF!,IF('لیستوفر هوشمند'!D76=8,#REF!,IF('لیستوفر هوشمند'!D76=10,#REF!,IF(D76=12,#REF!,IF('لیستوفر هوشمند'!D76=14,#REF!,IF('لیستوفر هوشمند'!D76=16,#REF!,IF('لیستوفر هوشمند'!D76=18,#REF!,IF('لیستوفر هوشمند'!D76=20,#REF!,IF('لیستوفر هوشمند'!D76=22,#REF!,IF('لیستوفر هوشمند'!D76=24,#REF!,IF('لیستوفر هوشمند'!D76=25,#REF!,IF('لیستوفر هوشمند'!D76=26,#REF!,IF('لیستوفر هوشمند'!D76=28,#REF!,IF('لیستوفر هوشمند'!D76=30,#REF!,IF('لیستوفر هوشمند'!D76=32,#REF!,0))))))))))))))) -> 0 | I76: =G76*H76 -> 0 | V76: {=IFERROR(INDEX($D$4:$D$100,MATCH(0,COUNTIF($V$3:V10,$D$4:$D$100),0)),"")} -> 22 | X76: {=IFERROR(INDEX($K$4:$K$100,MATCH(0,COUNTIF($X$3:X75,$K$4:$K$100),0),0),0)} -> 0
B77: 74 | C77: 6 | E77: 0 | F77: 1.8 | G77: =F77*E77 -> 0 | H77: =IF(D77=6,#REF!,IF('لیستوفر هوشمند'!D77=8,#REF!,IF('لیستوفر هوشمند'!D77=10,#REF!,IF(D77=12,#REF!,IF('لیستوفر هوشمند'!D77=14,#REF!,IF('لیستوفر هوشمند'!D77=16,#REF!,IF('لیستوفر هوشمند'!D77=18,#REF!,IF('لیستوفر هوشمند'!D77=20,#REF!,IF('لیستوفر هوشمند'!D77=22,#REF!,IF('لیستوفر هوشمند'!D77=24,#REF!,IF('لیستوفر هوشمند'!D77=25,#REF!,IF('لیستوفر هوشمند'!D77=26,#REF!,IF('لیستوفر هوشمند'!D77=28,#REF!,IF('لیستوفر هوشمند'!D77=30,#REF!,IF('لیستوفر هوشمند'!D77=32,#REF!,0))))))))))))))) -> 0 | I77: =G77*H77 -> 0 | V77: {=IFERROR(INDEX($D$4:$D$100,MATCH(0,COUNTIF($V1:V$3,$D$4:$D$100),0)),"")} -> 8 | X77: {=IFERROR(INDEX($K$4:$K$100,MATCH(0,COUNTIF($X$3:X76,$K$4:$K$100),0),0),0)} -> 0
B78: 75 | C78: 6 | E78: 0 | F78: 1.8 | G78: =F78*E78 -> 0 | H78: =IF(D78=6,#REF!,IF('لیستوفر هوشمند'!D78=8,#REF!,IF('لیستوفر هوشمند'!D78=10,#REF!,IF(D78=12,#REF!,IF('لیستوفر هوشمند'!D78=14,#REF!,IF('لیستوفر هوشمند'!D78=16,#REF!,IF('لیستوفر هوشمند'!D78=18,#REF!,IF('لیستوفر هوشمند'!D78=20,#REF!,IF('لیستوفر هوشمند'!D78=22,#REF!,IF('لیستوفر هوشمند'!D78=24,#REF!,IF('لیستوفر هوشمند'!D78=25,#REF!,IF('لیستوفر هوشمند'!D78=26,#REF!,IF('لیستوفر هوشمند'!D78=28,#REF!,IF('لیستوفر هوشمند'!D78=30,#REF!,IF('لیستوفر هوشمند'!D78=32,#REF!,0))))))))))))))) -> 0 | I78: =G78*H78 -> 0 | V78: {=IFERROR(INDEX($D$4:$D$100,MATCH(0,COUNTIF($V2:V$3,$D$4:$D$100),0)),"")} -> 8 | X78: {=IFERROR(INDEX($K$4:$K$100,MATCH(0,COUNTIF($X$3:X77,$K$4:$K$100),0),0),0)} -> 0
B79: 76 | C79: 6 | E79: 0 | F79: 1.8 | G79: =F79*E79 -> 0 | H79: =IF(D79=6,#REF!,IF('لیستوفر هوشمند'!D79=8,#REF!,IF('لیستوفر هوشمند'!D79=10,#REF!,IF(D79=12,#REF!,IF('لیستوفر هوشمند'!D79=14,#REF!,IF('لیستوفر هوشمند'!D79=16,#REF!,IF('لیستوفر هوشمند'!D79=18,#REF!,IF('لیستوفر هوشمند'!D79=20,#REF!,IF('لیستوفر هوشمند'!D79=22,#REF!,IF('لیستوفر هوشمند'!D79=24,#REF!,IF('لیستوفر هوشمند'!D79=25,#REF!,IF('لیستوفر هوشمند'!D79=26,#REF!,IF('لیستوفر هوشمند'!D79=28,#REF!,IF('لیستوفر هوشمند'!D79=30,#REF!,IF('لیستوفر هوشمند'!D79=32,#REF!,0))))))))))))))) -> 0 | I79: =G79*H79 -> 0 | V79: {=IFERROR(INDEX($D$4:$D$100,MATCH(0,COUNTIF($V$3:V3,$D$4:$D$100),0)),"")} -> 8 | X79: {=IFERROR(INDEX($K$4:$K$100,MATCH(0,COUNTIF($X$3:X78,$K$4:$K$100),0),0),0)} -> 0
B80: 77 | C80: 6 | E80: 0 | F80: 1.8 | G80: =F80*E80 -> 0 | H80: =IF(D80=6,#REF!,IF('لیستوفر هوشمند'!D80=8,#REF!,IF('لیستوفر هوشمند'!D80=10,#REF!,IF(D80=12,#REF!,IF('لیستوفر هوشمند'!D80=14,#REF!,IF('لیستوفر هوشمند'!D80=16,#REF!,IF('لیستوفر هوشمند'!D80=18,#REF!,IF('لیستوفر هوشمند'!D80=20,#REF!,IF('لیستوفر هوشمند'!D80=22,#REF!,IF('لیستوفر هوشمند'!D80=24,#REF!,IF('لیستوفر هوشمند'!D80=25,#REF!,IF('لیستوفر هوشمند'!D80=26,#REF!,IF('لیستوفر هوشمند'!D80=28,#REF!,IF('لیستوفر هوشمند'!D80=30,#REF!,IF('لیستوفر هوشمند'!D80=32,#REF!,0))))))))))))))) -> 0 | I80: =G80*H80 -> 0 | V80: {=IFERROR(INDEX($D$4:$D$100,MATCH(0,COUNTIF($V$3:V4,$D$4:$D$100),0)),"")} -> 6 | X80: {=IFERROR(INDEX($K$4:$K$100,MATCH(0,COUNTIF($X$3:X79,$K$4:$K$100),0),0),0)} -> 0
B81: 78 | C81: 6 | E81: 0 | F81: 1.8 | G81: =F81*E81 -> 0 | H81: =IF(D81=6,#REF!,IF('لیستوفر هوشمند'!D81=8,#REF!,IF('لیستوفر هوشمند'!D81=10,#REF!,IF(D81=12,#REF!,IF('لیستوفر هوشمند'!D81=14,#REF!,IF('لیستوفر هوشمند'!D81=16,#REF!,IF('لیستوفر هوشمند'!D81=18,#REF!,IF('لیستوفر هوشمند'!D81=20,#REF!,IF('لیستوفر هوشمند'!D81=22,#REF!,IF('لیستوفر هوشمند'!D81=24,#REF!,IF('لیستوفر هوشمند'!D81=25,#REF!,IF('لیستوفر هوشمند'!D81=26,#REF!,IF('لیستوفر هوشمند'!D81=28,#REF!,IF('لیستوفر هوشمند'!D81=30,#REF!,IF('لیستوفر هوشمند'!D81=32,#REF!,0))))))))))))))) -> 0 | I81: =G81*H81 -> 0 | V81: {=IFERROR(INDEX($D$4:$D$100,MATCH(0,COUNTIF($V$3:V5,$D$4:$D$100),0)),"")} -> 12 | X81: {=IFERROR(INDEX($K$4:$K$100,MATCH(0,COUNTIF($X$3:X80,$K$4:$K$100),0),0),0)} -> 0
B82: 79 | C82: 6 | E82: 0 | F82: 1.8 | G82: =F82*E82 -> 0 | H82: =IF(D82=6,#REF!,IF('لیستوفر هوشمند'!D82=8,#REF!,IF('لیستوفر هوشمند'!D82=10,#REF!,IF(D82=12,#REF!,IF('لیستوفر هوشمند'!D82=14,#REF!,IF('لیستوفر هوشمند'!D82=16,#REF!,IF('لیستوفر هوشمند'!D82=18,#REF!,IF('لیستوفر هوشمند'!D82=20,#REF!,IF('لیستوفر هوشمند'!D82=22,#REF!,IF('لیستوفر هوشمند'!D82=24,#REF!,IF('لیستوفر هوشمند'!D82=25,#REF!,IF('لیستوفر هوشمند'!D82=26,#REF!,IF('لیستوفر هوشمند'!D82=28,#REF!,IF('لیستوفر هوشمند'!D82=30,#REF!,IF('لیستوفر هوشمند'!D82=32,#REF!,0))))))))))))))) -> 0 | I82: =G82*H82 -> 0 | V82: {=IFERROR(INDEX($D$4:$D$100,MATCH(0,COUNTIF($V$3:V6,$D$4:$D$100),0)),"")} -> 14 | X82: {=IFERROR(INDEX($K$4:$K$100,MATCH(0,COUNTIF($X$3:X81,$K$4:$K$100),0),0),0)} -> 0
B83: 80 | C83: 6 | E83: 0 | F83: 1.8 | G83: =F83*E83 -> 0 | H83: =IF(D83=6,#REF!,IF('لیستوفر هوشمند'!D83=8,#REF!,IF('لیستوفر هوشمند'!D83=10,#REF!,IF(D83=12,#REF!,IF('لیستوفر هوشمند'!D83=14,#REF!,IF('لیستوفر هوشمند'!D83=16,#REF!,IF('لیستوفر هوشمند'!D83=18,#REF!,IF('لیستوفر هوشمند'!D83=20,#REF!,IF('لیستوفر هوشمند'!D83=22,#REF!,IF('لیستوفر هوشمند'!D83=24,#REF!,IF('لیستوفر هوشمند'!D83=25,#REF!,IF('لیستوفر هوشمند'!D83=26,#REF!,IF('لیستوفر هوشمند'!D83=28,#REF!,IF('لیستوفر هوشمند'!D83=30,#REF!,IF('لیستوفر هوشمند'!D83=32,#REF!,0))))))))))))))) -> 0 | I83: =G83*H83 -> 0 | V83: {=IFERROR(INDEX($D$4:$D$100,MATCH(0,COUNTIF($V$3:V7,$D$4:$D$100),0)),"")} -> 16 | X83: {=IFERROR(INDEX($K$4:$K$100,MATCH(0,COUNTIF($X$3:X82,$K$4:$K$100),0),0),0)} -> 0
B84: 81 | C84: 6 | E84: 0 | F84: 1.8 | G84: =F84*E84 -> 0 | H84: =IF(D84=6,#REF!,IF('لیستوفر هوشمند'!D84=8,#REF!,IF('لیستوفر هوشمند'!D84=10,#REF!,IF(D84=12,#REF!,IF('لیستوفر هوشمند'!D84=14,#REF!,IF('لیستوفر هوشمند'!D84=16,#REF!,IF('لیستوفر هوشمند'!D84=18,#REF!,IF('لیستوفر هوشمند'!D84=20,#REF!,IF('لیستوفر هوشمند'!D84=22,#REF!,IF('لیستوفر هوشمند'!D84=24,#REF!,IF('لیستوفر هوشمند'!D84=25,#REF!,IF('لیستوفر هوشمند'!D84=26,#REF!,IF('لیستوفر هوشمند'!D84=28,#REF!,IF('لیستوفر هوشمند'!D84=30,#REF!,IF('لیستوفر هوشمند'!D84=32,#REF!,0))))))))))))))) -> 0 | I84: =G84*H84 -> 0 | V84: {=IFERROR(INDEX($D$4:$D$100,MATCH(0,COUNTIF($V$3:V8,$D$4:$D$100),0)),"")} -> 18 | X84: {=IFERROR(INDEX($K$4:$K$100,MATCH(0,COUNTIF($X$3:X83,$K$4:$K$100),0),0),0)} -> 0
B85: 82 | C85: 6 | E85: 0 | F85: 1.8 | G85: =F85*E85 -> 0 | H85: =IF(D85=6,#REF!,IF('لیستوفر هوشمند'!D85=8,#REF!,IF('لیستوفر هوشمند'!D85=10,#REF!,IF(D85=12,#REF!,IF('لیستوفر هوشمند'!D85=14,#REF!,IF('لیستوفر هوشمند'!D85=16,#REF!,IF('لیستوفر هوشمند'!D85=18,#REF!,IF('لیستوفر هوشمند'!D85=20,#REF!,IF('لیستوفر هوشمند'!D85=22,#REF!,IF('لیستوفر هوشمند'!D85=24,#REF!,IF('لیستوفر هوشمند'!D85=25,#REF!,IF('لیستوفر هوشمند'!D85=26,#REF!,IF('لیستوفر هوشمند'!D85=28,#REF!,IF('لیستوفر هوشمند'!D85=30,#REF!,IF('لیستوفر هوشمند'!D85=32,#REF!,0))))))))))))))) -> 0 | I85: =G85*H85 -> 0 | V85: {=IFERROR(INDEX($D$4:$D$100,MATCH(0,COUNTIF($V$3:V9,$D$4:$D$100),0)),"")} -> 20 | X85: {=IFERROR(INDEX($K$4:$K$100,MATCH(0,COUNTIF($X$3:X84,$K$4:$K$100),0),0),0)} -> 0
B86: 83 | C86: 6 | E86: 0 | F86: 1.8 | G86: =F86*E86 -> 0 | H86: =IF(D86=6,#REF!,IF('لیستوفر هوشمند'!D86=8,#REF!,IF('لیستوفر هوشمند'!D86=10,#REF!,IF(D86=12,#REF!,IF('لیستوفر هوشمند'!D86=14,#REF!,IF('لیستوفر هوشمند'!D86=16,#REF!,IF('لیستوفر هوشمند'!D86=18,#REF!,IF('لیستوفر هوشمند'!D86=20,#REF!,IF('لیستوفر هوشمند'!D86=22,#REF!,IF('لیستوفر هوشمند'!D86=24,#REF!,IF('لیستوفر هوشمند'!D86=25,#REF!,IF('لیستوفر هوشمند'!D86=26,#REF!,IF('لیستوفر هوشمند'!D86=28,#REF!,IF('لیستوفر هوشمند'!D86=30,#REF!,IF('لیستوفر هوشمند'!D86=32,#REF!,0))))))))))))))) -> 0 | I86: =G86*H86 -> 0 | V86: {=IFERROR(INDEX($D$4:$D$100,MATCH(0,COUNTIF($V$3:V10,$D$4:$D$100),0)),"")} -> 22 | X86: {=IFERROR(INDEX($K$4:$K$100,MATCH(0,COUNTIF($X$3:X85,$K$4:$K$100),0),0),0)} -> 0
B87: 84 | C87: 6 | E87: 0 | F87: 1.8 | G87: =F87*E87 -> 0 | H87: =IF(D87=6,#REF!,IF('لیستوفر هوشمند'!D87=8,#REF!,IF('لیستوفر هوشمند'!D87=10,#REF!,IF(D87=12,#REF!,IF('لیستوفر هوشمند'!D87=14,#REF!,IF('لیستوفر هوشمند'!D87=16,#REF!,IF('لیستوفر هوشمند'!D87=18,#REF!,IF('لیستوفر هوشمند'!D87=20,#REF!,IF('لیستوفر هوشمند'!D87=22,#REF!,IF('لیستوفر هوشمند'!D87=24,#REF!,IF('لیستوفر هوشمند'!D87=25,#REF!,IF('لیستوفر هوشمند'!D87=26,#REF!,IF('لیستوفر هوشمند'!D87=28,#REF!,IF('لیستوفر هوشمند'!D87=30,#REF!,IF('لیستوفر هوشمند'!D87=32,#REF!,0))))))))))))))) -> 0 | I87: =G87*H87 -> 0 | V87: {=IFERROR(INDEX($D$4:$D$100,MATCH(0,COUNTIF($V$3:V11,$D$4:$D$100),0)),"")} -> 24 | X87: {=IFERROR(INDEX($K$4:$K$100,MATCH(0,COUNTIF($X$3:X86,$K$4:$K$100),0),0),0)} -> 0
B88: 85 | C88: 6 | E88: 0 | F88: 1.8 | G88: =F88*E88 -> 0 | H88: =IF(D88=6,#REF!,IF('لیستوفر هوشمند'!D88=8,#REF!,IF('لیستوفر هوشمند'!D88=10,#REF!,IF(D88=12,#REF!,IF('لیستوفر هوشمند'!D88=14,#REF!,IF('لیستوفر هوشمند'!D88=16,#REF!,IF('لیستوفر هوشمند'!D88=18,#REF!,IF('لیستوفر هوشمند'!D88=20,#REF!,IF('لیستوفر هوشمند'!D88=22,#REF!,IF('لیستوفر هوشمند'!D88=24,#REF!,IF('لیستوفر هوشمند'!D88=25,#REF!,IF('لیستوفر هوشمند'!D88=26,#REF!,IF('لیستوفر هوشمند'!D88=28,#REF!,IF('لیستوفر هوشمند'!D88=30,#REF!,IF('لیستوفر هوشمند'!D88=32,#REF!,0))))))))))))))) -> 0 | I88: =G88*H88 -> 0 | V88: {=IFERROR(INDEX($D$4:$D$100,MATCH(0,COUNTIF($V$3:V12,$D$4:$D$100),0)),"")} -> 25 | X88: {=IFERROR(INDEX($K$4:$K$100,MATCH(0,COUNTIF($X$3:X87,$K$4:$K$100),0),0),0)} -> 0
B89: 86 | C89: 6 | E89: 0 | F89: 1.8 | G89: =F89*E89 -> 0 | H89: =IF(D89=6,#REF!,IF('لیستوفر هوشمند'!D89=8,#REF!,IF('لیستوفر هوشمند'!D89=10,#REF!,IF(D89=12,#REF!,IF('لیستوفر هوشمند'!D89=14,#REF!,IF('لیستوفر هوشمند'!D89=16,#REF!,IF('لیستوفر هوشمند'!D89=18,#REF!,IF('لیستوفر هوشمند'!D89=20,#REF!,IF('لیستوفر هوشمند'!D89=22,#REF!,IF('لیستوفر هوشمند'!D89=24,#REF!,IF('لیستوفر هوشمند'!D89=25,#REF!,IF('لیستوفر هوشمند'!D89=26,#REF!,IF('لیستوفر هوشمند'!D89=28,#REF!,IF('لیستوفر هوشمند'!D89=30,#REF!,IF('لیستوفر هوشمند'!D89=32,#REF!,0))))))))))))))) -> 0 | I89: =G89*H89 -> 0 | V89: {=IFERROR(INDEX($D$4:$D$100,MATCH(0,COUNTIF($V$3:V13,$D$4:$D$100),0)),"")} -> 26 | X89: {=IFERROR(INDEX($K$4:$K$100,MATCH(0,COUNTIF($X$3:X88,$K$4:$K$100),0),0),0)} -> 0
B90: 87 | C90: 6 | E90: 0 | F90: 1.8 | G90: =F90*E90 -> 0 | H90: =IF(D90=6,#REF!,IF('لیستوفر هوشمند'!D90=8,#REF!,IF('لیستوفر هوشمند'!D90=10,#REF!,IF(D90=12,#REF!,IF('لیستوفر هوشمند'!D90=14,#REF!,IF('لیستوفر هوشمند'!D90=16,#REF!,IF('لیستوفر هوشمند'!D90=18,#REF!,IF('لیستوفر هوشمند'!D90=20,#REF!,IF('لیستوفر هوشمند'!D90=22,#REF!,IF('لیستوفر هوشمند'!D90=24,#REF!,IF('لیستوفر هوشمند'!D90=25,#REF!,IF('لیستوفر هوشمند'!D90=26,#REF!,IF('لیستوفر هوشمند'!D90=28,#REF!,IF('لیستوفر هوشمند'!D90=30,#REF!,IF('لیستوفر هوشمند'!D90=32,#REF!,0))))))))))))))) -> 0 | I90: =G90*H90 -> 0 | V90: {=IFERROR(INDEX($D$4:$D$100,MATCH(0,COUNTIF($V$3:V14,$D$4:$D$100),0)),"")} -> 28 | X90: {=IFERROR(INDEX($K$4:$K$100,MATCH(0,COUNTIF($X$3:X89,$K$4:$K$100),0),0),0)} -> 0
... B92: 89 | C92: 6 | E92: 0 | F92: 1.8 | G92: =F92*E92 -> 0 | H92: =IF(D92=6,#REF!,IF('لیستوفر هوشمند'!D92=8,#REF!,IF('لیستوفر هوشمند'!D92=10,#REF!,IF(D92=12,#REF!,IF('لیستوفر هوشمند'!D92=14,#REF!,IF('لیستوفر هوشمند'!D92=16,#REF!,IF('لیستوفر هوشمند'!D92=18,#REF!,IF('لیستوفر هوشمند'!D92=20,#REF!,IF('لیستوفر هوشمند'!D92=22,#REF!,IF('لیستوفر هوشمند'!D92=24,#REF!,IF('لیستوفر هوشمند'!D92=25,#REF!,IF('لیستوفر هوشمند'!D92=26,#REF!,IF('لیستوفر هوشمند'!D92=28,#REF!,IF('لیستوفر هوشمند'!D92=30,#REF!,IF('لیستوفر هوشمند'!D92=32,#REF!,0))))))))))))))) -> 0 | I92: =G92*H92 -> 0 | V92: {=IFERROR(INDEX($D$4:$D$100,MATCH(0,COUNTIF($V$3:V16,$D$4:$D$100),0)),"")} -> 32 | X92: {=IFERROR(INDEX($K$4:$K$100,MATCH(0,COUNTIF($X$3:X91,$K$4:$K$100),0),0),0)} -> 0
B93: 90 | C93: 6 | E93: 0 | F93: 1.8 | G93: =F93*E93 -> 0 | H93: =IF(D93=6,#REF!,IF('لیستوفر هوشمند'!D93=8,#REF!,IF('لیستوفر هوشمند'!D93=10,#REF!,IF(D93=12,#REF!,IF('لیستوفر هوشمند'!D93=14,#REF!,IF('لیستوفر هوشمند'!D93=16,#REF!,IF('لیستوفر هوشمند'!D93=18,#REF!,IF('لیستوفر هوشمند'!D93=20,#REF!,IF('لیستوفر هوشمند'!D93=22,#REF!,IF('لیستوفر هوشمند'!D93=24,#REF!,IF('لیستوفر هوشمند'!D93=25,#REF!,IF('لیستوفر هوشمند'!D93=26,#REF!,IF('لیستوفر هوشمند'!D93=28,#REF!,IF('لیستوفر هوشمند'!D93=30,#REF!,IF('لیستوفر هوشمند'!D93=32,#REF!,0))))))))))))))) -> 0 | I93: =G93*H93 -> 0 | V93: {=IFERROR(INDEX($D$4:$D$100,MATCH(0,COUNTIF($V$3:V13,$D$4:$D$100),0)),"")} -> 26 | X93: {=IFERROR(INDEX($K$4:$K$100,MATCH(0,COUNTIF($X$3:X92,$K$4:$K$100),0),0),0)} -> 0
B94: 91 | C94: 6 | E94: 0 | F94: 1.8 | G94: =F94*E94 -> 0 | H94: =IF(D94=6,#REF!,IF('لیستوفر هوشمند'!D94=8,#REF!,IF('لیستوفر هوشمند'!D94=10,#REF!,IF(D94=12,#REF!,IF('لیستوفر هوشمند'!D94=14,#REF!,IF('لیستوفر هوشمند'!D94=16,#REF!,IF('لیستوفر هوشمند'!D94=18,#REF!,IF('لیستوفر هوشمند'!D94=20,#REF!,IF('لیستوفر هوشمند'!D94=22,#REF!,IF('لیستوفر هوشمند'!D94=24,#REF!,IF('لیستوفر هوشمند'!D94=25,#REF!,IF('لیستوفر هوشمند'!D94=26,#REF!,IF('لیستوفر هوشمند'!D94=28,#REF!,IF('لیستوفر هوشمند'!D94=30,#REF!,IF('لیستوفر هوشمند'!D94=32,#REF!,0))))))))))))))) -> 0 | I94: =G94*H94 -> 0 | V94: {=IFERROR(INDEX($D$4:$D$100,MATCH(0,COUNTIF($V$3:V14,$D$4:$D$100),0)),"")} -> 28 | X94: {=IFERROR(INDEX($K$4:$K$100,MATCH(0,COUNTIF($X$3:X93,$K$4:$K$100),0),0),0)} -> 0
B95: 92 | C95: 6 | E95: 0 | F95: 1.8 | G95: =F95*E95 -> 0 | H95: =IF(D95=6,#REF!,IF('لیستوفر هوشمند'!D95=8,#REF!,IF('لیستوفر هوشمند'!D95=10,#REF!,IF(D95=12,#REF!,IF('لیستوفر هوشمند'!D95=14,#REF!,IF('لیستوفر هوشمند'!D95=16,#REF!,IF('لیستوفر هوشمند'!D95=18,#REF!,IF('لیستوفر هوشمند'!D95=20,#REF!,IF('لیستوفر هوشمند'!D95=22,#REF!,IF('لیستوفر هوشمند'!D95=24,#REF!,IF('لیستوفر هوشمند'!D95=25,#REF!,IF('لیستوفر هوشمند'!D95=26,#REF!,IF('لیستوفر هوشمند'!D95=28,#REF!,IF('لیستوفر هوشمند'!D95=30,#REF!,IF('لیستوفر هوشمند'!D95=32,#REF!,0))))))))))))))) -> 0 | I95: =G95*H95 -> 0 | V95: {=IFERROR(INDEX($D$4:$D$100,MATCH(0,COUNTIF($V$3:V15,$D$4:$D$100),0)),"")} -> 30 | X95: {=IFERROR(INDEX($K$4:$K$100,MATCH(0,COUNTIF($X$3:X94,$K$4:$K$100),0),0),0)} -> 0
B96: 93 | C96: 6 | E96: 0 | F96: 1.8 | G96: =F96*E96 -> 0 | H96: =IF(D96=6,#REF!,IF('لیستوفر هوشمند'!D96=8,#REF!,IF('لیستوفر هوشمند'!D96=10,#REF!,IF(D96=12,#REF!,IF('لیستوفر هوشمند'!D96=14,#REF!,IF('لیستوفر هوشمند'!D96=16,#REF!,IF('لیستوفر هوشمند'!D96=18,#REF!,IF('لیستوفر هوشمند'!D96=20,#REF!,IF('لیستوفر هوشمند'!D96=22,#REF!,IF('لیستوفر هوشمند'!D96=24,#REF!,IF('لیستوفر هوشمند'!D96=25,#REF!,IF('لیستوفر هوشمند'!D96=26,#REF!,IF('لیستوفر هوشمند'!D96=28,#REF!,IF('لیستوفر هوشمند'!D96=30,#REF!,IF('لیستوفر هوشمند'!D96=32,#REF!,0))))))))))))))) -> 0 | I96: =G96*H96 -> 0 | V96: {=IFERROR(INDEX($D$4:$D$100,MATCH(0,COUNTIF($V$3:V16,$D$4:$D$100),0)),"")} -> 32 | X96: {=IFERROR(INDEX($K$4:$K$100,MATCH(0,COUNTIF($X$3:X95,$K$4:$K$100),0),0),0)} -> 0
B97: 94 | C97: 6 | E97: 0 | F97: 1.8 | G97: =F97*E97 -> 0 | H97: =IF(D97=6,#REF!,IF('لیستوفر هوشمند'!D97=8,#REF!,IF('لیستوفر هوشمند'!D97=10,#REF!,IF(D97=12,#REF!,IF('لیستوفر هوشمند'!D97=14,#REF!,IF('لیستوفر هوشمند'!D97=16,#REF!,IF('لیستوفر هوشمند'!D97=18,#REF!,IF('لیستوفر هوشمند'!D97=20,#REF!,IF('لیستوفر هوشمند'!D97=22,#REF!,IF('لیستوفر هوشمند'!D97=24,#REF!,IF('لیستوفر هوشمند'!D97=25,#REF!,IF('لیستوفر هوشمند'!D97=26,#REF!,IF('لیستوفر هوشمند'!D97=28,#REF!,IF('لیستوفر هوشمند'!D97=30,#REF!,IF('لیستوفر هوشمند'!D97=32,#REF!,0))))))))))))))) -> 0 | I97: =G97*H97 -> 0 | V97: {=IFERROR(INDEX($D$4:$D$100,MATCH(0,COUNTIF($V$3:V17,$D$4:$D$100),0)),"")} -> 0 | X97: {=IFERROR(INDEX($K$4:$K$100,MATCH(0,COUNTIF($X$3:X96,$K$4:$K$100),0),0),0)} -> 0
B98: 95 | C98: 6 | E98: 0 | F98: 1.8 | G98: =F98*E98 -> 0 | H98: =IF(D98=6,#REF!,IF('لیستوفر هوشمند'!D98=8,#REF!,IF('لیستوفر هوشمند'!D98=10,#REF!,IF(D98=12,#REF!,IF('لیستوفر هوشمند'!D98=14,#REF!,IF('لیستوفر هوشمند'!D98=16,#REF!,IF('لیستوفر هوشمند'!D98=18,#REF!,IF('لیستوفر هوشمند'!D98=20,#REF!,IF('لیستوفر هوشمند'!D98=22,#REF!,IF('لیستوفر هوشمند'!D98=24,#REF!,IF('لیستوفر هوشمند'!D98=25,#REF!,IF('لیستوفر هوشمند'!D98=26,#REF!,IF('لیستوفر هوشمند'!D98=28,#REF!,IF('لیستوفر هوشمند'!D98=30,#REF!,IF('لیستوفر هوشمند'!D98=32,#REF!,0))))))))))))))) -> 0 | I98: =G98*H98 -> 0 | V98: {=IFERROR(INDEX($D$4:$D$100,MATCH(0,COUNTIF($V$3:V18,$D$4:$D$100),0)),"")} | X98: {=IFERROR(INDEX($K$4:$K$100,MATCH(0,COUNTIF($X$3:X97,$K$4:$K$100),0),0),0)} -> 0
B99: 96 | C99: 6 | E99: 0 | F99: 1.8 | G99: =F99*E99 -> 0 | H99: =IF(D99=6,#REF!,IF('لیستوفر هوشمند'!D99=8,#REF!,IF('لیستوفر هوشمند'!D99=10,#REF!,IF(D99=12,#REF!,IF('لیستوفر هوشمند'!D99=14,#REF!,IF('لیستوفر هوشمند'!D99=16,#REF!,IF('لیستوفر هوشمند'!D99=18,#REF!,IF('لیستوفر هوشمند'!D99=20,#REF!,IF('لیستوفر هوشمند'!D99=22,#REF!,IF('لیستوفر هوشمند'!D99=24,#REF!,IF('لیستوفر هوشمند'!D99=25,#REF!,IF('لیستوفر هوشمند'!D99=26,#REF!,IF('لیستوفر هوشمند'!D99=28,#REF!,IF('لیستوفر هوشمند'!D99=30,#REF!,IF('لیستوفر هوشمند'!D99=32,#REF!,0))))))))))))))) -> 0 | I99: =G99*H99 -> 0 | V99: {=IFERROR(INDEX($D$4:$D$100,MATCH(0,COUNTIF($V$3:V19,$D$4:$D$100),0)),"")} | X99: {=IFERROR(INDEX($K$4:$K$100,MATCH(0,COUNTIF($X$3:X98,$K$4:$K$100),0),0),0)} -> 0
B100: 97 | C100: 6 | E100: 0 | F100: 1.8 | G100: =F100*E100 -> 0 | H100: =IF(D100=6,#REF!,IF('لیستوفر هوشمند'!D100=8,#REF!,IF('لیستوفر هوشمند'!D100=10,#REF!,IF(D100=12,#REF!,IF('لیستوفر هوشمند'!D100=14,#REF!,IF('لیستوفر هوشمند'!D100=16,#REF!,IF('لیستوفر هوشمند'!D100=18,#REF!,IF('لیستوفر هوشمند'!D100=20,#REF!,IF('لیستوفر هوشمند'!D100=22,#REF!,IF('لیستوفر هوشمند'!D100=24,#REF!,IF('لیستوفر هوشمند'!D100=25,#REF!,IF('لیستوفر هوشمند'!D100=26,#REF!,IF('لیستوفر هوشمند'!D100=28,#REF!,IF('لیستوفر هوشمند'!D100=30,#REF!,IF('لیستوفر هوشمند'!D100=32,#REF!,0))))))))))))))) -> 0 | I100: =G100*H100 -> 0 | V100: {=IFERROR(INDEX($D$4:$D$100,MATCH(0,COUNTIF($V$3:V20,$D$4:$D$100),0)),"")} | X100: {=IFERROR(INDEX($K$4:$K$100,MATCH(0,COUNTIF($X$3:X99,$K$4:$K$100),0),0),0)} -> 0
B101: وزن کل (کیلوگرم) | I101: =SUM(I4:I100) -> #REF! | V101: {=IFERROR(INDEX($D$4:$D$100,MATCH(0,COUNTIF($V$3:V100,$D$4:$D$100),0)),"")}
B102: مجموع طول و وزن هر سایز میلگرد | V102: {=IFERROR(INDEX($D$4:$D$100,MATCH(0,COUNTIF($V$3:V101,$D$4:$D$100),0)),"")}
B103: سایز | C103: طول (متر) | F103: وزن (کیلوگرم) | H103: سایز | I103: طول (متر) | J103: وزن (کیلوگرم) | V103: {=IFERROR(INDEX($D$4:$D$100,MATCH(0,COUNTIF($V$3:V102,$D$4:$D$100),0)),"")}
B104: =$V$4 -> 8 | C104: =SUMIF($D$4:$D$100,B104,$G$4:$G$100) -> 0 | F104: =SUMIF($D$4:$D$100,B104,$I$4:$I$100) -> #REF! | H104: =$V$5 -> 6 | I104: =SUMIF($D$4:$D$100,H104,$G$4:$G$100) -> 3.6 | J104: =SUMIF($D$4:$D$100,H104,$I$4:$I$100) -> #REF! | V104: {=IFERROR(INDEX($D$4:$D$100,MATCH(0,COUNTIF($V$3:V103,$D$4:$D$100),0)),"")}
B105: =$V$6 -> 12 | C105: =SUMIF($D$4:$D$100,B105,$G$4:$G$100) -> 1.8 | F105: =SUMIF($D$4:$D$100,B105,$I$4:$I$100) -> #REF! | H105: =$V$7 -> 14 | I105: =SUMIF($D$4:$D$100,H105,$G$4:$G$100) -> 1.8 | J105: =SUMIF($D$4:$D$100,H105,$I$4:$I$100) -> #REF! | V105: {=IFERROR(INDEX($D$4:$D$100,MATCH(0,COUNTIF($V$3:V104,$D$4:$D$100),0)),"")}
B106: =$V$8 -> 16 | C106: =SUMIF($D$4:$D$100,B106,$G$4:$G$100) -> 13.5 | F106: =SUMIF($D$4:$D$100,B106,$I$4:$I$100) -> #REF! | H106: =$V$9 -> 18 | I106: =SUMIF($D$4:$D$100,H106,$G$4:$G$100) -> 5.4 | J106: =SUMIF($D$4:$D$100,H106,$I$4:$I$100) -> #REF! | V106: {=IFERROR(INDEX($D$4:$D$100,MATCH(0,COUNTIF($V$3:V105,$D$4:$D$100),0)),"")}
B107: =$V$10 -> 20 | C107: =SUMIF($D$4:$D$100,B107,$G$4:$G$100) -> 7.2 | F107: =SUMIF($D$4:$D$100,B107,$I$4:$I$100) -> #REF! | H107: =$V$11 -> 22 | I107: =SUMIF($D$4:$D$100,H107,$G$4:$G$100) -> 5.4 | J107: =SUMIF($D$4:$D$100,H107,$I$4:$I$100) -> #REF! | V107: {=IFERROR(INDEX($D$4:$D$100,MATCH(0,COUNTIF($V$3:V106,$D$4:$D$100),0)),"")}
B108: =$V$12 -> 24 | C108: =SUMIF($D$4:$D$100,B108,$G$4:$G$100) -> 9 | F108: =SUMIF($D$4:$D$100,B108,$I$4:$I$100) -> #REF! | H108: =$V$13 -> 25 | I108: =SUMIF($D$4:$D$100,H108,$G$4:$G$100) -> 10.8 | J108: =SUMIF($D$4:$D$100,H108,$I$4:$I$100) -> #REF! | V108: {=IFERROR(INDEX($D$4:$D$100,MATCH(0,COUNTIF($V$3:V107,$D$4:$D$100),0)),"")}
B109: =$V$14 -> 26 | C109: =SUMIF($D$4:$D$100,B109,$G$4:$G$100) -> 0 | F109: =SUMIF($D$4:$D$100,B109,$I$4:$I$100) -> #REF! | H109: =$V$15 -> 28 | I109: =SUMIF($D$4:$D$100,H109,$G$4:$G$100) -> 0 | J109: =SUMIF($D$4:$D$100,H109,$I$4:$I$100) -> #REF! | V109: {=IFERROR(INDEX($D$4:$D$100,MATCH(0,COUNTIF($V$3:V108,$D$4:$D$100),0)),"")}
B110: =$V$16 -> 30 | C110: =SUMIF($D$4:$D$100,B110,$G$4:$G$100) -> 0 | F110: =SUMIF($D$4:$D$100,B110,$I$4:$I$100) -> #REF! | H110: =$V$17 -> 32 | I110: =SUMIF($D$4:$D$100,H110,$G$4:$G$100) -> 32.5 | J110: =SUMIF($D$4:$D$100,H110,$I$4:$I$100) -> #REF! | V110: {=IFERROR(INDEX($D$4:$D$100,MATCH(0,COUNTIF($V$3:V109,$D$4:$D$100),0)),"")}
V111: {=IFERROR(INDEX($D$4:$D$100,MATCH(0,COUNTIF($V$3:V110,$D$4:$D$100),0)),"")}
V112: {=IFERROR(INDEX($D$4:$D$100,MATCH(0,COUNTIF($V$3:V111,$D$4:$D$100),0)),"")}
V113: {=IFERROR(INDEX($D$4:$D$100,MATCH(0,COUNTIF($V$3:V112,$D$4:$D$100),0)),"")}

Sheet جدول موقعیت
A1: ردیف | B1: موقعیت | C1: وزن (کیلوگرم)
A2: 1 | B2: ='لیستوفر هوشمند'!X4 -> فونداسیون | C2: =SUMIF('لیستوفر هوشمند'!$K$4:$K$100,'جدول موقعیت'!B2,'لیستوفر هوشمند'!$I$4:$I$100) -> #REF!
A3: 2 | B3: ='لیستوفر هوشمند'!X5 -> تیر طبقه 1 | C3: =SUMIF('لیستوفر هوشمند'!$K$4:$K$100,'جدول موقعیت'!B3,'لیستوفر هوشمند'!$I$4:$I$100) -> #REF!
A4: 3 | B4: ='لیستوفر هوشمند'!X6 -> تیر طبقه 2 | C4: =SUMIF('لیستوفر هوشمند'!$K$4:$K$100,'جدول موقعیت'!B4,'لیستوفر هوشمند'!$I$4:$I$100) -> #REF!
A5: 4 | B5: ='لیستوفر هوشمند'!X7 -> ستون طبقه 2 | C5: =SUMIF('لیستوفر هوشمند'!$K$4:$K$100,'جدول موقعیت'!B5,'لیستوفر هوشمند'!$I$4:$I$100) -> #REF!
A6: 5 | B6: ='لیستوفر هوشمند'!X8 -> سقف 1 | C6: =SUMIF('لیستوفر هوشمند'!$K$4:$K$100,'جدول موقعیت'!B6,'لیستوفر هوشمند'!$I$4:$I$100) -> #REF!
A7: 6 | B7: ='لیستوفر هوشمند'!X9 -> آسانسور | C7: =SUMIF('لیستوفر هوشمند'!$K$4:$K$100,'جدول موقعیت'!B7,'لیستوفر هوشمند'!$I$4:$I$100) -> #REF!
A8: 7 | B8: ='لیستوفر هوشمند'!X10 -> سقف 2 | C8: =SUMIF('لیستوفر هوشمند'!$K$4:$K$100,'جدول موقعیت'!B8,'لیستوفر هوشمند'!$I$4:$I$100) -> #REF!
A9: 8 | B9: ='لیستوفر هوشمند'!X11 -> 0 | C9: =SUMIF('لیستوفر هوشمند'!$K$4:$K$100,'جدول موقعیت'!B9,'لیستوفر هوشمند'!$I$4:$I$100) -> 0
A10: 9 | B10: ='لیستوفر هوشمند'!X12 -> 0 | C10: =SUMIF('لیستوفر هوشمند'!$K$4:$K$100,'جدول موقعیت'!B10,'لیستوفر هوشمند'!$I$4:$I$100) -> 0
A11: 10 | B11: ='لیستوفر هوشمند'!X13 -> 0 | C11: =SUMIF('لیستوفر هوشمند'!$K$4:$K$100,'جدول موقعیت'!B11,'لیستوفر هوشمند'!$I$4:$I$100) -> 0
A12: 11 | B12: ='لیستوفر هوشمند'!X14 -> 0 | C12: =SUMIF('لیستوفر هوشمند'!$K$4:$K$100,'جدول موقعیت'!B12,'لیستوفر هوشمند'!$I$4:$I$100) -> 0
A13: 12 | B13: ='لیستوفر هوشمند'!X15 -> 0 | C13: =SUMIF('لیستوفر هوشمند'!$K$4:$K$100,'جدول موقعیت'!B13,'لیستوفر هوشمند'!$I$4:$I$100) -> 0
... A20: 19 | B20: ='لیستوفر هوشمند'!X22 -> 0 | C20: =SUMIF('لیستوفر هوشمند'!$K$4:$K$100,'جدول موقعیت'!B20,'لیستوفر هوشمند'!$I$4:$I$100) -> 0
A21: 20 | B21: ='لیستوفر هوشمند'!X100 -> 0 | C21: =SUMIF('لیستوفر هوشمند'!$K$4:$K$100,'جدول موقعیت'!B21,'لیستوفر هوشمند'!$I$4:$I$100) -> 0
A22: 21 | B22: ='لیستوفر هوشمند'!X101 -> 0 | C22: =SUMIF('لیستوفر هوشمند'!$K$4:$K$100,'جدول موقعیت'!B22,'لیستوفر هوشمند'!$I$4:$I$100) -> 0
A23: 22 | B23: ='لیستوفر هوشمند'!X102 -> 0 | C23: =SUMIF('لیستوفر هوشمند'!$K$4:$K$100,'جدول موقعیت'!B23,'لیستوفر هوشمند'!$I$4:$I$100) -> 0
A24: 23 | B24: ='لیستوفر هوشمند'!X103 -> 0 | C24: =SUMIF('لیستوفر هوشمند'!$K$4:$K$100,'جدول موقعیت'!B24,'لیستوفر هوشمند'!$I$4:$I$100) -> 0
A25: 24 | B25: ='لیستوفر هوشمند'!X104 -> 0 | C25: =SUMIF('لیستوفر هوشمند'!$K$4:$K$100,'جدول موقعیت'!B25,'لیستوفر هوشمند'!$I$4:$I$100) -> 0
A26: 25 | B26: ='لیستوفر هوشمند'!X105 -> 0 | C26: =SUMIF('لیستوفر هوشمند'!$K$4:$K$100,'جدول موقعیت'!B26,'لیستوفر هوشمند'!$I$4:$I$100) -> 0
A27: 26 | B27: ='لیستوفر هوشمند'!X106 -> 0 | C27: =SUMIF('لیستوفر هوشمند'!$K$4:$K$100,'جدول موقعیت'!B27,'لیستوفر هوشمند'!$I$4:$I$100) -> 0
A28: 27 | B28: ='لیستوفر هوشمند'!X107 -> 0 | C28: =SUMIF('لیستوفر هوشمند'!$K$4:$K$100,'جدول موقعیت'!B28,'لیستوفر هوشمند'!$I$4:$I$100) -> 0
A29: 28 | B29: ='لیستوفر هوشمند'!X108 -> 0 | C29: =SUMIF('لیستوفر هوشمند'!$K$4:$K$100,'جدول موقعیت'!B29,'لیستوفر هوشمند'!$I$4:$I$100) -> 0
A30: 29 | B30: ='لیستوفر هوشمند'!X109 -> 0 | C30: =SUMIF('لیستوفر هوشمند'!$K$4:$K$100,'جدول موقعیت'!B30,'لیستوفر هوشمند'!$I$4:$I$100) -> 0
A31: 30 | B31: ='لیستوفر هوشمند'!X110 -> 0 | C31: =SUMIF('لیستوفر هوشمند'!$K$4:$K$100,'جدول موقعیت'!B31,'لیستوفر هوشمند'!$I$4:$I$100) -> 0
A32: 31 | B32: ='لیستوفر هوشمند'!X111 -> 0 | C32: =SUMIF('لیستوفر هوشمند'!$K$4:$K$100,'جدول موقعیت'!B32,'لیستوفر هوشمند'!$I$4:$I$100) -> 0
... A103: 102 | B103: ='لیستوفر هوشمند'!X182 -> 0 | C103: =SUMIF('لیستوفر هوشمند'!$K$4:$K$100,'جدول موقعیت'!B103,'لیستوفر هوشمند'!$I$4:$I$100) -> 0

Sheet Sheet1
A3: کارفرما :
A4: مشاور : مهندسین مشاور
A5: پروژه:اجرای | J5: موضوع:
A6: وزن میلگرد راستا20 و بیشتر | B6: وزن میلگرد راستا12تا18 | C6: وزن هر متر طول | D6: سایز | E6: طول کلی میلگرد راستا | F6: دوسرخم | I6: اورلب | L6: طول میلگرد راستا | P6: نوع | Q6: تیپ
F7: جمع | G7: طول | H7: تعداد | I7: جمع | J7: طول * تعداد | L7: جمع | M7: کسر کاور | N7: طول | O7: تعداد
Q8: تعداد قطعه | R8: تیپ تیر
E9: 0 | F9: 0 | I9: 0 | L9: 0
E10: 0 | F10: 0 | I10: 0 | L10: 0
E11: 0 | F11: 0 | I11: 0 | L11: 0
E12: 0 | F12: 0 | I12: 0 | L12: 0
E13: 0 | F13: 0 | I13: 0 | L13: 0
E14: 0 | F14: 0 | I14: 0 | L14: 0
E15: 0 | F15: 0 | I15: 0 | L15: 0
E16: 0 | F16: 0 | I16: 0 | L16: 0
C18: جمع وزن میلگرد 12 تا 18
B20: جمع وزن میلگرد 20 و بیشتر

Sheet Sheet2
A1: کارفرما
A2: مشاور : مهندسین مشاور
A3: پروژه:
A4: موضوع:
A5: وزن میلگردهای کار شده در تیرهای سقف طبقه اول پارت ب
B6: ø | H6: Shape | I6: Length | J6: No | K6: ø | L6: Type
A7: توضیحات | B7: 25 | C7: 22 | D7: 20 | E7: 18 | F7: 16 | G7: 10
H19: L | I19: Unit Length
H20: Kg/m | I20: Unit Weight
H21: Kg | I21: Total Weight
H22: kg | I22: Sum Weight
A23: kg | H23: no | I23: Number of concrete beemes

Sheet Sheet3
A1: کارفرما :
A2: مشاور : مهندسین مشاور
A3: پروژه: | L3: موضوع:
A4: تعداد کل خاموت | B4: تعداد کل سنجاقک | C4: طول برای محاسبه خاموت | U4: سایز | V4: تیپ
C5: @25 | H5: (کسر یک عدد در هر دهنه) | L5: @12.5 | Q5: (اضافه یک عدد در هر دهنه)
J6: دهنه های یکسان | S6: دهنه های یکسان
C7: تعداد خاموت | D7: m | J7: m | K7: n | L7: تعداد خاموت | M7: m | S7: m | T7: n | V7: قطعه | W7: تیپ تیر
A15: 0 | B15: 0
A16: 0 | B16: جمع تعداد خاموت تیر اصلی(عدد)
A17: 0 | B17: → | C17: 0.617 | E17: 0 | G17: → | H17: = | I17: وزن هر مترطول*طول هر عدد*تعداد | R17: وزن خاموت(kg)
A18: 0 | B18: جمع تعداد سنجاقک تیر اصلی(عدد)
A19: #VALUE! | B19: → | C19: 0.617 | E19: 0 | G19: → | H19: = | I19: وزن هر مترطول*طول هر عدد*تعداد | R19: وزن سنجاقک(kg)
A20: #VALUE! | B20: وزن خاموت و سنجاقک

Sheet Sheet4
A1: کارفرما :
A2: مشاور : مهندسین مشاور
A3: پروژه:اجرای | M3: موضوع:
A4: وزن میلگرد خاموت و سنجاقک | B4: وزن هر متر طول | C4: طول کل | D4: طول کلی میلگرد سنجاقک | E4: طول میلگرد سنجاقک | F4: طول کلی میلگرد خاموت | G4: طول میلگرد خاموت | H4: دهانه برای محاسبه تعداد خاموت | M4: وزن میلگرد راستا سایز 20 و بیشتر | N4: وزن میلگرد راستا - سایز 12 تا 18 | O4: وزن هر متر طول | P4: سایز | Q4: طول کلی میلگرد راستا | R4: طول میلگرد | S4: تعداد | T4: نوع | U4: تیپ
U6: قطعه | V6: تیپ
B23: جمع وزن میلگرد سایز تا 10 | O23: جمع وزن میلگرد 12 تا 18
O25: جمع وزن میلگرد 20 و بیشتر

Sheet Sheet5
A1: کارفرما :
A2: مشاور : مهندسین مشاور
A3: پروژه: | N3: موضوع:
A4: تعداد خاموت | B4: تعداد سنجاقک | C4: طول برای محاسبه خاموت | J4: وزن میلگرد راستا20 و بیشتر | K4: وزن میلگرد راستا12تا18 | L4: وزن هر متر طول | M4: سایز | N4: طول کلی میلگرد راستا | O4: دوسرخم | R4: اورلب | U4: طول میلگرد راستا | W4: تعداد | X4: نوع | Y4: تیپ
C5: @25 | H5: @12.5 | O5: جمع | P5: طول | Q5: تعداد | R5: جمع | S5: طول * تعداد | U5: کسر کاور | V5: طول تیر
C6: m | H6: m | I6: تعداد دهنه
A19: 0 | B19: جمع تعداد خاموت تیر اصلی(عدد) | L19: جمع وزن میلگرد 12 تا 18
A20: #VALUE! | B20: وزن | C20: طول | D20: 0 | G20: وزن خاموت(kg)
A21: 0 | B21: جمع تعداد سنجاقک تیر اصلی(عدد) | K21: جمع وزن میلگرد 20 و بیشتر
A22: 0 | D22: 0 | G22: وزن سنجاقک(kg)
A23: #VALUE! | B23: وزن خاموت و سنجاقک

Sheet Sheet6
F1: لیست آرماتور:
A2: Pos. | B2: Φ | C2: FORM | D2: Length | E2: No. | F2: TOTAL LENGTH. ΦNO.
B3: No. | D3: m | E3: Req،d | F3: 8 | G3: 10 | H3: 12 | I3: 14 | J3: 16 | K3: 18 | L3: 20 | M3: 22
B4: 18 | C4: ميلگرد طولي | D4: 7.8 | E4: 7 | K4: 54.6
B5: 18 | C5: ميلگرد طولي | D5: 7.9 | E5: 14 | K5: 110.6
B6: 18 | C6: ميلگرد طولي | D6: 5.4 | E6: 7 | K6: 37.8
B7: 18 | C7: ميلگرد عرضي | D7: 8.15 | E7: 7 | K7: 57.05
B8: 18 | C8: ميلگرد عرضي | D8: 3.1 | E8: 7 | K8: 21.7
B9: 18 | C9: ميلگرد عرضي | D9: 11 | E9: 7 | K9: 77
B10: 10 | C10: خاموت طولي فونداسيون | D10: 1.7 | E10: 36 | G10: 61.2
B11: 10 | C11: خاموت طولي فونداسيون | D11: 1.7 | E11: 76 | G11: 129.2
B12: 10 | C12: خاموت طولي فونداسيون | D12: 1.7 | E12: 26 | G12: 44.2
B13: 10 | C13: خاموت عرضي فونداسيون | D13: 1.7 | E13: 38 | G13: 64.6
B14: 10 | C14: خاموت عرضي فونداسيون | D14: 1.7 | E14: 14 | G14: 23.8
B15: 10 | C15: خاموت عرضي فونداسيون | D15: 1.7 | E15: 52 | G15: 88.4
A24: Total Length. m | F24: 0 | G24: 411.4 | H24: 0 | I24: 0 | J24: 0 | K24: 358.75 | L24: 0 | M24: 0
A25: Weight, Kg/m | F25: 0.395 | G25: 0.617 | H25: 0.888 | I25: 1.21 | J25: 1.58 | K25: 2 | L25: 2.47 | M25: 2.98
A26: Total Weight. Kg; | F26: 0 | G26: 253.8338 | H26: 0 | I26: 0 | J26: 0 | K26: 717.5 | L26: 0 | M26: 0
A27: Total Weight. Kg; | D27: 971.3338 | F27: 0 | G27: 253.8338 | H27: 0 | I27: 0 | J27: 0 | K27: 717.5 | L27: 0 | M27: 0

Sheet Sheet7
F1: لیست آرماتور:
A2: Pos. | B2: Φ | C2: FORM | D2: Length | E2: No. | F2: TOTAL LENGTH. ΦNO.
B3: No. | D3: m | E3: Req،d | F3: 8 | G3: 10 | H3: 12 | I3: 14 | J3: 16 | K3: 18 | L3: 20 | M3: 22
B4: 18 | C4: ميلگرد ستون | D4: 4.5 | E4: 80 | K4: 360
B5: 10 | C5: خاموت ستون | D5: 1 | E5: 320 | G5: 320
A24: Total Length. m | F24: 0 | G24: 320 | H24: 0 | I24: 0 | J24: 0 | K24: 360 | L24: 0 | M24: 0
A25: Weight, Kg/m | F25: 0.395 | G25: 0.617 | H25: 0.888 | I25: 1.21 | J25: 1.58 | K25: 2 | L25: 2.47 | M25: 2.98
A26: Total Weight. Kg; | F26: 0 | G26: 197.44 | H26: 0 | I26: 0 | J26: 0 | K26: 720 | L26: 0 | M26: 0
A27: Total Weight. Kg; | D27: 917.44 | F27: 0 | G27: 197.44 | H27: 0 | I27: 0 | J27: 0 | K27: 720 | L27: 0 | M27: 0

Sheet Sheet8
F1: لیست آرماتور:
A2: Pos. | B2: Φ | C2: FORM | D2: Length | E2: No. | F2: TOTAL LENGTH. ΦNO.
B3: No. | D3: m | E3: Req،d | F3: 8 | G3: 10 | H3: 12 | I3: 14 | J3: 16 | K3: 18 | L3: 20 | M3: 22
B4: 16 | C4: ميلگرد طولي تير | D4: 7.8 | E4: 6 | J4: 46.8
B5: 16 | C5: ميلگرد طولي تير | D5: 7.9 | E5: 6 | J5: 47.4
B6: 16 | C6: ميلگرد طولي تير | D6: 5.4 | E6: 6 | J6: 32.4
B7: 16 | C7: ميلگرد عرضي تير | D7: 8.15 | E7: 6 | J7: 48.9
B8: 16 | C8: ميلگرد عرضي تير | D8: 3.1 | E8: 6 | J8: 18.6
B9: 16 | C9: ميلگرد عرضي تير | D9: 11 | E9: 6 | J9: 66
B10: 10 | C10: خاموت طولي تير | D10: 1 | E10: 36 | G10: 36
B11: 10 | D11: 1 | E11: 38 | G11: 38
B12: 10 | D12: 1 | E12: 26 | G12: 26
B13: 10 | D13: 1 | E13: 38 | G13: 38
B14: 10 | D14: 1 | E14: 14 | G14: 14
B15: 10 | D15: 1 | E15: 52 | G15: 52
A24: Total Length. m | F24: 0 | G24: 204 | H24: 0 | I24: 0 | J24: 260.1 | K24: 0 | L24: 0 | M24: 0
A25: Weight, Kg/m | F25: 0.395 | G25: 0.617 | H25: 0.888 | I25: 1.21 | J25: 1.58 | K25: 2 | L25: 2.47 | M25: 2.98
A26: Total Weight. Kg; | F26: 0 | G26: 125.868 | H26: 0 | I26: 0 | J26: 410.958 | K26: 0 | L26: 0 | M26: 0
A27: Total Weight. Kg; | D27: 536.826 | F27: 0 | G27: 125.868 | H27: 0 | I27: 0 | J27: 410.958 | K27: 0 | L27: 0 | M27: 0

Sheet Sheet9
B2: POS. NO. | C2: F M.M. | D2: LENGTH M. | E2: NUM.
F3: 4 | G3: 6 | H3: 8 | I3: 10 | J3: 12 | K3: 14 | L3: 16 | M3: 18 | N3: 20 | O3: 22 | P3: 24 | Q3: 25 | R3: 26 | S3: 27 | T3: 28 | U3: 30 | V3: 32 | W3: SHAPE
F4: 0 | G4: 0 | H4: 0 | I4: 0 | J4: 0 | K4: 0 | L4: 0 | M4: 0 | N4: 0 | O4: 0 | P4: 0 | Q4: 0 | R4: 0 | S4: 0 | T4: 0 | U4: 0 | V4: 0
F5: 0 | G5: 0 | H5: 0 | I5: 0 | J5: 0 | K5: 0 | L5: 0 | M5: 0 | N5: 0 | O5: 0 | P5: 0 | Q5: 0 | R5: 0 | S5: 0 | T5: 0 | U5: 0 | V5: 0
F6: 0 | G6: 0 | H6: 0 | I6: 0 | J6: 0 | K6: 0 | L6: 0 | M6: 0 | N6: 0 | O6: 0 | P6: 0 | Q6: 0 | R6: 0 | S6: 0 | T6: 0 | U6: 0 | V6: 0
F7: 0 | G7: 0 | H7: 0 | I7: 0 | J7: 0 | K7: 0 | L7: 0 | M7: 0 | N7: 0 | O7: 0 | P7: 0 | Q7: 0 | R7: 0 | S7: 0 | T7: 0 | U7: 0 | V7: 0
F8: 0 | G8: 0 | H8: 0 | I8: 0 | J8: 0 | K8: 0 | L8: 0 | M8: 0 | N8: 0 | O8: 0 | P8: 0 | Q8: 0 | R8: 0 | S8: 0 | T8: 0 | U8: 0 | V8: 0
F9: 0 | G9: 0 | H9: 0 | I9: 0 | J9: 0 | K9: 0 | L9: 0 | M9: 0 | N9: 0 | O9: 0 | P9: 0 | Q9: 0 | R9: 0 | S9: 0 | T9: 0 | U9: 0 | V9: 0
F10: 0 | G10: 0 | H10: 0 | I10: 0 | J10: 0 | K10: 0 | L10: 0 | M10: 0 | N10: 0 | O10: 0 | P10: 0 | Q10: 0 | R10: 0 | S10: 0 | T10: 0 | U10: 0 | V10: 0
F11: 0 | G11: 0 | H11: 0 | I11: 0 | J11: 0 | K11: 0 | L11: 0 | M11: 0 | N11: 0 | O11: 0 | P11: 0 | Q11: 0 | R11: 0 | S11: 0 | T11: 0 | U11: 0 | V11: 0
F12: 0 | G12: 0 | H12: 0 | I12: 0 | J12: 0 | K12: 0 | L12: 0 | M12: 0 | N12: 0 | O12: 0 | P12: 0 | Q12: 0 | R12: 0 | S12: 0 | T12: 0 | U12: 0 | V12: 0
F13: 0 | G13: 0 | H13: 0 | I13: 0 | J13: 0 | K13: 0 | L13: 0 | M13: 0 | N13: 0 | O13: 0 | P13: 0 | Q13: 0 | R13: 0 | S13: 0 | T13: 0 | U13: 0 | V13: 0
F14: 0 | G14: 0 | H14: 0 | I14: 0 | J14: 0 | K14: 0 | L14: 0 | M14: 0 | N14: 0 | O14: 0 | P14: 0 | Q14: 0 | R14: 0 | S14: 0 | T14: 0 | U14: 0 | V14: 0
F15: 0 | G15: 0 | H15: 0 | I15: 0 | J15: 0 | K15: 0 | L15: 0 | M15: 0 | N15: 0 | O15: 0 | P15: 0 | Q15: 0 | R15: 0 | S15: 0 | T15: 0 | U15: 0 | V15: 0
... F31: 0 | G31: 0 | H31: 0 | I31: 0 | J31: 0 | K31: 0 | L31: 0 | M31: 0 | N31: 0 | O31: 0 | P31: 0 | Q31: 0 | R31: 0 | S31: 0 | T31: 0 | U31: 0 | V31: 0
F32: 0
