Workbook
Name ayatvafaeian: INDIRECT(#REF!)

Sheet لیستوفر هوشمند (3)
N2: =INDEX(#REF!,#REF!) -> #REF!
B3: رديف | C3: Pos | D3: سایز | E3: تعداد | F3: طول جزء (متر) | G3: طول کل (متر) | H3: وزن واحد (کیلوگرم) | I3: ضریب | J3: وزن کل (کیلوگرم) | K3: شکل | L3: موقعیت | N3: =IF(N2="مستقیم","طول",IF(N2="L خوابیده به راست","طول",IF(N2="L خوابیده به چپ","طول",IF(N2="L ایستاده به راست","ارتفاع",IF(N2="L ایستاده به چپ","ارتفاع",IF(N2="] به راست","ارتفاع",IF(N2=" [به چپ","ارتفاع",IF(N2="] به بالا","طول",IF(N2="] به پایین","طول",IF(N2="ریشه پله","عمودی",IF(N2="خاموت دایره","قطر",IF(N2="خاموت 90","طول",IF(N2="خاموت 135","طول",IF(N2="رکابی","طول",IF(N2="سنجاقی 135","طول",IF(N2="خرک","پاشنه چپ","")))))))))))))))) -> #REF! | O3: =IF(N2="L خوابیده به راست","ارتفاع",IF(N2="L خوابیده به چپ","ارتفاع",IF(N2="L ایستاده به راست","پاشنه",IF(N2="L ایستاده به چپ","پاشنه",IF(N2="] به راست","عرض پایین",IF(N2=" [به چپ","عرض پایین",IF(N2="] به بالا","ارتفاع چپ",IF(N2="] به پایین","ارتفاع چپ",IF(N2="ریشه پله","شیب",IF(N2="خاموت 90","عرض",IF(N2="خاموت 135","عرض",IF(N2="رکابی","عرض",IF(N2="سنجاقی 135","طول خم 90",IF(N2="خرک","ارتفاع","")))))))))))))) -> #REF! | P3: =IF(N2="] به راست","عرض بالا",IF(N2=" [به چپ","عرض بالا",IF(N2="] به بالا","ارتفاع راست",IF(N2="] به پایین","ارتفاع راست",IF(N2="ریشه پله","افقی",IF(N2="خاموت 90","طول خم",IF(N2="خاموت 135","طول خم",IF(N2="رکابی","طول خم",IF(N2="سنجاقی 135","طول خم 135",IF(N2="خرک","طول","")))))))))) -> #REF! | Q3: =IF(N2="رکابی","قطر خم",IF(N2="سنجاقی 135","قطر خم",IF(N2="خرک","پاشنه راست",""))) -> #REF!
B4: 1 | C4: 1 | D4: 18 | E4: 110 | F4: 9.9 | G4: =F4*E4 -> 1089 | H4: =IF(D4=6,#REF!,IF('لیستوفر هوشمند (3)'!D4=8,#REF!,IF('لیستوفر هوشمند (3)'!D4=10,#REF!,IF(D4=12,#REF!,IF('لیستوفر هوشمند (3)'!D4=14,#REF!,IF('لیستوفر هوشمند (3)'!D4=16,#REF!,IF('لیستوفر هوشمند (3)'!D4=18,#REF!,IF('لیستوفر هوشمند (3)'!D4=20,#REF!,IF('لیستوفر هوشمند (3)'!D4=22,#REF!,IF('لیستوفر هوشمند (3)'!D4=24,#REF!,IF('لیستوفر هوشمند (3)'!D4=25,#REF!,IF('لیستوفر هوشمند (3)'!D4=26,#REF!,IF('لیستوفر هوشمند (3)'!D4=28,#REF!,IF('لیستوفر هوشمند (3)'!D4=30,#REF!,IF('لیستوفر هوشمند (3)'!D4=32,#REF!,0))))))))))))))) -> #REF! | I4: 1 | J4: =G4*H4 -> #REF! | L4: فونداسیون | N4: 1460 | O4: 320 | P4: 90 | Q4: 30mm | W4: {=IFERROR(INDEX($D$4:$D$88,MATCH(0,COUNTIF($W$3:W3,$D$4:$D$88),0)),"")} -> 18 | Y4: {=IFERROR(INDEX($L$4:$L$88,MATCH(0,COUNTIF($Y$3:Y3,$L$4:$L$88),0),0),0)} -> فونداسیون
B5: 2 | C5: 2 | D5: 18 | E5: 94 | F5: 12 | G5: =F5*E5 -> 1128 | H5: =IF(D5=6,#REF!,IF('لیستوفر هوشمند (3)'!D5=8,#REF!,IF('لیستوفر هوشمند (3)'!D5=10,#REF!,IF(D5=12,#REF!,IF('لیستوفر هوشمند (3)'!D5=14,#REF!,IF('لیستوفر هوشمند (3)'!D5=16,#REF!,IF('لیستوفر هوشمند (3)'!D5=18,#REF!,IF('لیستوفر هوشمند (3)'!D5=20,#REF!,IF('لیستوفر هوشمند (3)'!D5=22,#REF!,IF('لیستوفر هوشمند (3)'!D5=24,#REF!,IF('لیستوفر هوشمند (3)'!D5=25,#REF!,IF('لیستوفر هوشمند (3)'!D5=26,#REF!,IF('لیستوفر هوشمند (3)'!D5=28,#REF!,IF('لیستوفر هوشمند (3)'!D5=30,#REF!,IF('لیستوفر هوشمند (3)'!D5=32,#REF!,0))))))))))))))) -> #REF! | I5: 1 | J5: =G5*H5 -> #REF! | L5: فونداسیون
B6: 3 | C6: 3 | D6: 18 | E6: 25 | F6: 3 | G6: =F6*E6 -> 75 | H6: =IF(D6=6,#REF!,IF('لیستوفر هوشمند (3)'!D6=8,#REF!,IF('لیستوفر هوشمند (3)'!D6=10,#REF!,IF(D6=12,#REF!,IF('لیستوفر هوشمند (3)'!D6=14,#REF!,IF('لیستوفر هوشمند (3)'!D6=16,#REF!,IF('لیستوفر هوشمند (3)'!D6=18,#REF!,IF('لیستوفر هوشمند (3)'!D6=20,#REF!,IF('لیستوفر هوشمند (3)'!D6=22,#REF!,IF('لیستوفر هوشمند (3)'!D6=24,#REF!,IF('لیستوفر هوشمند (3)'!D6=25,#REF!,IF('لیستوفر هوشمند (3)'!D6=26,#REF!,IF('لیستوفر هوشمند (3)'!D6=28,#REF!,IF('لیستوفر هوشمند (3)'!D6=30,#REF!,IF('لیستوفر هوشمند (3)'!D6=32,#REF!,0))))))))))))))) -> #REF! | I6: 1 | J6: =G6*H6 -> #REF! | L6: فونداسیون | W6: {=IFERROR(INDEX($D$4:$D$88,MATCH(0,COUNTIF($W$3:W4,$D$4:$D$88),0)),"")} -> 10 | Y6: {=IFERROR(INDEX($L$4:$L$88,MATCH(0,COUNTIF($Y$3:Y4,$L$4:$L$88),0),0),0)} -> ستون طبقه 1
B7: 4 | C7: 4 | D7: 18 | E7: 90 | F7: 4.9 | G7: =F7*E7 -> 441 | H7: =IF(D7=6,#REF!,IF('لیستوفر هوشمند (3)'!D7=8,#REF!,IF('لیستوفر هوشمند (3)'!D7=10,#REF!,IF(D7=12,#REF!,IF('لیستوفر هوشمند (3)'!D7=14,#REF!,IF('لیستوفر هوشمند (3)'!D7=16,#REF!,IF('لیستوفر هوشمند (3)'!D7=18,#REF!,IF('لیستوفر هوشمند (3)'!D7=20,#REF!,IF('لیستوفر هوشمند (3)'!D7=22,#REF!,IF('لیستوفر هوشمند (3)'!D7=24,#REF!,IF('لیستوفر هوشمند (3)'!D7=25,#REF!,IF('لیستوفر هوشمند (3)'!D7=26,#REF!,IF('لیستوفر هوشمند (3)'!D7=28,#REF!,IF('لیستوفر هوشمند (3)'!D7=30,#REF!,IF('لیستوفر هوشمند (3)'!D7=32,#REF!,0))))))))))))))) -> #REF! | I7: 1.25 | J7: =G7*H7*I7 -> #REF! | L7: ستون طبقه 1 | W7: {=IFERROR(INDEX($D$4:$D$88,MATCH(0,COUNTIF($W$3:W6,$D$4:$D$88),0)),"")} -> 8 | Y7: {=IFERROR(INDEX($L$4:$L$88,MATCH(0,COUNTIF($Y$3:Y6,$L$4:$L$88),0),0),0)} -> خاموت ستون اول
B8: 5 | C8: 5 | D8: 10 | E8: =32*9 -> 288 | F8: 1.46 | G8: =F8*E8 -> 420.48 | H8: =IF(D8=6,#REF!,IF('لیستوفر هوشمند (3)'!D8=8,#REF!,IF('لیستوفر هوشمند (3)'!D8=10,#REF!,IF(D8=12,#REF!,IF('لیستوفر هوشمند (3)'!D8=14,#REF!,IF('لیستوفر هوشمند (3)'!D8=16,#REF!,IF('لیستوفر هوشمند (3)'!D8=18,#REF!,IF('لیستوفر هوشمند (3)'!D8=20,#REF!,IF('لیستوفر هوشمند (3)'!D8=22,#REF!,IF('لیستوفر هوشمند (3)'!D8=24,#REF!,IF('لیستوفر هوشمند (3)'!D8=25,#REF!,IF('لیستوفر هوشمند (3)'!D8=26,#REF!,IF('لیستوفر هوشمند (3)'!D8=28,#REF!,IF('لیستوفر هوشمند (3)'!D8=30,#REF!,IF('لیستوفر هوشمند (3)'!D8=32,#REF!,0))))))))))))))) -> #REF! | I8: 1 | J8: =G8*H8 -> #REF! | L8: خاموت ستون اول | W8: {=IFERROR(INDEX($D$4:$D$88,MATCH(0,COUNTIF($W$3:W7,$D$4:$D$88),0)),"")} -> 0 | Y8: {=IFERROR(INDEX($L$4:$L$88,MATCH(0,COUNTIF($Y$3:Y7,$L$4:$L$88),0),0),0)} -> سنجاقی ستون اول
B9: 6 | C9: 6 | D9: 10 | E9: =32*9 -> 288 | F9: 0.5 | G9: =F9*E9 -> 144 | H9: =IF(D9=6,#REF!,IF('لیستوفر هوشمند (3)'!D9=8,#REF!,IF('لیستوفر هوشمند (3)'!D9=10,#REF!,IF(D9=12,#REF!,IF('لیستوفر هوشمند (3)'!D9=14,#REF!,IF('لیستوفر هوشمند (3)'!D9=16,#REF!,IF('لیستوفر هوشمند (3)'!D9=18,#REF!,IF('لیستوفر هوشمند (3)'!D9=20,#REF!,IF('لیستوفر هوشمند (3)'!D9=22,#REF!,IF('لیستوفر هوشمند (3)'!D9=24,#REF!,IF('لیستوفر هوشمند (3)'!D9=25,#REF!,IF('لیستوفر هوشمند (3)'!D9=26,#REF!,IF('لیستوفر هوشمند (3)'!D9=28,#REF!,IF('لیستوفر هوشمند (3)'!D9=30,#REF!,IF('لیستوفر هوشمند (3)'!D9=32,#REF!,0))))))))))))))) -> #REF! | I9: 1 | J9: =G9*H9 -> #REF! | L9: سنجاقی ستون اول | W9: {=IFERROR(INDEX($D$4:$D$88,MATCH(0,COUNTIF($W$3:W8,$D$4:$D$88),0)),"")} | Y9: {=IFERROR(INDEX($L$4:$L$88,MATCH(0,COUNTIF($Y$3:Y8,$L$4:$L$88),0),0),0)} -> همبندی
B10: 7 | C10: 7 | D10: 8 | E10: 1 | F10: 175 | G10: =F10*E10 -> 175 | H10: =IF(D10=6,#REF!,IF('لیستوفر هوشمند (3)'!D10=8,#REF!,IF('لیستوفر هوشمند (3)'!D10=10,#REF!,IF(D10=12,#REF!,IF('لیستوفر هوشمند (3)'!D10=14,#REF!,IF('لیستوفر هوشمند (3)'!D10=16,#REF!,IF('لیستوفر هوشمند (3)'!D10=18,#REF!,IF('لیستوفر هوشمند (3)'!D10=20,#REF!,IF('لیستوفر هوشمند (3)'!D10=22,#REF!,IF('لیستوفر هوشمند (3)'!D10=24,#REF!,IF('لیستوفر هوشمند (3)'!D10=25,#REF!,IF('لیستوفر هوشمند (3)'!D10=26,#REF!,IF('لیستوفر هوشمند (3)'!D10=28,#REF!,IF('لیستوفر هوشمند (3)'!D10=30,#REF!,IF('لیستوفر هوشمند (3)'!D10=32,#REF!,0))))))))))))))) -> #REF! | I10: 1 | J10: =G10*H10 -> #REF! | L10: همبندی | W10: {=IFERROR(INDEX($D$4:$D$88,MATCH(0,COUNTIF($W$3:W9,$D$4:$D$88),0)),"")} | Y10: {=IFERROR(INDEX($L$4:$L$88,MATCH(0,COUNTIF($Y$3:Y9,$L$4:$L$88),0),0),0)} -> 0
B11: 20 | C11: 6 | E11: 0 | F11: 1.8 | G11: =F11*E11 -> 0 | H11: =IF(D11=6,#REF!,IF('لیستوفر هوشمند (3)'!D11=8,#REF!,IF('لیستوفر هوشمند (3)'!D11=10,#REF!,IF(D11=12,#REF!,IF('لیستوفر هوشمند (3)'!D11=14,#REF!,IF('لیستوفر هوشمند (3)'!D11=16,#REF!,IF('لیستوفر هوشمند (3)'!D11=18,#REF!,IF('لیستوفر هوشمند (3)'!D11=20,#REF!,IF('لیستوفر هوشمند (3)'!D11=22,#REF!,IF('لیستوفر هوشمند (3)'!D11=24,#REF!,IF('لیستوفر هوشمند (3)'!D11=25,#REF!,IF('لیستوفر هوشمند (3)'!D11=26,#REF!,IF('لیستوفر هوشمند (3)'!D11=28,#REF!,IF('لیستوفر هوشمند (3)'!D11=30,#REF!,IF('لیستوفر هوشمند (3)'!D11=32,#REF!,0))))))))))))))) -> 0 | J11: =G11*H11 -> 0 | W11: {=IFERROR(INDEX($D$4:$D$88,MATCH(0,COUNTIF(#REF!,$D$4:$D$88),0)),"")} | Y11: {=IFERROR(INDEX($L$4:$L$88,MATCH(0,COUNTIF($Y$3:Y10,$L$4:$L$88),0),0),0)} -> 0
B12: 21 | C12: 6 | E12: 0 | F12: 1.8 | G12: =F12*E12 -> 0 | H12: =IF(D12=6,#REF!,IF('لیستوفر هوشمند (3)'!D12=8,#REF!,IF('لیستوفر هوشمند (3)'!D12=10,#REF!,IF(D12=12,#REF!,IF('لیستوفر هوشمند (3)'!D12=14,#REF!,IF('لیستوفر هوشمند (3)'!D12=16,#REF!,IF('لیستوفر هوشمند (3)'!D12=18,#REF!,IF('لیستوفر هوشمند (3)'!D12=20,#REF!,IF('لیستوفر هوشمند (3)'!D12=22,#REF!,IF('لیستوفر هوشمند (3)'!D12=24,#REF!,IF('لیستوفر هوشمند (3)'!D12=25,#REF!,IF('لیستوفر هوشمند (3)'!D12=26,#REF!,IF('لیستوفر هوشمند (3)'!D12=28,#REF!,IF('لیستوفر هوشمند (3)'!D12=30,#REF!,IF('لیستوفر هوشمند (3)'!D12=32,#REF!,0))))))))))))))) -> 0 | J12: =G12*H12 -> 0 | W12: {=IFERROR(INDEX($D$4:$D$88,MATCH(0,COUNTIF(#REF!,$D$4:$D$88),0)),"")} | Y12: {=IFERROR(INDEX($L$4:$L$88,MATCH(0,COUNTIF($Y$3:Y11,$L$4:$L$88),0),0),0)} -> 0
B13: 22 | C13: 6 | E13: 0 | F13: 1.8 | G13: =F13*E13 -> 0 | H13: =IF(D13=6,#REF!,IF('لیستوفر هوشمند (3)'!D13=8,#REF!,IF('لیستوفر هوشمند (3)'!D13=10,#REF!,IF(D13=12,#REF!,IF('لیستوفر هوشمند (3)'!D13=14,#REF!,IF('لیستوفر هوشمند (3)'!D13=16,#REF!,IF('لیستوفر هوشمند (3)'!D13=18,#REF!,IF('لیستوفر هوشمند (3)'!D13=20,#REF!,IF('لیستوفر هوشمند (3)'!D13=22,#REF!,IF('لیستوفر هوشمند (3)'!D13=24,#REF!,IF('لیستوفر هوشمند (3)'!D13=25,#REF!,IF('لیستوفر هوشمند (3)'!D13=26,#REF!,IF('لیستوفر هوشمند (3)'!D13=28,#REF!,IF('لیستوفر هوشمند (3)'!D13=30,#REF!,IF('لیستوفر هوشمند (3)'!D13=32,#REF!,0))))))))))))))) -> 0 | J13: =G13*H13 -> 0 | W13: {=IFERROR(INDEX($D$4:$D$88,MATCH(0,COUNTIF(#REF!,$D$4:$D$88),0)),"")} | Y13: {=IFERROR(INDEX($L$4:$L$88,MATCH(0,COUNTIF($Y$3:Y12,$L$4:$L$88),0),0),0)} -> 0
B14: 23 | C14: 6 | E14: 0 | F14: 1.8 | G14: =F14*E14 -> 0 | H14: =IF(D14=6,#REF!,IF('لیستوفر هوشمند (3)'!D14=8,#REF!,IF('لیستوفر هوشمند (3)'!D14=10,#REF!,IF(D14=12,#REF!,IF('لیستوفر هوشمند (3)'!D14=14,#REF!,IF('لیستوفر هوشمند (3)'!D14=16,#REF!,IF('لیستوفر هوشمند (3)'!D14=18,#REF!,IF('لیستوفر هوشمند (3)'!D14=20,#REF!,IF('لیستوفر هوشمند (3)'!D14=22,#REF!,IF('لیستوفر هوشمند (3)'!D14=24,#REF!,IF('لیستوفر هوشمند (3)'!D14=25,#REF!,IF('لیستوفر هوشمند (3)'!D14=26,#REF!,IF('لیستوفر هوشمند (3)'!D14=28,#REF!,IF('لیستوفر هوشمند (3)'!D14=30,#REF!,IF('لیستوفر هوشمند (3)'!D14=32,#REF!,0))))))))))))))) -> 0 | J14: =G14*H14 -> 0 | W14: {=IFERROR(INDEX($D$4:$D$88,MATCH(0,COUNTIF(#REF!,$D$4:$D$88),0)),"")} | Y14: {=IFERROR(INDEX($L$4:$L$88,MATCH(0,COUNTIF($Y$3:Y13,$L$4:$L$88),0),0),0)} -> 0
B15: 24 | C15: 6 | E15: 0 | F15: 1.8 | G15: =F15*E15 -> 0 | H15: =IF(D15=6,#REF!,IF('لیستوفر هوشمند (3)'!D15=8,#REF!,IF('لیستوفر هوشمند (3)'!D15=10,#REF!,IF(D15=12,#REF!,IF('لیستوفر هوشمند (3)'!D15=14,#REF!,IF('لیستوفر هوشمند (3)'!D15=16,#REF!,IF('لیستوفر هوشمند (3)'!D15=18,#REF!,IF('لیستوفر هوشمند (3)'!D15=20,#REF!,IF('لیستوفر هوشمند (3)'!D15=22,#REF!,IF('لیستوفر هوشمند (3)'!D15=24,#REF!,IF('لیستوفر هوشمند (3)'!D15=25,#REF!,IF('لیستوفر هوشمند (3)'!D15=26,#REF!,IF('لیستوفر هوشمند (3)'!D15=28,#REF!,IF('لیستوفر هوشمند (3)'!D15=30,#REF!,IF('لیستوفر هوشمند (3)'!D15=32,#REF!,0))))))))))))))) -> 0 | J15: =G15*H15 -> 0 | W15: {=IFERROR(INDEX($D$4:$D$88,MATCH(0,COUNTIF(#REF!,$D$4:$D$88),0)),"")} | Y15: {=IFERROR(INDEX($L$4:$L$88,MATCH(0,COUNTIF($Y$3:Y14,$L$4:$L$88),0),0),0)} -> 0
B16: 25 | C16: 6 | E16: 0 | F16: 1.8 | G16: =F16*E16 -> 0 | H16: =IF(D16=6,#REF!,IF('لیستوفر هوشمند (3)'!D16=8,#REF!,IF('لیستوفر هوشمند (3)'!D16=10,#REF!,IF(D16=12,#REF!,IF('لیستوفر هوشمند (3)'!D16=14,#REF!,IF('لیستوفر هوشمند (3)'!D16=16,#REF!,IF('لیستوفر هوشمند (3)'!D16=18,#REF!,IF('لیستوفر هوشمند (3)'!D16=20,#REF!,IF('لیستوفر هوشمند (3)'!D16=22,#REF!,IF('لیستوفر هوشمند (3)'!D16=24,#REF!,IF('لیستوفر هوشمند (3)'!D16=25,#REF!,IF('لیستوفر هوشمند (3)'!D16=26,#REF!,IF('لیستوفر هوشمند (3)'!D16=28,#REF!,IF('لیستوفر هوشمند (3)'!D16=30,#REF!,IF('لیستوفر هوشمند (3)'!D16=32,#REF!,0))))))))))))))) -> 0 | J16: =G16*H16 -> 0 | W16: {=IFERROR(INDEX($D$4:$D$88,MATCH(0,COUNTIF(#REF!,$D$4:$D$88),0)),"")} | Y16: {=IFERROR(INDEX($L$4:$L$88,MATCH(0,COUNTIF($Y$3:Y15,$L$4:$L$88),0),0),0)} -> 0
B17: 26 | C17: 6 | E17: 0 | F17: 1.8 | G17: =F17*E17 -> 0 | H17: =IF(D17=6,#REF!,IF('لیستوفر هوشمند (3)'!D17=8,#REF!,IF('لیستوفر هوشمند (3)'!D17=10,#REF!,IF(D17=12,#REF!,IF('لیستوفر هوشمند (3)'!D17=14,#REF!,IF('لیستوفر هوشمند (3)'!D17=16,#REF!,IF('لیستوفر هوشمند (3)'!D17=18,#REF!,IF('لیستوفر هوشمند (3)'!D17=20,#REF!,IF('لیستوفر هوشمند (3)'!D17=22,#REF!,IF('لیستوفر هوشمند (3)'!D17=24,#REF!,IF('لیستوفر هوشمند (3)'!D17=25,#REF!,IF('لیستوفر هوشمند (3)'!D17=26,#REF!,IF('لیستوفر هوشمند (3)'!D17=28,#REF!,IF('لیستوفر هوشمند (3)'!D17=30,#REF!,IF('لیستوفر هوشمند (3)'!D17=32,#REF!,0))))))))))))))) -> 0 | J17: =G17*H17 -> 0 | W17: {=IFERROR(INDEX($D$4:$D$88,MATCH(0,COUNTIF(#REF!,$D$4:$D$88),0)),"")} | Y17: {=IFERROR(INDEX($L$4:$L$88,MATCH(0,COUNTIF($Y$3:Y16,$L$4:$L$88),0),0),0)} -> 0
B18: 27 | C18: 6 | E18: 0 | F18: 1.8 | G18: =F18*E18 -> 0 | H18: =IF(D18=6,#REF!,IF('لیستوفر هوشمند (3)'!D18=8,#REF!,IF('لیستوفر هوشمند (3)'!D18=10,#REF!,IF(D18=12,#REF!,IF('لیستوفر هوشمند (3)'!D18=14,#REF!,IF('لیستوفر هوشمند (3)'!D18=16,#REF!,IF('لیستوفر هوشمند (3)'!D18=18,#REF!,IF('لیستوفر هوشمند (3)'!D18=20,#REF!,IF('لیستوفر هوشمند (3)'!D18=22,#REF!,IF('لیستوفر هوشمند (3)'!D18=24,#REF!,IF('لیستوفر هوشمند (3)'!D18=25,#REF!,IF('لیستوفر هوشمند (3)'!D18=26,#REF!,IF('لیستوفر هوشمند (3)'!D18=28,#REF!,IF('لیستوفر هوشمند (3)'!D18=30,#REF!,IF('لیستوفر هوشمند (3)'!D18=32,#REF!,0))))))))))))))) -> 0 | J18: =G18*H18 -> 0 | W18: {=IFERROR(INDEX($D$4:$D$88,MATCH(0,COUNTIF(#REF!,$D$4:$D$88),0)),"")} | Y18: {=IFERROR(INDEX($L$4:$L$88,MATCH(0,COUNTIF($Y$3:Y17,$L$4:$L$88),0),0),0)} -> 0
B19: 28 | C19: 6 | E19: 0 | F19: 1.8 | G19: =F19*E19 -> 0 | H19: =IF(D19=6,#REF!,IF('لیستوفر هوشمند (3)'!D19=8,#REF!,IF('لیستوفر هوشمند (3)'!D19=10,#REF!,IF(D19=12,#REF!,IF('لیستوفر هوشمند (3)'!D19=14,#REF!,IF('لیستوفر هوشمند (3)'!D19=16,#REF!,IF('لیستوفر هوشمند (3)'!D19=18,#REF!,IF('لیستوفر هوشمند (3)'!D19=20,#REF!,IF('لیستوفر هوشمند (3)'!D19=22,#REF!,IF('لیستوفر هوشمند (3)'!D19=24,#REF!,IF('لیستوفر هوشمند (3)'!D19=25,#REF!,IF('لیستوفر هوشمند (3)'!D19=26,#REF!,IF('لیستوفر هوشمند (3)'!D19=28,#REF!,IF('لیستوفر هوشمند (3)'!D19=30,#REF!,IF('لیستوفر هوشمند (3)'!D19=32,#REF!,0))))))))))))))) -> 0 | J19: =G19*H19 -> 0 | W19: {=IFERROR(INDEX($D$4:$D$88,MATCH(0,COUNTIF(#REF!,$D$4:$D$88),0)),"")} | Y19: {=IFERROR(INDEX($L$4:$L$88,MATCH(0,COUNTIF($Y$3:Y18,$L$4:$L$88),0),0),0)} -> 0
B20: 29 | C20: 6 | E20: 0 | F20: 1.8 | G20: =F20*E20 -> 0 | H20: =IF(D20=6,#REF!,IF('لیستوفر هوشمند (3)'!D20=8,#REF!,IF('لیستوفر هوشمند (3)'!D20=10,#REF!,IF(D20=12,#REF!,IF('لیستوفر هوشمند (3)'!D20=14,#REF!,IF('لیستوفر هوشمند (3)'!D20=16,#REF!,IF('لیستوفر هوشمند (3)'!D20=18,#REF!,IF('لیستوفر هوشمند (3)'!D20=20,#REF!,IF('لیستوفر هوشمند (3)'!D20=22,#REF!,IF('لیستوفر هوشمند (3)'!D20=24,#REF!,IF('لیستوفر هوشمند (3)'!D20=25,#REF!,IF('لیستوفر هوشمند (3)'!D20=26,#REF!,IF('لیستوفر هوشمند (3)'!D20=28,#REF!,IF('لیستوفر هوشمند (3)'!D20=30,#REF!,IF('لیستوفر هوشمند (3)'!D20=32,#REF!,0))))))))))))))) -> 0 | J20: =G20*H20 -> 0 | W20: {=IFERROR(INDEX($D$4:$D$88,MATCH(0,COUNTIF(#REF!,$D$4:$D$88),0)),"")} | Y20: {=IFERROR(INDEX($L$4:$L$88,MATCH(0,COUNTIF($Y$3:Y19,$L$4:$L$88),0),0),0)} -> 0
B21: 30 | C21: 6 | E21: 0 | F21: 1.8 | G21: =F21*E21 -> 0 | H21: =IF(D21=6,#REF!,IF('لیستوفر هوشمند (3)'!D21=8,#REF!,IF('لیستوفر هوشمند (3)'!D21=10,#REF!,IF(D21=12,#REF!,IF('لیستوفر هوشمند (3)'!D21=14,#REF!,IF('لیستوفر هوشمند (3)'!D21=16,#REF!,IF('لیستوفر هوشمند (3)'!D21=18,#REF!,IF('لیستوفر هوشمند (3)'!D21=20,#REF!,IF('لیستوفر هوشمند (3)'!D21=22,#REF!,IF('لیستوفر هوشمند (3)'!D21=24,#REF!,IF('لیستوفر هوشمند (3)'!D21=25,#REF!,IF('لیستوفر هوشمند (3)'!D21=26,#REF!,IF('لیستوفر هوشمند (3)'!D21=28,#REF!,IF('لیستوفر هوشمند (3)'!D21=30,#REF!,IF('لیستوفر هوشمند (3)'!D21=32,#REF!,0))))))))))))))) -> 0 | J21: =G21*H21 -> 0 | W21: {=IFERROR(INDEX($D$4:$D$88,MATCH(0,COUNTIF(#REF!,$D$4:$D$88),0)),"")} | Y21: {=IFERROR(INDEX($L$4:$L$88,MATCH(0,COUNTIF($Y$3:Y20,$L$4:$L$88),0),0),0)} -> 0
B22: 31 | C22: 6 | E22: 0 | F22: 1.8 | G22: =F22*E22 -> 0 | H22: =IF(D22=6,#REF!,IF('لیستوفر هوشمند (3)'!D22=8,#REF!,IF('لیستوفر هوشمند (3)'!D22=10,#REF!,IF(D22=12,#REF!,IF('لیستوفر هوشمند (3)'!D22=14,#REF!,IF('لیستوفر هوشمند (3)'!D22=16,#REF!,IF('لیستوفر هوشمند (3)'!D22=18,#REF!,IF('لیستوفر هوشمند (3)'!D22=20,#REF!,IF('لیستوفر هوشمند (3)'!D22=22,#REF!,IF('لیستوفر هوشمند (3)'!D22=24,#REF!,IF('لیستوفر هوشمند (3)'!D22=25,#REF!,IF('لیستوفر هوشمند (3)'!D22=26,#REF!,IF('لیستوفر هوشمند (3)'!D22=28,#REF!,IF('لیستوفر هوشمند (3)'!D22=30,#REF!,IF('لیستوفر هوشمند (3)'!D22=32,#REF!,0))))))))))))))) -> 0 | J22: =G22*H22 -> 0 | W22: {=IFERROR(INDEX($D$4:$D$88,MATCH(0,COUNTIF(#REF!,$D$4:$D$88),0)),"")} | Y22: {=IFERROR(INDEX($L$4:$L$88,MATCH(0,COUNTIF($Y$3:Y21,$L$4:$L$88),0),0),0)} -> 0
... B54: 63 | C54: 6 | E54: 0 | F54: 1.8 | G54: =F54*E54 -> 0 | H54: =IF(D54=6,#REF!,IF('لیستوفر هوشمند (3)'!D54=8,#REF!,IF('لیستوفر هوشمند (3)'!D54=10,#REF!,IF(D54=12,#REF!,IF('لیستوفر هوشمند (3)'!D54=14,#REF!,IF('لیستوفر هوشمند (3)'!D54=16,#REF!,IF('لیستوفر هوشمند (3)'!D54=18,#REF!,IF('لیستوفر هوشمند (3)'!D54=20,#REF!,IF('لیستوفر هوشمند (3)'!D54=22,#REF!,IF('لیستوفر هوشمند (3)'!D54=24,#REF!,IF('لیستوفر هوشمند (3)'!D54=25,#REF!,IF('لیستوفر هوشمند (3)'!D54=26,#REF!,IF('لیستوفر هوشمند (3)'!D54=28,#REF!,IF('لیستوفر هوشمند (3)'!D54=30,#REF!,IF('لیستوفر هوشمند (3)'!D54=32,#REF!,0))))))))))))))) -> 0 | J54: =G54*H54 -> 0 | W54: {=IFERROR(INDEX($D$4:$D$88,MATCH(0,COUNTIF(#REF!,$D$4:$D$88),0)),"")} | Y54: {=IFERROR(INDEX($L$4:$L$88,MATCH(0,COUNTIF($Y$3:Y53,$L$4:$L$88),0),0),0)} -> 0
B55: 64 | C55: 6 | E55: 0 | F55: 1.8 | G55: =F55*E55 -> 0 | H55: =IF(D55=6,#REF!,IF('لیستوفر هوشمند (3)'!D55=8,#REF!,IF('لیستوفر هوشمند (3)'!D55=10,#REF!,IF(D55=12,#REF!,IF('لیستوفر هوشمند (3)'!D55=14,#REF!,IF('لیستوفر هوشمند (3)'!D55=16,#REF!,IF('لیستوفر هوشمند (3)'!D55=18,#REF!,IF('لیستوفر هوشمند (3)'!D55=20,#REF!,IF('لیستوفر هوشمند (3)'!D55=22,#REF!,IF('لیستوفر هوشمند (3)'!D55=24,#REF!,IF('لیستوفر هوشمند (3)'!D55=25,#REF!,IF('لیستوفر هوشمند (3)'!D55=26,#REF!,IF('لیستوفر هوشمند (3)'!D55=28,#REF!,IF('لیستوفر هوشمند (3)'!D55=30,#REF!,IF('لیستوفر هوشمند (3)'!D55=32,#REF!,0))))))))))))))) -> 0 | J55: =G55*H55 -> 0 | W55: {=IFERROR(INDEX($D$4:$D$88,MATCH(0,COUNTIF($W1:W$3,$D$4:$D$88),0)),"")} -> 18 | Y55: {=IFERROR(INDEX($L$4:$L$88,MATCH(0,COUNTIF($Y$3:Y54,$L$4:$L$88),0),0),0)} -> 0
B56: 65 | C56: 6 | E56: 0 | F56: 1.8 | G56: =F56*E56 -> 0 | H56: =IF(D56=6,#REF!,IF('لیستوفر هوشمند (3)'!D56=8,#REF!,IF('لیستوفر هوشمند (3)'!D56=10,#REF!,IF(D56=12,#REF!,IF('لیستوفر هوشمند (3)'!D56=14,#REF!,IF('لیستوفر هوشمند (3)'!D56=16,#REF!,IF('لیستوفر هوشمند (3)'!D56=18,#REF!,IF('لیستوفر هوشمند (3)'!D56=20,#REF!,IF('لیستوفر هوشمند (3)'!D56=22,#REF!,IF('لیستوفر هوشمند (3)'!D56=24,#REF!,IF('لیستوفر هوشمند (3)'!D56=25,#REF!,IF('لیستوفر هوشمند (3)'!D56=26,#REF!,IF('لیستوفر هوشمند (3)'!D56=28,#REF!,IF('لیستوفر هوشمند (3)'!D56=30,#REF!,IF('لیستوفر هوشمند (3)'!D56=32,#REF!,0))))))))))))))) -> 0 | J56: =G56*H56 -> 0 | W56: {=IFERROR(INDEX($D$4:$D$88,MATCH(0,COUNTIF($W2:W$3,$D$4:$D$88),0)),"")} -> 18 | Y56: {=IFERROR(INDEX($L$4:$L$88,MATCH(0,COUNTIF($Y$3:Y55,$L$4:$L$88),0),0),0)} -> 0
B57: 66 | C57: 6 | E57: 0 | F57: 1.8 | G57: =F57*E57 -> 0 | H57: =IF(D57=6,#REF!,IF('لیستوفر هوشمند (3)'!D57=8,#REF!,IF('لیستوفر هوشمند (3)'!D57=10,#REF!,IF(D57=12,#REF!,IF('لیستوفر هوشمند (3)'!D57=14,#REF!,IF('لیستوفر هوشمند (3)'!D57=16,#REF!,IF('لیستوفر هوشمند (3)'!D57=18,#REF!,IF('لیستوفر هوشمند (3)'!D57=20,#REF!,IF('لیستوفر هوشمند (3)'!D57=22,#REF!,IF('لیستوفر هوشمند (3)'!D57=24,#REF!,IF('لیستوفر هوشمند (3)'!D57=25,#REF!,IF('لیستوفر هوشمند (3)'!D57=26,#REF!,IF('لیستوفر هوشمند (3)'!D57=28,#REF!,IF('لیستوفر هوشمند (3)'!D57=30,#REF!,IF('لیستوفر هوشمند (3)'!D57=32,#REF!,0))))))))))))))) -> 0 | J57: =G57*H57 -> 0 | W57: {=IFERROR(INDEX($D$4:$D$88,MATCH(0,COUNTIF($W$3:W3,$D$4:$D$88),0)),"")} -> 18 | Y57: {=IFERROR(INDEX($L$4:$L$88,MATCH(0,COUNTIF($Y$3:Y56,$L$4:$L$88),0),0),0)} -> 0
B58: 67 | C58: 6 | E58: 0 | F58: 1.8 | G58: =F58*E58 -> 0 | H58: =IF(D58=6,#REF!,IF('لیستوفر هوشمند (3)'!D58=8,#REF!,IF('لیستوفر هوشمند (3)'!D58=10,#REF!,IF(D58=12,#REF!,IF('لیستوفر هوشمند (3)'!D58=14,#REF!,IF('لیستوفر هوشمند (3)'!D58=16,#REF!,IF('لیستوفر هوشمند (3)'!D58=18,#REF!,IF('لیستوفر هوشمند (3)'!D58=20,#REF!,IF('لیستوفر هوشمند (3)'!D58=22,#REF!,IF('لیستوفر هوشمند (3)'!D58=24,#REF!,IF('لیستوفر هوشمند (3)'!D58=25,#REF!,IF('لیستوفر هوشمند (3)'!D58=26,#REF!,IF('لیستوفر هوشمند (3)'!D58=28,#REF!,IF('لیستوفر هوشمند (3)'!D58=30,#REF!,IF('لیستوفر هوشمند (3)'!D58=32,#REF!,0))))))))))))))) -> 0 | J58: =G58*H58 -> 0 | W58: {=IFERROR(INDEX($D$4:$D$88,MATCH(0,COUNTIF($W$3:W4,$D$4:$D$88),0)),"")} -> 10 | Y58: {=IFERROR(INDEX($L$4:$L$88,MATCH(0,COUNTIF($Y$3:Y57,$L$4:$L$88),0),0),0)} -> 0
B59: 68 | C59: 6 | E59: 0 | F59: 1.8 | G59: =F59*E59 -> 0 | H59: =IF(D59=6,#REF!,IF('لیستوفر هوشمند (3)'!D59=8,#REF!,IF('لیستوفر هوشمند (3)'!D59=10,#REF!,IF(D59=12,#REF!,IF('لیستوفر هوشمند (3)'!D59=14,#REF!,IF('لیستوفر هوشمند (3)'!D59=16,#REF!,IF('لیستوفر هوشمند (3)'!D59=18,#REF!,IF('لیستوفر هوشمند (3)'!D59=20,#REF!,IF('لیستوفر هوشمند (3)'!D59=22,#REF!,IF('لیستوفر هوشمند (3)'!D59=24,#REF!,IF('لیستوفر هوشمند (3)'!D59=25,#REF!,IF('لیستوفر هوشمند (3)'!D59=26,#REF!,IF('لیستوفر هوشمند (3)'!D59=28,#REF!,IF('لیستوفر هوشمند (3)'!D59=30,#REF!,IF('لیستوفر هوشمند (3)'!D59=32,#REF!,0))))))))))))))) -> 0 | J59: =G59*H59 -> 0 | W59: {=IFERROR(INDEX($D$4:$D$88,MATCH(0,COUNTIF($W$3:W6,$D$4:$D$88),0)),"")} -> 8 | Y59: {=IFERROR(INDEX($L$4:$L$88,MATCH(0,COUNTIF($Y$3:Y58,$L$4:$L$88),0),0),0)} -> 0
B60: 69 | C60: 6 | E60: 0 | F60: 1.8 | G60: =F60*E60 -> 0 | H60: =IF(D60=6,#REF!,IF('لیستوفر هوشمند (3)'!D60=8,#REF!,IF('لیستوفر هوشمند (3)'!D60=10,#REF!,IF(D60=12,#REF!,IF('لیستوفر هوشمند (3)'!D60=14,#REF!,IF('لیستوفر هوشمند (3)'!D60=16,#REF!,IF('لیستوفر هوشمند (3)'!D60=18,#REF!,IF('لیستوفر هوشمند (3)'!D60=20,#REF!,IF('لیستوفر هوشمند (3)'!D60=22,#REF!,IF('لیستوفر هوشمند (3)'!D60=24,#REF!,IF('لیستوفر هوشمند (3)'!D60=25,#REF!,IF('لیستوفر هوشمند (3)'!D60=26,#REF!,IF('لیستوفر هوشمند (3)'!D60=28,#REF!,IF('لیستوفر هوشمند (3)'!D60=30,#REF!,IF('لیستوفر هوشمند (3)'!D60=32,#REF!,0))))))))))))))) -> 0 | J60: =G60*H60 -> 0 | W60: {=IFERROR(INDEX($D$4:$D$88,MATCH(0,COUNTIF($W$3:W7,$D$4:$D$88),0)),"")} -> 0 | Y60: {=IFERROR(INDEX($L$4:$L$88,MATCH(0,COUNTIF($Y$3:Y59,$L$4:$L$88),0),0),0)} -> 0
B61: 70 | C61: 6 | E61: 0 | F61: 1.8 | G61: =F61*E61 -> 0 | H61: =IF(D61=6,#REF!,IF('لیستوفر هوشمند (3)'!D61=8,#REF!,IF('لیستوفر هوشمند (3)'!D61=10,#REF!,IF(D61=12,#REF!,IF('لیستوفر هوشمند (3)'!D61=14,#REF!,IF('لیستوفر هوشمند (3)'!D61=16,#REF!,IF('لیستوفر هوشمند (3)'!D61=18,#REF!,IF('لیستوفر هوشمند (3)'!D61=20,#REF!,IF('لیستوفر هوشمند (3)'!D61=22,#REF!,IF('لیستوفر هوشمند (3)'!D61=24,#REF!,IF('لیستوفر هوشمند (3)'!D61=25,#REF!,IF('لیستوفر هوشمند (3)'!D61=26,#REF!,IF('لیستوفر هوشمند (3)'!D61=28,#REF!,IF('لیستوفر هوشمند (3)'!D61=30,#REF!,IF('لیستوفر هوشمند (3)'!D61=32,#REF!,0))))))))))))))) -> 0 | J61: =G61*H61 -> 0 | W61: {=IFERROR(INDEX($D$4:$D$88,MATCH(0,COUNTIF($W$3:W8,$D$4:$D$88),0)),"")} | Y61: {=IFERROR(INDEX($L$4:$L$88,MATCH(0,COUNTIF($Y$3:Y60,$L$4:$L$88),0),0),0)} -> 0
B62: 71 | C62: 6 | E62: 0 | F62: 1.8 | G62: =F62*E62 -> 0 | H62: =IF(D62=6,#REF!,IF('لیستوفر هوشمند (3)'!D62=8,#REF!,IF('لیستوفر هوشمند (3)'!D62=10,#REF!,IF(D62=12,#REF!,IF('لیستوفر هوشمند (3)'!D62=14,#REF!,IF('لیستوفر هوشمند (3)'!D62=16,#REF!,IF('لیستوفر هوشمند (3)'!D62=18,#REF!,IF('لیستوفر هوشمند (3)'!D62=20,#REF!,IF('لیستوفر هوشمند (3)'!D62=22,#REF!,IF('لیستوفر هوشمند (3)'!D62=24,#REF!,IF('لیستوفر هوشمند (3)'!D62=25,#REF!,IF('لیستوفر هوشمند (3)'!D62=26,#REF!,IF('لیستوفر هوشمند (3)'!D62=28,#REF!,IF('لیستوفر هوشمند (3)'!D62=30,#REF!,IF('لیستوفر هوشمند (3)'!D62=32,#REF!,0))))))))))))))) -> 0 | J62: =G62*H62 -> 0 | W62: {=IFERROR(INDEX($D$4:$D$88,MATCH(0,COUNTIF($W$3:W9,$D$4:$D$88),0)),"")} | Y62: {=IFERROR(INDEX($L$4:$L$88,MATCH(0,COUNTIF($Y$3:Y61,$L$4:$L$88),0),0),0)} -> 0
B63: 72 | C63: 6 | E63: 0 | F63: 1.8 | G63: =F63*E63 -> 0 | H63: =IF(D63=6,#REF!,IF('لیستوفر هوشمند (3)'!D63=8,#REF!,IF('لیستوفر هوشمند (3)'!D63=10,#REF!,IF(D63=12,#REF!,IF('لیستوفر هوشمند (3)'!D63=14,#REF!,IF('لیستوفر هوشمند (3)'!D63=16,#REF!,IF('لیستوفر هوشمند (3)'!D63=18,#REF!,IF('لیستوفر هوشمند (3)'!D63=20,#REF!,IF('لیستوفر هوشمند (3)'!D63=22,#REF!,IF('لیستوفر هوشمند (3)'!D63=24,#REF!,IF('لیستوفر هوشمند (3)'!D63=25,#REF!,IF('لیستوفر هوشمند (3)'!D63=26,#REF!,IF('لیستوفر هوشمند (3)'!D63=28,#REF!,IF('لیستوفر هوشمند (3)'!D63=30,#REF!,IF('لیستوفر هوشمند (3)'!D63=32,#REF!,0))))))))))))))) -> 0 | J63: =G63*H63 -> 0 | W63: {=IFERROR(INDEX($D$4:$D$88,MATCH(0,COUNTIF($W$3:W9,$D$4:$D$88),0)),"")} | Y63: {=IFERROR(INDEX($L$4:$L$88,MATCH(0,COUNTIF($Y$3:Y62,$L$4:$L$88),0),0),0)} -> 0
B64: 73 | C64: 6 | E64: 0 | F64: 1.8 | G64: =F64*E64 -> 0 | H64: =IF(D64=6,#REF!,IF('لیستوفر هوشمند (3)'!D64=8,#REF!,IF('لیستوفر هوشمند (3)'!D64=10,#REF!,IF(D64=12,#REF!,IF('لیستوفر هوشمند (3)'!D64=14,#REF!,IF('لیستوفر هوشمند (3)'!D64=16,#REF!,IF('لیستوفر هوشمند (3)'!D64=18,#REF!,IF('لیستوفر هوشمند (3)'!D64=20,#REF!,IF('لیستوفر هوشمند (3)'!D64=22,#REF!,IF('لیستوفر هوشمند (3)'!D64=24,#REF!,IF('لیستوفر هوشمند (3)'!D64=25,#REF!,IF('لیستوفر هوشمند (3)'!D64=26,#REF!,IF('لیستوفر هوشمند (3)'!D64=28,#REF!,IF('لیستوفر هوشمند (3)'!D64=30,#REF!,IF('لیستوفر هوشمند (3)'!D64=32,#REF!,0))))))))))))))) -> 0 | J64: =G64*H64 -> 0 | W64: {=IFERROR(INDEX($D$4:$D$88,MATCH(0,COUNTIF($W$3:W9,$D$4:$D$88),0)),"")} | Y64: {=IFERROR(INDEX($L$4:$L$88,MATCH(0,COUNTIF($Y$3:Y63,$L$4:$L$88),0),0),0)} -> 0
B65: 74 | C65: 6 | E65: 0 | F65: 1.8 | G65: =F65*E65 -> 0 | H65: =IF(D65=6,#REF!,IF('لیستوفر هوشمند (3)'!D65=8,#REF!,IF('لیستوفر هوشمند (3)'!D65=10,#REF!,IF(D65=12,#REF!,IF('لیستوفر هوشمند (3)'!D65=14,#REF!,IF('لیستوفر هوشمند (3)'!D65=16,#REF!,IF('لیستوفر هوشمند (3)'!D65=18,#REF!,IF('لیستوفر هوشمند (3)'!D65=20,#REF!,IF('لیستوفر هوشمند (3)'!D65=22,#REF!,IF('لیستوفر هوشمند (3)'!D65=24,#REF!,IF('لیستوفر هوشمند (3)'!D65=25,#REF!,IF('لیستوفر هوشمند (3)'!D65=26,#REF!,IF('لیستوفر هوشمند (3)'!D65=28,#REF!,IF('لیستوفر هوشمند (3)'!D65=30,#REF!,IF('لیستوفر هوشمند (3)'!D65=32,#REF!,0))))))))))))))) -> 0 | J65: =G65*H65 -> 0 | W65: {=IFERROR(INDEX($D$4:$D$88,MATCH(0,COUNTIF($W1:W$3,$D$4:$D$88),0)),"")} -> 18 | Y65: {=IFERROR(INDEX($L$4:$L$88,MATCH(0,COUNTIF($Y$3:Y64,$L$4:$L$88),0),0),0)} -> 0
B66: 75 | C66: 6 | E66: 0 | F66: 1.8 | G66: =F66*E66 -> 0 | H66: =IF(D66=6,#REF!,IF('لیستوفر هوشمند (3)'!D66=8,#REF!,IF('لیستوفر هوشمند (3)'!D66=10,#REF!,IF(D66=12,#REF!,IF('لیستوفر هوشمند (3)'!D66=14,#REF!,IF('لیستوفر هوشمند (3)'!D66=16,#REF!,IF('لیستوفر هوشمند (3)'!D66=18,#REF!,IF('لیستوفر هوشمند (3)'!D66=20,#REF!,IF('لیستوفر هوشمند (3)'!D66=22,#REF!,IF('لیستوفر هوشمند (3)'!D66=24,#REF!,IF('لیستوفر هوشمند (3)'!D66=25,#REF!,IF('لیستوفر هوشمند (3)'!D66=26,#REF!,IF('لیستوفر هوشمند (3)'!D66=28,#REF!,IF('لیستوفر هوشمند (3)'!D66=30,#REF!,IF('لیستوفر هوشمند (3)'!D66=32,#REF!,0))))))))))))))) -> 0 | J66: =G66*H66 -> 0 | W66: {=IFERROR(INDEX($D$4:$D$88,MATCH(0,COUNTIF($W2:W$3,$D$4:$D$88),0)),"")} -> 18 | Y66: {=IFERROR(INDEX($L$4:$L$88,MATCH(0,COUNTIF($Y$3:Y65,$L$4:$L$88),0),0),0)} -> 0
B67: 76 | C67: 6 | E67: 0 | F67: 1.8 | G67: =F67*E67 -> 0 | H67: =IF(D67=6,#REF!,IF('لیستوفر هوشمند (3)'!D67=8,#REF!,IF('لیستوفر هوشمند (3)'!D67=10,#REF!,IF(D67=12,#REF!,IF('لیستوفر هوشمند (3)'!D67=14,#REF!,IF('لیستوفر هوشمند (3)'!D67=16,#REF!,IF('لیستوفر هوشمند (3)'!D67=18,#REF!,IF('لیستوفر هوشمند (3)'!D67=20,#REF!,IF('لیستوفر هوشمند (3)'!D67=22,#REF!,IF('لیستوفر هوشمند (3)'!D67=24,#REF!,IF('لیستوفر هوشمند (3)'!D67=25,#REF!,IF('لیستوفر هوشمند (3)'!D67=26,#REF!,IF('لیستوفر هوشمند (3)'!D67=28,#REF!,IF('لیستوفر هوشمند (3)'!D67=30,#REF!,IF('لیستوفر هوشمند (3)'!D67=32,#REF!,0))))))))))))))) -> 0 | J67: =G67*H67 -> 0 | W67: {=IFERROR(INDEX($D$4:$D$88,MATCH(0,COUNTIF($W$3:W3,$D$4:$D$88),0)),"")} -> 18 | Y67: {=IFERROR(INDEX($L$4:$L$88,MATCH(0,COUNTIF($Y$3:Y66,$L$4:$L$88),0),0),0)} -> 0
B68: 77 | C68: 6 | E68: 0 | F68: 1.8 | G68: =F68*E68 -> 0 | H68: =IF(D68=6,#REF!,IF('لیستوفر هوشمند (3)'!D68=8,#REF!,IF('لیستوفر هوشمند (3)'!D68=10,#REF!,IF(D68=12,#REF!,IF('لیستوفر هوشمند (3)'!D68=14,#REF!,IF('لیستوفر هوشمند (3)'!D68=16,#REF!,IF('لیستوفر هوشمند (3)'!D68=18,#REF!,IF('لیستوفر هوشمند (3)'!D68=20,#REF!,IF('لیستوفر هوشمند (3)'!D68=22,#REF!,IF('لیستوفر هوشمند (3)'!D68=24,#REF!,IF('لیستوفر هوشمند (3)'!D68=25,#REF!,IF('لیستوفر هوشمند (3)'!D68=26,#REF!,IF('لیستوفر هوشمند (3)'!D68=28,#REF!,IF('لیستوفر هوشمند (3)'!D68=30,#REF!,IF('لیستوفر هوشمند (3)'!D68=32,#REF!,0))))))))))))))) -> 0 | J68: =G68*H68 -> 0 | W68: {=IFERROR(INDEX($D$4:$D$88,MATCH(0,COUNTIF($W$3:W4,$D$4:$D$88),0)),"")} -> 10 | Y68: {=IFERROR(INDEX($L$4:$L$88,MATCH(0,COUNTIF($Y$3:Y67,$L$4:$L$88),0),0),0)} -> 0
B69: 78 | C69: 6 | E69: 0 | F69: 1.8 | G69: =F69*E69 -> 0 | H69: =IF(D69=6,#REF!,IF('لیستوفر هوشمند (3)'!D69=8,#REF!,IF('لیستوفر هوشمند (3)'!D69=10,#REF!,IF(D69=12,#REF!,IF('لیستوفر هوشمند (3)'!D69=14,#REF!,IF('لیستوفر هوشمند (3)'!D69=16,#REF!,IF('لیستوفر هوشمند (3)'!D69=18,#REF!,IF('لیستوفر هوشمند (3)'!D69=20,#REF!,IF('لیستوفر هوشمند (3)'!D69=22,#REF!,IF('لیستوفر هوشمند (3)'!D69=24,#REF!,IF('لیستوفر هوشمند (3)'!D69=25,#REF!,IF('لیستوفر هوشمند (3)'!D69=26,#REF!,IF('لیستوفر هوشمند (3)'!D69=28,#REF!,IF('لیستوفر هوشمند (3)'!D69=30,#REF!,IF('لیستوفر هوشمند (3)'!D69=32,#REF!,0))))))))))))))) -> 0 | J69: =G69*H69 -> 0 | W69: {=IFERROR(INDEX($D$4:$D$88,MATCH(0,COUNTIF($W$3:W6,$D$4:$D$88),0)),"")} -> 8 | Y69: {=IFERROR(INDEX($L$4:$L$88,MATCH(0,COUNTIF($Y$3:Y68,$L$4:$L$88),0),0),0)} -> 0
B70: 79 | C70: 6 | E70: 0 | F70: 1.8 | G70: =F70*E70 -> 0 | H70: =IF(D70=6,#REF!,IF('لیستوفر هوشمند (3)'!D70=8,#REF!,IF('لیستوفر هوشمند (3)'!D70=10,#REF!,IF(D70=12,#REF!,IF('لیستوفر هوشمند (3)'!D70=14,#REF!,IF('لیستوفر هوشمند (3)'!D70=16,#REF!,IF('لیستوفر هوشمند (3)'!D70=18,#REF!,IF('لیستوفر هوشمند (3)'!D70=20,#REF!,IF('لیستوفر هوشمند (3)'!D70=22,#REF!,IF('لیستوفر هوشمند (3)'!D70=24,#REF!,IF('لیستوفر هوشمند (3)'!D70=25,#REF!,IF('لیستوفر هوشمند (3)'!D70=26,#REF!,IF('لیستوفر هوشمند (3)'!D70=28,#REF!,IF('لیستوفر هوشمند (3)'!D70=30,#REF!,IF('لیستوفر هوشمند (3)'!D70=32,#REF!,0))))))))))))))) -> 0 | J70: =G70*H70 -> 0 | W70: {=IFERROR(INDEX($D$4:$D$88,MATCH(0,COUNTIF($W$3:W7,$D$4:$D$88),0)),"")} -> 0 | Y70: {=IFERROR(INDEX($L$4:$L$88,MATCH(0,COUNTIF($Y$3:Y69,$L$4:$L$88),0),0),0)} -> 0
B71: 80 | C71: 6 | E71: 0 | F71: 1.8 | G71: =F71*E71 -> 0 | H71: =IF(D71=6,#REF!,IF('لیستوفر هوشمند (3)'!D71=8,#REF!,IF('لیستوفر هوشمند (3)'!D71=10,#REF!,IF(D71=12,#REF!,IF('لیستوفر هوشمند (3)'!D71=14,#REF!,IF('لیستوفر هوشمند (3)'!D71=16,#REF!,IF('لیستوفر هوشمند (3)'!D71=18,#REF!,IF('لیستوفر هوشمند (3)'!D71=20,#REF!,IF('لیستوفر هوشمند (3)'!D71=22,#REF!,IF('لیستوفر هوشمند (3)'!D71=24,#REF!,IF('لیستوفر هوشمند (3)'!D71=25,#REF!,IF('لیستوفر هوشمند (3)'!D71=26,#REF!,IF('لیستوفر هوشمند (3)'!D71=28,#REF!,IF('لیستوفر هوشمند (3)'!D71=30,#REF!,IF('لیستوفر هوشمند (3)'!D71=32,#REF!,0))))))))))))))) -> 0 | J71: =G71*H71 -> 0 | W71: {=IFERROR(INDEX($D$4:$D$88,MATCH(0,COUNTIF($W$3:W8,$D$4:$D$88),0)),"")} | Y71: {=IFERROR(INDEX($L$4:$L$88,MATCH(0,COUNTIF($Y$3:Y70,$L$4:$L$88),0),0),0)} -> 0
B72: 81 | C72: 6 | E72: 0 | F72: 1.8 | G72: =F72*E72 -> 0 | H72: =IF(D72=6,#REF!,IF('لیستوفر هوشمند (3)'!D72=8,#REF!,IF('لیستوفر هوشمند (3)'!D72=10,#REF!,IF(D72=12,#REF!,IF('لیستوفر هوشمند (3)'!D72=14,#REF!,IF('لیستوفر هوشمند (3)'!D72=16,#REF!,IF('لیستوفر هوشمند (3)'!D72=18,#REF!,IF('لیستوفر هوشمند (3)'!D72=20,#REF!,IF('لیستوفر هوشمند (3)'!D72=22,#REF!,IF('لیستوفر هوشمند (3)'!D72=24,#REF!,IF('لیستوفر هوشمند (3)'!D72=25,#REF!,IF('لیستوفر هوشمند (3)'!D72=26,#REF!,IF('لیستوفر هوشمند (3)'!D72=28,#REF!,IF('لیستوفر هوشمند (3)'!D72=30,#REF!,IF('لیستوفر هوشمند (3)'!D72=32,#REF!,0))))))))))))))) -> 0 | J72: =G72*H72 -> 0 | W72: {=IFERROR(INDEX($D$4:$D$88,MATCH(0,COUNTIF($W$3:W9,$D$4:$D$88),0)),"")} | Y72: {=IFERROR(INDEX($L$4:$L$88,MATCH(0,COUNTIF($Y$3:Y71,$L$4:$L$88),0),0),0)} -> 0
...

Sheet لیستوفر هوشمند (2)
N2: =INDEX(#REF!,#REF!) -> #REF!
B3: رديف | C3: Pos | D3: سایز | E3: تعداد | F3: طول جزء (متر) | G3: طول کل (متر) | H3: وزن واحد (کیلوگرم) | I3: ضریب | J3: وزن کل (کیلوگرم) | K3: شکل | L3: موقعیت | N3: =IF(N2="مستقیم","طول",IF(N2="L خوابیده به راست","طول",IF(N2="L خوابیده به چپ","طول",IF(N2="L ایستاده به راست","ارتفاع",IF(N2="L ایستاده به چپ","ارتفاع",IF(N2="] به راست","ارتفاع",IF(N2=" [به چپ","ارتفاع",IF(N2="] به بالا","طول",IF(N2="] به پایین","طول",IF(N2="ریشه پله","عمودی",IF(N2="خاموت دایره","قطر",IF(N2="خاموت 90","طول",IF(N2="خاموت 135","طول",IF(N2="رکابی","طول",IF(N2="سنجاقی 135","طول",IF(N2="خرک","پاشنه چپ","")))))))))))))))) -> #REF! | O3: =IF(N2="L خوابیده به راست","ارتفاع",IF(N2="L خوابیده به چپ","ارتفاع",IF(N2="L ایستاده به راست","پاشنه",IF(N2="L ایستاده به چپ","پاشنه",IF(N2="] به راست","عرض پایین",IF(N2=" [به چپ","عرض پایین",IF(N2="] به بالا","ارتفاع چپ",IF(N2="] به پایین","ارتفاع چپ",IF(N2="ریشه پله","شیب",IF(N2="خاموت 90","عرض",IF(N2="خاموت 135","عرض",IF(N2="رکابی","عرض",IF(N2="سنجاقی 135","طول خم 90",IF(N2="خرک","ارتفاع","")))))))))))))) -> #REF! | P3: =IF(N2="] به راست","عرض بالا",IF(N2=" [به چپ","عرض بالا",IF(N2="] به بالا","ارتفاع راست",IF(N2="] به پایین","ارتفاع راست",IF(N2="ریشه پله","افقی",IF(N2="خاموت 90","طول خم",IF(N2="خاموت 135","طول خم",IF(N2="رکابی","طول خم",IF(N2="سنجاقی 135","طول خم 135",IF(N2="خرک","طول","")))))))))) -> #REF! | Q3: =IF(N2="رکابی","قطر خم",IF(N2="سنجاقی 135","قطر خم",IF(N2="خرک","پاشنه راست",""))) -> #REF!
B4: 1 | C4: 1 | D4: 18 | E4: 47 | F4: 9.8 | G4: =F4*E4 -> 460.6 | H4: =IF(D4=6,#REF!,IF('لیستوفر هوشمند (2)'!D4=8,#REF!,IF('لیستوفر هوشمند (2)'!D4=10,#REF!,IF(D4=12,#REF!,IF('لیستوفر هوشمند (2)'!D4=14,#REF!,IF('لیستوفر هوشمند (2)'!D4=16,#REF!,IF('لیستوفر هوشمند (2)'!D4=18,#REF!,IF('لیستوفر هوشمند (2)'!D4=20,#REF!,IF('لیستوفر هوشمند (2)'!D4=22,#REF!,IF('لیستوفر هوشمند (2)'!D4=24,#REF!,IF('لیستوفر هوشمند (2)'!D4=25,#REF!,IF('لیستوفر هوشمند (2)'!D4=26,#REF!,IF('لیستوفر هوشمند (2)'!D4=28,#REF!,IF('لیستوفر هوشمند (2)'!D4=30,#REF!,IF('لیستوفر هوشمند (2)'!D4=32,#REF!,0))))))))))))))) -> #REF! | I4: 1 | J4: =G4*H4 -> #REF! | L4: فونداسیون | N4: 1460 | O4: 320 | P4: 90 | Q4: 30mm | W4: {=IFERROR(INDEX($D$4:$D$95,MATCH(0,COUNTIF($W$3:W3,$D$4:$D$95),0)),"")} -> 18 | Y4: {=IFERROR(INDEX($L$4:$L$95,MATCH(0,COUNTIF($Y$3:Y3,$L$4:$L$95),0),0),0)} -> فونداسیون
B5: 2 | C5: 2 | D5: 18 | E5: 62 | F5: 12 | G5: =F5*E5 -> 744 | H5: =IF(D5=6,#REF!,IF('لیستوفر هوشمند (2)'!D5=8,#REF!,IF('لیستوفر هوشمند (2)'!D5=10,#REF!,IF(D5=12,#REF!,IF('لیستوفر هوشمند (2)'!D5=14,#REF!,IF('لیستوفر هوشمند (2)'!D5=16,#REF!,IF('لیستوفر هوشمند (2)'!D5=18,#REF!,IF('لیستوفر هوشمند (2)'!D5=20,#REF!,IF('لیستوفر هوشمند (2)'!D5=22,#REF!,IF('لیستوفر هوشمند (2)'!D5=24,#REF!,IF('لیستوفر هوشمند (2)'!D5=25,#REF!,IF('لیستوفر هوشمند (2)'!D5=26,#REF!,IF('لیستوفر هوشمند (2)'!D5=28,#REF!,IF('لیستوفر هوشمند (2)'!D5=30,#REF!,IF('لیستوفر هوشمند (2)'!D5=32,#REF!,0))))))))))))))) -> #REF! | I5: 1 | J5: =G5*H5 -> #REF! | L5: فونداسیون
B6: 3 | C6: 3 | D6: 18 | E6: 62 | F6: 2.2 | G6: =F6*E6 -> 136.4 | H6: =IF(D6=6,#REF!,IF('لیستوفر هوشمند (2)'!D6=8,#REF!,IF('لیستوفر هوشمند (2)'!D6=10,#REF!,IF(D6=12,#REF!,IF('لیستوفر هوشمند (2)'!D6=14,#REF!,IF('لیستوفر هوشمند (2)'!D6=16,#REF!,IF('لیستوفر هوشمند (2)'!D6=18,#REF!,IF('لیستوفر هوشمند (2)'!D6=20,#REF!,IF('لیستوفر هوشمند (2)'!D6=22,#REF!,IF('لیستوفر هوشمند (2)'!D6=24,#REF!,IF('لیستوفر هوشمند (2)'!D6=25,#REF!,IF('لیستوفر هوشمند (2)'!D6=26,#REF!,IF('لیستوفر هوشمند (2)'!D6=28,#REF!,IF('لیستوفر هوشمند (2)'!D6=30,#REF!,IF('لیستوفر هوشمند (2)'!D6=32,#REF!,0))))))))))))))) -> #REF! | I6: 1 | J6: =G6*H6 -> #REF! | L6: فونداسیون
B7: 4 | C7: 4 | D7: 18 | E7: 25 | F7: 3 | G7: =F7*E7 -> 75 | H7: =IF(D7=6,#REF!,IF('لیستوفر هوشمند (2)'!D7=8,#REF!,IF('لیستوفر هوشمند (2)'!D7=10,#REF!,IF(D7=12,#REF!,IF('لیستوفر هوشمند (2)'!D7=14,#REF!,IF('لیستوفر هوشمند (2)'!D7=16,#REF!,IF('لیستوفر هوشمند (2)'!D7=18,#REF!,IF('لیستوفر هوشمند (2)'!D7=20,#REF!,IF('لیستوفر هوشمند (2)'!D7=22,#REF!,IF('لیستوفر هوشمند (2)'!D7=24,#REF!,IF('لیستوفر هوشمند (2)'!D7=25,#REF!,IF('لیستوفر هوشمند (2)'!D7=26,#REF!,IF('لیستوفر هوشمند (2)'!D7=28,#REF!,IF('لیستوفر هوشمند (2)'!D7=30,#REF!,IF('لیستوفر هوشمند (2)'!D7=32,#REF!,0))))))))))))))) -> #REF! | I7: 1 | J7: =G7*H7 -> #REF! | L7: فونداسیون | W7: {=IFERROR(INDEX($D$4:$D$95,MATCH(0,COUNTIF($W$3:W4,$D$4:$D$95),0)),"")} -> 16 | Y7: {=IFERROR(INDEX($L$4:$L$95,MATCH(0,COUNTIF($Y$3:Y4,$L$4:$L$95),0),0),0)} -> ستون طبقه 1
B8: 5 | C8: 5 | D8: 16 | E8: 90 | F8: 4.9 | G8: =F8*E8 -> 441 | H8: =IF(D8=6,#REF!,IF('لیستوفر هوشمند (2)'!D8=8,#REF!,IF('لیستوفر هوشمند (2)'!D8=10,#REF!,IF(D8=12,#REF!,IF('لیستوفر هوشمند (2)'!D8=14,#REF!,IF('لیستوفر هوشمند (2)'!D8=16,#REF!,IF('لیستوفر هوشمند (2)'!D8=18,#REF!,IF('لیستوفر هوشمند (2)'!D8=20,#REF!,IF('لیستوفر هوشمند (2)'!D8=22,#REF!,IF('لیستوفر هوشمند (2)'!D8=24,#REF!,IF('لیستوفر هوشمند (2)'!D8=25,#REF!,IF('لیستوفر هوشمند (2)'!D8=26,#REF!,IF('لیستوفر هوشمند (2)'!D8=28,#REF!,IF('لیستوفر هوشمند (2)'!D8=30,#REF!,IF('لیستوفر هوشمند (2)'!D8=32,#REF!,0))))))))))))))) -> #REF! | I8: 1.25 | J8: =G8*H8*I8 -> #REF! | L8: ستون طبقه 1 | W8: {=IFERROR(INDEX($D$4:$D$95,MATCH(0,COUNTIF($W$3:W7,$D$4:$D$95),0)),"")} -> 10 | Y8: {=IFERROR(INDEX($L$4:$L$95,MATCH(0,COUNTIF($Y$3:Y7,$L$4:$L$95),0),0),0)} -> خاموت ستون اول
B9: 6 | C9: 6 | D9: 10 | E9: =32*9 -> 288 | F9: 1.46 | G9: =F9*E9 -> 420.48 | H9: =IF(D9=6,#REF!,IF('لیستوفر هوشمند (2)'!D9=8,#REF!,IF('لیستوفر هوشمند (2)'!D9=10,#REF!,IF(D9=12,#REF!,IF('لیستوفر هوشمند (2)'!D9=14,#REF!,IF('لیستوفر هوشمند (2)'!D9=16,#REF!,IF('لیستوفر هوشمند (2)'!D9=18,#REF!,IF('لیستوفر هوشمند (2)'!D9=20,#REF!,IF('لیستوفر هوشمند (2)'!D9=22,#REF!,IF('لیستوفر هوشمند (2)'!D9=24,#REF!,IF('لیستوفر هوشمند (2)'!D9=25,#REF!,IF('لیستوفر هوشمند (2)'!D9=26,#REF!,IF('لیستوفر هوشمند (2)'!D9=28,#REF!,IF('لیستوفر هوشمند (2)'!D9=30,#REF!,IF('لیستوفر هوشمند (2)'!D9=32,#REF!,0))))))))))))))) -> #REF! | I9: 1 | J9: =G9*H9 -> #REF! | L9: خاموت ستون اول | W9: {=IFERROR(INDEX($D$4:$D$95,MATCH(0,COUNTIF($W$3:W8,$D$4:$D$95),0)),"")} -> 14 | Y9: {=IFERROR(INDEX($L$4:$L$95,MATCH(0,COUNTIF($Y$3:Y8,$L$4:$L$95),0),0),0)} -> سنجاقی ستون اول
B10: 7 | C10: 7 | D10: 10 | E10: =32*9 -> 288 | F10: 0.5 | G10: =F10*E10 -> 144 | H10: =IF(D10=6,#REF!,IF('لیستوفر هوشمند (2)'!D10=8,#REF!,IF('لیستوفر هوشمند (2)'!D10=10,#REF!,IF(D10=12,#REF!,IF('لیستوفر هوشمند (2)'!D10=14,#REF!,IF('لیستوفر هوشمند (2)'!D10=16,#REF!,IF('لیستوفر هوشمند (2)'!D10=18,#REF!,IF('لیستوفر هوشمند (2)'!D10=20,#REF!,IF('لیستوفر هوشمند (2)'!D10=22,#REF!,IF('لیستوفر هوشمند (2)'!D10=24,#REF!,IF('لیستوفر هوشمند (2)'!D10=25,#REF!,IF('لیستوفر هوشمند (2)'!D10=26,#REF!,IF('لیستوفر هوشمند (2)'!D10=28,#REF!,IF('لیستوفر هوشمند (2)'!D10=30,#REF!,IF('لیستوفر هوشمند (2)'!D10=32,#REF!,0))))))))))))))) -> #REF! | I10: 1 | J10: =G10*H10 -> #REF! | L10: سنجاقی ستون اول | W10: {=IFERROR(INDEX($D$4:$D$95,MATCH(0,COUNTIF($W$3:W9,$D$4:$D$95),0)),"")} -> 0 | Y10: {=IFERROR(INDEX($L$4:$L$95,MATCH(0,COUNTIF($Y$3:Y9,$L$4:$L$95),0),0),0)} -> ستون طبقه 2
B11: 8 | C11: 8 | D11: 14 | E11: 90 | F11: 4 | G11: =F11*E11 -> 360 | H11: =IF(D11=6,#REF!,IF('لیستوفر هوشمند (2)'!D11=8,#REF!,IF('لیستوفر هوشمند (2)'!D11=10,#REF!,IF(D11=12,#REF!,IF('لیستوفر هوشمند (2)'!D11=14,#REF!,IF('لیستوفر هوشمند (2)'!D11=16,#REF!,IF('لیستوفر هوشمند (2)'!D11=18,#REF!,IF('لیستوفر هوشمند (2)'!D11=20,#REF!,IF('لیستوفر هوشمند (2)'!D11=22,#REF!,IF('لیستوفر هوشمند (2)'!D11=24,#REF!,IF('لیستوفر هوشمند (2)'!D11=25,#REF!,IF('لیستوفر هوشمند (2)'!D11=26,#REF!,IF('لیستوفر هوشمند (2)'!D11=28,#REF!,IF('لیستوفر هوشمند (2)'!D11=30,#REF!,IF('لیستوفر هوشمند (2)'!D11=32,#REF!,0))))))))))))))) -> #REF! | I11: 1 | J11: =G11*H11 -> #REF! | L11: ستون طبقه 2 | W11: {=IFERROR(INDEX($D$4:$D$95,MATCH(0,COUNTIF($W$3:W10,$D$4:$D$95),0)),"")} | Y11: {=IFERROR(INDEX($L$4:$L$95,MATCH(0,COUNTIF($Y$3:Y10,$L$4:$L$95),0),0),0)} -> خاموت ستون دوم
B12: 9 | C12: 9 | D12: 10 | E12: 261 | F12: 1.46 | G12: =F12*E12 -> 381.06 | H12: =IF(D12=6,#REF!,IF('لیستوفر هوشمند (2)'!D12=8,#REF!,IF('لیستوفر هوشمند (2)'!D12=10,#REF!,IF(D12=12,#REF!,IF('لیستوفر هوشمند (2)'!D12=14,#REF!,IF('لیستوفر هوشمند (2)'!D12=16,#REF!,IF('لیستوفر هوشمند (2)'!D12=18,#REF!,IF('لیستوفر هوشمند (2)'!D12=20,#REF!,IF('لیستوفر هوشمند (2)'!D12=22,#REF!,IF('لیستوفر هوشمند (2)'!D12=24,#REF!,IF('لیستوفر هوشمند (2)'!D12=25,#REF!,IF('لیستوفر هوشمند (2)'!D12=26,#REF!,IF('لیستوفر هوشمند (2)'!D12=28,#REF!,IF('لیستوفر هوشمند (2)'!D12=30,#REF!,IF('لیستوفر هوشمند (2)'!D12=32,#REF!,0))))))))))))))) -> #REF! | I12: 1 | J12: =G12*H12 -> #REF! | L12: خاموت ستون دوم | W12: {=IFERROR(INDEX($D$4:$D$95,MATCH(0,COUNTIF($W$3:W11,$D$4:$D$95),0)),"")} | Y12: {=IFERROR(INDEX($L$4:$L$95,MATCH(0,COUNTIF($Y$3:Y11,$L$4:$L$95),0),0),0)} -> سنجاقی ستون دوم
B13: 10 | C13: 10 | D13: 10 | E13: 261 | F13: 0.5 | G13: =F13*E13 -> 130.5 | H13: =IF(D13=6,#REF!,IF('لیستوفر هوشمند (2)'!D13=8,#REF!,IF('لیستوفر هوشمند (2)'!D13=10,#REF!,IF(D13=12,#REF!,IF('لیستوفر هوشمند (2)'!D13=14,#REF!,IF('لیستوفر هوشمند (2)'!D13=16,#REF!,IF('لیستوفر هوشمند (2)'!D13=18,#REF!,IF('لیستوفر هوشمند (2)'!D13=20,#REF!,IF('لیستوفر هوشمند (2)'!D13=22,#REF!,IF('لیستوفر هوشمند (2)'!D13=24,#REF!,IF('لیستوفر هوشمند (2)'!D13=25,#REF!,IF('لیستوفر هوشمند (2)'!D13=26,#REF!,IF('لیستوفر هوشمند (2)'!D13=28,#REF!,IF('لیستوفر هوشمند (2)'!D13=30,#REF!,IF('لیستوفر هوشمند (2)'!D13=32,#REF!,0))))))))))))))) -> #REF! | I13: 1 | J13: =G13*H13 -> #REF! | L13: سنجاقی ستون دوم | W13: {=IFERROR(INDEX($D$4:$D$95,MATCH(0,COUNTIF($W$3:W12,$D$4:$D$95),0)),"")} | Y13: {=IFERROR(INDEX($L$4:$L$95,MATCH(0,COUNTIF($Y$3:Y12,$L$4:$L$95),0),0),0)} -> ستون طبقه 3
B14: 11 | C14: 11 | D14: 14 | E14: 72 | F14: 3.24 | G14: =F14*E14 -> 233.28 | H14: =IF(D14=6,#REF!,IF('لیستوفر هوشمند (2)'!D14=8,#REF!,IF('لیستوفر هوشمند (2)'!D14=10,#REF!,IF(D14=12,#REF!,IF('لیستوفر هوشمند (2)'!D14=14,#REF!,IF('لیستوفر هوشمند (2)'!D14=16,#REF!,IF('لیستوفر هوشمند (2)'!D14=18,#REF!,IF('لیستوفر هوشمند (2)'!D14=20,#REF!,IF('لیستوفر هوشمند (2)'!D14=22,#REF!,IF('لیستوفر هوشمند (2)'!D14=24,#REF!,IF('لیستوفر هوشمند (2)'!D14=25,#REF!,IF('لیستوفر هوشمند (2)'!D14=26,#REF!,IF('لیستوفر هوشمند (2)'!D14=28,#REF!,IF('لیستوفر هوشمند (2)'!D14=30,#REF!,IF('لیستوفر هوشمند (2)'!D14=32,#REF!,0))))))))))))))) -> #REF! | I14: 1 | J14: =G14*H14 -> #REF! | L14: ستون طبقه 3 | W14: {=IFERROR(INDEX($D$4:$D$95,MATCH(0,COUNTIF($W$3:W13,$D$4:$D$95),0)),"")} | Y14: {=IFERROR(INDEX($L$4:$L$95,MATCH(0,COUNTIF($Y$3:Y13,$L$4:$L$95),0),0),0)} -> خاموت ستون سوم
B15: 12 | C15: 12 | D15: 10 | E15: =32*9 -> 288 | F15: 1.26 | G15: =F15*E15 -> 362.88 | H15: =IF(D15=6,#REF!,IF('لیستوفر هوشمند (2)'!D15=8,#REF!,IF('لیستوفر هوشمند (2)'!D15=10,#REF!,IF(D15=12,#REF!,IF('لیستوفر هوشمند (2)'!D15=14,#REF!,IF('لیستوفر هوشمند (2)'!D15=16,#REF!,IF('لیستوفر هوشمند (2)'!D15=18,#REF!,IF('لیستوفر هوشمند (2)'!D15=20,#REF!,IF('لیستوفر هوشمند (2)'!D15=22,#REF!,IF('لیستوفر هوشمند (2)'!D15=24,#REF!,IF('لیستوفر هوشمند (2)'!D15=25,#REF!,IF('لیستوفر هوشمند (2)'!D15=26,#REF!,IF('لیستوفر هوشمند (2)'!D15=28,#REF!,IF('لیستوفر هوشمند (2)'!D15=30,#REF!,IF('لیستوفر هوشمند (2)'!D15=32,#REF!,0))))))))))))))) -> #REF! | I15: 1 | J15: =G15*H15 -> #REF! | L15: خاموت ستون سوم | W15: {=IFERROR(INDEX($D$4:$D$95,MATCH(0,COUNTIF($W$3:W14,$D$4:$D$95),0)),"")} | Y15: {=IFERROR(INDEX($L$4:$L$95,MATCH(0,COUNTIF($Y$3:Y14,$L$4:$L$95),0),0),0)} -> سنجاقی ستون سوم
B16: 13 | C16: 13 | D16: 10 | E16: 288 | F16: 0.45 | G16: =F16*E16 -> 129.6 | H16: =IF(D16=6,#REF!,IF('لیستوفر هوشمند (2)'!D16=8,#REF!,IF('لیستوفر هوشمند (2)'!D16=10,#REF!,IF(D16=12,#REF!,IF('لیستوفر هوشمند (2)'!D16=14,#REF!,IF('لیستوفر هوشمند (2)'!D16=16,#REF!,IF('لیستوفر هوشمند (2)'!D16=18,#REF!,IF('لیستوفر هوشمند (2)'!D16=20,#REF!,IF('لیستوفر هوشمند (2)'!D16=22,#REF!,IF('لیستوفر هوشمند (2)'!D16=24,#REF!,IF('لیستوفر هوشمند (2)'!D16=25,#REF!,IF('لیستوفر هوشمند (2)'!D16=26,#REF!,IF('لیستوفر هوشمند (2)'!D16=28,#REF!,IF('لیستوفر هوشمند (2)'!D16=30,#REF!,IF('لیستوفر هوشمند (2)'!D16=32,#REF!,0))))))))))))))) -> #REF! | I16: 1 | J16: =G16*H16 -> #REF! | L16: سنجاقی ستون سوم | W16: {=IFERROR(INDEX($D$4:$D$95,MATCH(0,COUNTIF($W$3:W15,$D$4:$D$95),0)),"")} | Y16: {=IFERROR(INDEX($L$4:$L$95,MATCH(0,COUNTIF($Y$3:Y15,$L$4:$L$95),0),0),0)} -> 0
W17: {=IFERROR(INDEX($D$4:$D$95,MATCH(0,COUNTIF($W$3:W16,$D$4:$D$95),0)),"")} | Y17: {=IFERROR(INDEX($L$4:$L$95,MATCH(0,COUNTIF($Y$3:Y16,$L$4:$L$95),0),0),0)} -> 0
B18: 20 | C18: 6 | E18: 0 | F18: 1.8 | G18: =F18*E18 -> 0 | H18: =IF(D18=6,#REF!,IF('لیستوفر هوشمند (2)'!D18=8,#REF!,IF('لیستوفر هوشمند (2)'!D18=10,#REF!,IF(D18=12,#REF!,IF('لیستوفر هوشمند (2)'!D18=14,#REF!,IF('لیستوفر هوشمند (2)'!D18=16,#REF!,IF('لیستوفر هوشمند (2)'!D18=18,#REF!,IF('لیستوفر هوشمند (2)'!D18=20,#REF!,IF('لیستوفر هوشمند (2)'!D18=22,#REF!,IF('لیستوفر هوشمند (2)'!D18=24,#REF!,IF('لیستوفر هوشمند (2)'!D18=25,#REF!,IF('لیستوفر هوشمند (2)'!D18=26,#REF!,IF('لیستوفر هوشمند (2)'!D18=28,#REF!,IF('لیستوفر هوشمند (2)'!D18=30,#REF!,IF('لیستوفر هوشمند (2)'!D18=32,#REF!,0))))))))))))))) -> 0 | J18: =G18*H18 -> 0 | W18: {=IFERROR(INDEX($D$4:$D$95,MATCH(0,COUNTIF(#REF!,$D$4:$D$95),0)),"")} | Y18: {=IFERROR(INDEX($L$4:$L$95,MATCH(0,COUNTIF($Y$3:Y17,$L$4:$L$95),0),0),0)} -> 0
B19: 21 | C19: 6 | E19: 0 | F19: 1.8 | G19: =F19*E19 -> 0 | H19: =IF(D19=6,#REF!,IF('لیستوفر هوشمند (2)'!D19=8,#REF!,IF('لیستوفر هوشمند (2)'!D19=10,#REF!,IF(D19=12,#REF!,IF('لیستوفر هوشمند (2)'!D19=14,#REF!,IF('لیستوفر هوشمند (2)'!D19=16,#REF!,IF('لیستوفر هوشمند (2)'!D19=18,#REF!,IF('لیستوفر هوشمند (2)'!D19=20,#REF!,IF('لیستوفر هوشمند (2)'!D19=22,#REF!,IF('لیستوفر هوشمند (2)'!D19=24,#REF!,IF('لیستوفر هوشمند (2)'!D19=25,#REF!,IF('لیستوفر هوشمند (2)'!D19=26,#REF!,IF('لیستوفر هوشمند (2)'!D19=28,#REF!,IF('لیستوفر هوشمند (2)'!D19=30,#REF!,IF('لیستوفر هوشمند (2)'!D19=32,#REF!,0))))))))))))))) -> 0 | J19: =G19*H19 -> 0 | W19: {=IFERROR(INDEX($D$4:$D$95,MATCH(0,COUNTIF(#REF!,$D$4:$D$95),0)),"")} | Y19: {=IFERROR(INDEX($L$4:$L$95,MATCH(0,COUNTIF($Y$3:Y18,$L$4:$L$95),0),0),0)} -> 0
B20: 22 | C20: 6 | E20: 0 | F20: 1.8 | G20: =F20*E20 -> 0 | H20: =IF(D20=6,#REF!,IF('لیستوفر هوشمند (2)'!D20=8,#REF!,IF('لیستوفر هوشمند (2)'!D20=10,#REF!,IF(D20=12,#REF!,IF('لیستوفر هوشمند (2)'!D20=14,#REF!,IF('لیستوفر هوشمند (2)'!D20=16,#REF!,IF('لیستوفر هوشمند (2)'!D20=18,#REF!,IF('لیستوفر هوشمند (2)'!D20=20,#REF!,IF('لیستوفر هوشمند (2)'!D20=22,#REF!,IF('لیستوفر هوشمند (2)'!D20=24,#REF!,IF('لیستوفر هوشمند (2)'!D20=25,#REF!,IF('لیستوفر هوشمند (2)'!D20=26,#REF!,IF('لیستوفر هوشمند (2)'!D20=28,#REF!,IF('لیستوفر هوشمند (2)'!D20=30,#REF!,IF('لیستوفر هوشمند (2)'!D20=32,#REF!,0))))))))))))))) -> 0 | J20: =G20*H20 -> 0 | W20: {=IFERROR(INDEX($D$4:$D$95,MATCH(0,COUNTIF(#REF!,$D$4:$D$95),0)),"")} | Y20: {=IFERROR(INDEX($L$4:$L$95,MATCH(0,COUNTIF($Y$3:Y19,$L$4:$L$95),0),0),0)} -> 0
B21: 23 | C21: 6 | E21: 0 | F21: 1.8 | G21: =F21*E21 -> 0 | H21: =IF(D21=6,#REF!,IF('لیستوفر هوشمند (2)'!D21=8,#REF!,IF('لیستوفر هوشمند (2)'!D21=10,#REF!,IF(D21=12,#REF!,IF('لیستوفر هوشمند (2)'!D21=14,#REF!,IF('لیستوفر هوشمند (2)'!D21=16,#REF!,IF('لیستوفر هوشمند (2)'!D21=18,#REF!,IF('لیستوفر هوشمند (2)'!D21=20,#REF!,IF('لیستوفر هوشمند (2)'!D21=22,#REF!,IF('لیستوفر هوشمند (2)'!D21=24,#REF!,IF('لیستوفر هوشمند (2)'!D21=25,#REF!,IF('لیستوفر هوشمند (2)'!D21=26,#REF!,IF('لیستوفر هوشمند (2)'!D21=28,#REF!,IF('لیستوفر هوشمند (2)'!D21=30,#REF!,IF('لیستوفر هوشمند (2)'!D21=32,#REF!,0))))))))))))))) -> 0 | J21: =G21*H21 -> 0 | W21: {=IFERROR(INDEX($D$4:$D$95,MATCH(0,COUNTIF(#REF!,$D$4:$D$95),0)),"")} | Y21: {=IFERROR(INDEX($L$4:$L$95,MATCH(0,COUNTIF($Y$3:Y20,$L$4:$L$95),0),0),0)} -> 0
B22: 24 | C22: 6 | E22: 0 | F22: 1.8 | G22: =F22*E22 -> 0 | H22: =IF(D22=6,#REF!,IF('لیستوفر هوشمند (2)'!D22=8,#REF!,IF('لیستوفر هوشمند (2)'!D22=10,#REF!,IF(D22=12,#REF!,IF('لیستوفر هوشمند (2)'!D22=14,#REF!,IF('لیستوفر هوشمند (2)'!D22=16,#REF!,IF('لیستوفر هوشمند (2)'!D22=18,#REF!,IF('لیستوفر هوشمند (2)'!D22=20,#REF!,IF('لیستوفر هوشمند (2)'!D22=22,#REF!,IF('لیستوفر هوشمند (2)'!D22=24,#REF!,IF('لیستوفر هوشمند (2)'!D22=25,#REF!,IF('لیستوفر هوشمند (2)'!D22=26,#REF!,IF('لیستوفر هوشمند (2)'!D22=28,#REF!,IF('لیستوفر هوشمند (2)'!D22=30,#REF!,IF('لیستوفر هوشمند (2)'!D22=32,#REF!,0))))))))))))))) -> 0 | J22: =G22*H22 -> 0 | W22: {=IFERROR(INDEX($D$4:$D$95,MATCH(0,COUNTIF(#REF!,$D$4:$D$95),0)),"")} | Y22: {=IFERROR(INDEX($L$4:$L$95,MATCH(0,COUNTIF($Y$3:Y21,$L$4:$L$95),0),0),0)} -> 0
B23: 25 | C23: 6 | E23: 0 | F23: 1.8 | G23: =F23*E23 -> 0 | H23: =IF(D23=6,#REF!,IF('لیستوفر هوشمند (2)'!D23=8,#REF!,IF('لیستوفر هوشمند (2)'!D23=10,#REF!,IF(D23=12,#REF!,IF('لیستوفر هوشمند (2)'!D23=14,#REF!,IF('لیستوفر هوشمند (2)'!D23=16,#REF!,IF('لیستوفر هوشمند (2)'!D23=18,#REF!,IF('لیستوفر هوشمند (2)'!D23=20,#REF!,IF('لیستوفر هوشمند (2)'!D23=22,#REF!,IF('لیستوفر هوشمند (2)'!D23=24,#REF!,IF('لیستوفر هوشمند (2)'!D23=25,#REF!,IF('لیستوفر هوشمند (2)'!D23=26,#REF!,IF('لیستوفر هوشمند (2)'!D23=28,#REF!,IF('لیستوفر هوشمند (2)'!D23=30,#REF!,IF('لیستوفر هوشمند (2)'!D23=32,#REF!,0))))))))))))))) -> 0 | J23: =G23*H23 -> 0 | W23: {=IFERROR(INDEX($D$4:$D$95,MATCH(0,COUNTIF(#REF!,$D$4:$D$95),0)),"")} | Y23: {=IFERROR(INDEX($L$4:$L$95,MATCH(0,COUNTIF($Y$3:Y22,$L$4:$L$95),0),0),0)} -> 0
B24: 26 | C24: 6 | E24: 0 | F24: 1.8 | G24: =F24*E24 -> 0 | H24: =IF(D24=6,#REF!,IF('لیستوفر هوشمند (2)'!D24=8,#REF!,IF('لیستوفر هوشمند (2)'!D24=10,#REF!,IF(D24=12,#REF!,IF('لیستوفر هوشمند (2)'!D24=14,#REF!,IF('لیستوفر هوشمند (2)'!D24=16,#REF!,IF('لیستوفر هوشمند (2)'!D24=18,#REF!,IF('لیستوفر هوشمند (2)'!D24=20,#REF!,IF('لیستوفر هوشمند (2)'!D24=22,#REF!,IF('لیستوفر هوشمند (2)'!D24=24,#REF!,IF('لیستوفر هوشمند (2)'!D24=25,#REF!,IF('لیستوفر هوشمند (2)'!D24=26,#REF!,IF('لیستوفر هوشمند (2)'!D24=28,#REF!,IF('لیستوفر هوشمند (2)'!D24=30,#REF!,IF('لیستوفر هوشمند (2)'!D24=32,#REF!,0))))))))))))))) -> 0 | J24: =G24*H24 -> 0 | W24: {=IFERROR(INDEX($D$4:$D$95,MATCH(0,COUNTIF(#REF!,$D$4:$D$95),0)),"")} | Y24: {=IFERROR(INDEX($L$4:$L$95,MATCH(0,COUNTIF($Y$3:Y23,$L$4:$L$95),0),0),0)} -> 0
B25: 27 | C25: 6 | E25: 0 | F25: 1.8 | G25: =F25*E25 -> 0 | H25: =IF(D25=6,#REF!,IF('لیستوفر هوشمند (2)'!D25=8,#REF!,IF('لیستوفر هوشمند (2)'!D25=10,#REF!,IF(D25=12,#REF!,IF('لیستوفر هوشمند (2)'!D25=14,#REF!,IF('لیستوفر هوشمند (2)'!D25=16,#REF!,IF('لیستوفر هوشمند (2)'!D25=18,#REF!,IF('لیستوفر هوشمند (2)'!D25=20,#REF!,IF('لیستوفر هوشمند (2)'!D25=22,#REF!,IF('لیستوفر هوشمند (2)'!D25=24,#REF!,IF('لیستوفر هوشمند (2)'!D25=25,#REF!,IF('لیستوفر هوشمند (2)'!D25=26,#REF!,IF('لیستوفر هوشمند (2)'!D25=28,#REF!,IF('لیستوفر هوشمند (2)'!D25=30,#REF!,IF('لیستوفر هوشمند (2)'!D25=32,#REF!,0))))))))))))))) -> 0 | J25: =G25*H25 -> 0 | W25: {=IFERROR(INDEX($D$4:$D$95,MATCH(0,COUNTIF(#REF!,$D$4:$D$95),0)),"")} | Y25: {=IFERROR(INDEX($L$4:$L$95,MATCH(0,COUNTIF($Y$3:Y24,$L$4:$L$95),0),0),0)} -> 0
B26: 28 | C26: 6 | E26: 0 | F26: 1.8 | G26: =F26*E26 -> 0 | H26: =IF(D26=6,#REF!,IF('لیستوفر هوشمند (2)'!D26=8,#REF!,IF('لیستوفر هوشمند (2)'!D26=10,#REF!,IF(D26=12,#REF!,IF('لیستوفر هوشمند (2)'!D26=14,#REF!,IF('لیستوفر هوشمند (2)'!D26=16,#REF!,IF('لیستوفر هوشمند (2)'!D26=18,#REF!,IF('لیستوفر هوشمند (2)'!D26=20,#REF!,IF('لیستوفر هوشمند (2)'!D26=22,#REF!,IF('لیستوفر هوشمند (2)'!D26=24,#REF!,IF('لیستوفر هوشمند (2)'!D26=25,#REF!,IF('لیستوفر هوشمند (2)'!D26=26,#REF!,IF('لیستوفر هوشمند (2)'!D26=28,#REF!,IF('لیستوفر هوشمند (2)'!D26=30,#REF!,IF('لیستوفر هوشمند (2)'!D26=32,#REF!,0))))))))))))))) -> 0 | J26: =G26*H26 -> 0 | W26: {=IFERROR(INDEX($D$4:$D$95,MATCH(0,COUNTIF(#REF!,$D$4:$D$95),0)),"")} | Y26: {=IFERROR(INDEX($L$4:$L$95,MATCH(0,COUNTIF($Y$3:Y25,$L$4:$L$95),0),0),0)} -> 0
B27: 29 | C27: 6 | E27: 0 | F27: 1.8 | G27: =F27*E27 -> 0 | H27: =IF(D27=6,#REF!,IF('لیستوفر هوشمند (2)'!D27=8,#REF!,IF('لیستوفر هوشمند (2)'!D27=10,#REF!,IF(D27=12,#REF!,IF('لیستوفر هوشمند (2)'!D27=14,#REF!,IF('لیستوفر هوشمند (2)'!D27=16,#REF!,IF('لیستوفر هوشمند (2)'!D27=18,#REF!,IF('لیستوفر هوشمند (2)'!D27=20,#REF!,IF('لیستوفر هوشمند (2)'!D27=22,#REF!,IF('لیستوفر هوشمند (2)'!D27=24,#REF!,IF('لیستوفر هوشمند (2)'!D27=25,#REF!,IF('لیستوفر هوشمند (2)'!D27=26,#REF!,IF('لیستوفر هوشمند (2)'!D27=28,#REF!,IF('لیستوفر هوشمند (2)'!D27=30,#REF!,IF('لیستوفر هوشمند (2)'!D27=32,#REF!,0))))))))))))))) -> 0 | J27: =G27*H27 -> 0 | W27: {=IFERROR(INDEX($D$4:$D$95,MATCH(0,COUNTIF(#REF!,$D$4:$D$95),0)),"")} | Y27: {=IFERROR(INDEX($L$4:$L$95,MATCH(0,COUNTIF($Y$3:Y26,$L$4:$L$95),0),0),0)} -> 0
B28: 30 | C28: 6 | E28: 0 | F28: 1.8 | G28: =F28*E28 -> 0 | H28: =IF(D28=6,#REF!,IF('لیستوفر هوشمند (2)'!D28=8,#REF!,IF('لیستوفر هوشمند (2)'!D28=10,#REF!,IF(D28=12,#REF!,IF('لیستوفر هوشمند (2)'!D28=14,#REF!,IF('لیستوفر هوشمند (2)'!D28=16,#REF!,IF('لیستوفر هوشمند (2)'!D28=18,#REF!,IF('لیستوفر هوشمند (2)'!D28=20,#REF!,IF('لیستوفر هوشمند (2)'!D28=22,#REF!,IF('لیستوفر هوشمند (2)'!D28=24,#REF!,IF('لیستوفر هوشمند (2)'!D28=25,#REF!,IF('لیستوفر هوشمند (2)'!D28=26,#REF!,IF('لیستوفر هوشمند (2)'!D28=28,#REF!,IF('لیستوفر هوشمند (2)'!D28=30,#REF!,IF('لیستوفر هوشمند (2)'!D28=32,#REF!,0))))))))))))))) -> 0 | J28: =G28*H28 -> 0 | W28: {=IFERROR(INDEX($D$4:$D$95,MATCH(0,COUNTIF(#REF!,$D$4:$D$95),0)),"")} | Y28: {=IFERROR(INDEX($L$4:$L$95,MATCH(0,COUNTIF($Y$3:Y27,$L$4:$L$95),0),0),0)} -> 0
B29: 31 | C29: 6 | E29: 0 | F29: 1.8 | G29: =F29*E29 -> 0 | H29: =IF(D29=6,#REF!,IF('لیستوفر هوشمند (2)'!D29=8,#REF!,IF('لیستوفر هوشمند (2)'!D29=10,#REF!,IF(D29=12,#REF!,IF('لیستوفر هوشمند (2)'!D29=14,#REF!,IF('لیستوفر هوشمند (2)'!D29=16,#REF!,IF('لیستوفر هوشمند (2)'!D29=18,#REF!,IF('لیستوفر هوشمند (2)'!D29=20,#REF!,IF('لیستوفر هوشمند (2)'!D29=22,#REF!,IF('لیستوفر هوشمند (2)'!D29=24,#REF!,IF('لیستوفر هوشمند (2)'!D29=25,#REF!,IF('لیستوفر هوشمند (2)'!D29=26,#REF!,IF('لیستوفر هوشمند (2)'!D29=28,#REF!,IF('لیستوفر هوشمند (2)'!D29=30,#REF!,IF('لیستوفر هوشمند (2)'!D29=32,#REF!,0))))))))))))))) -> 0 | J29: =G29*H29 -> 0 | W29: {=IFERROR(INDEX($D$4:$D$95,MATCH(0,COUNTIF(#REF!,$D$4:$D$95),0)),"")} | Y29: {=IFERROR(INDEX($L$4:$L$95,MATCH(0,COUNTIF($Y$3:Y28,$L$4:$L$95),0),0),0)} -> 0
... B61: 63 | C61: 6 | E61: 0 | F61: 1.8 | G61: =F61*E61 -> 0 | H61: =IF(D61=6,#REF!,IF('لیستوفر هوشمند (2)'!D61=8,#REF!,IF('لیستوفر هوشمند (2)'!D61=10,#REF!,IF(D61=12,#REF!,IF('لیستوفر هوشمند (2)'!D61=14,#REF!,IF('لیستوفر هوشمند (2)'!D61=16,#REF!,IF('لیستوفر هوشمند (2)'!D61=18,#REF!,IF('لیستوفر هوشمند (2)'!D61=20,#REF!,IF('لیستوفر هوشمند (2)'!D61=22,#REF!,IF('لیستوفر هوشمند (2)'!D61=24,#REF!,IF('لیستوفر هوشمند (2)'!D61=25,#REF!,IF('لیستوفر هوشمند (2)'!D61=26,#REF!,IF('لیستوفر هوشمند (2)'!D61=28,#REF!,IF('لیستوفر هوشمند (2)'!D61=30,#REF!,IF('لیستوفر هوشمند (2)'!D61=32,#REF!,0))))))))))))))) -> 0 | J61: =G61*H61 -> 0 | W61: {=IFERROR(INDEX($D$4:$D$95,MATCH(0,COUNTIF(#REF!,$D$4:$D$95),0)),"")} | Y61: {=IFERROR(INDEX($L$4:$L$95,MATCH(0,COUNTIF($Y$3:Y60,$L$4:$L$95),0),0),0)} -> 0
B62: 64 | C62: 6 | E62: 0 | F62: 1.8 | G62: =F62*E62 -> 0 | H62: =IF(D62=6,#REF!,IF('لیستوفر هوشمند (2)'!D62=8,#REF!,IF('لیستوفر هوشمند (2)'!D62=10,#REF!,IF(D62=12,#REF!,IF('لیستوفر هوشمند (2)'!D62=14,#REF!,IF('لیستوفر هوشمند (2)'!D62=16,#REF!,IF('لیستوفر هوشمند (2)'!D62=18,#REF!,IF('لیستوفر هوشمند (2)'!D62=20,#REF!,IF('لیستوفر هوشمند (2)'!D62=22,#REF!,IF('لیستوفر هوشمند (2)'!D62=24,#REF!,IF('لیستوفر هوشمند (2)'!D62=25,#REF!,IF('لیستوفر هوشمند (2)'!D62=26,#REF!,IF('لیستوفر هوشمند (2)'!D62=28,#REF!,IF('لیستوفر هوشمند (2)'!D62=30,#REF!,IF('لیستوفر هوشمند (2)'!D62=32,#REF!,0))))))))))))))) -> 0 | J62: =G62*H62 -> 0 | W62: {=IFERROR(INDEX($D$4:$D$95,MATCH(0,COUNTIF($W1:W$3,$D$4:$D$95),0)),"")} -> 18 | Y62: {=IFERROR(INDEX($L$4:$L$95,MATCH(0,COUNTIF($Y$3:Y61,$L$4:$L$95),0),0),0)} -> 0
B63: 65 | C63: 6 | E63: 0 | F63: 1.8 | G63: =F63*E63 -> 0 | H63: =IF(D63=6,#REF!,IF('لیستوفر هوشمند (2)'!D63=8,#REF!,IF('لیستوفر هوشمند (2)'!D63=10,#REF!,IF(D63=12,#REF!,IF('لیستوفر هوشمند (2)'!D63=14,#REF!,IF('لیستوفر هوشمند (2)'!D63=16,#REF!,IF('لیستوفر هوشمند (2)'!D63=18,#REF!,IF('لیستوفر هوشمند (2)'!D63=20,#REF!,IF('لیستوفر هوشمند (2)'!D63=22,#REF!,IF('لیستوفر هوشمند (2)'!D63=24,#REF!,IF('لیستوفر هوشمند (2)'!D63=25,#REF!,IF('لیستوفر هوشمند (2)'!D63=26,#REF!,IF('لیستوفر هوشمند (2)'!D63=28,#REF!,IF('لیستوفر هوشمند (2)'!D63=30,#REF!,IF('لیستوفر هوشمند (2)'!D63=32,#REF!,0))))))))))))))) -> 0 | J63: =G63*H63 -> 0 | W63: {=IFERROR(INDEX($D$4:$D$95,MATCH(0,COUNTIF($W2:W$3,$D$4:$D$95),0)),"")} -> 18 | Y63: {=IFERROR(INDEX($L$4:$L$95,MATCH(0,COUNTIF($Y$3:Y62,$L$4:$L$95),0),0),0)} -> 0
B64: 66 | C64: 6 | E64: 0 | F64: 1.8 | G64: =F64*E64 -> 0 | H64: =IF(D64=6,#REF!,IF('لیستوفر هوشمند (2)'!D64=8,#REF!,IF('لیستوفر هوشمند (2)'!D64=10,#REF!,IF(D64=12,#REF!,IF('لیستوفر هوشمند (2)'!D64=14,#REF!,IF('لیستوفر هوشمند (2)'!D64=16,#REF!,IF('لیستوفر هوشمند (2)'!D64=18,#REF!,IF('لیستوفر هوشمند (2)'!D64=20,#REF!,IF('لیستوفر هوشمند (2)'!D64=22,#REF!,IF('لیستوفر هوشمند (2)'!D64=24,#REF!,IF('لیستوفر هوشمند (2)'!D64=25,#REF!,IF('لیستوفر هوشمند (2)'!D64=26,#REF!,IF('لیستوفر هوشمند (2)'!D64=28,#REF!,IF('لیستوفر هوشمند (2)'!D64=30,#REF!,IF('لیستوفر هوشمند (2)'!D64=32,#REF!,0))))))))))))))) -> 0 | J64: =G64*H64 -> 0 | W64: {=IFERROR(INDEX($D$4:$D$95,MATCH(0,COUNTIF($W$3:W3,$D$4:$D$95),0)),"")} -> 18 | Y64: {=IFERROR(INDEX($L$4:$L$95,MATCH(0,COUNTIF($Y$3:Y63,$L$4:$L$95),0),0),0)} -> 0
B65: 67 | C65: 6 | E65: 0 | F65: 1.8 | G65: =F65*E65 -> 0 | H65: =IF(D65=6,#REF!,IF('لیستوفر هوشمند (2)'!D65=8,#REF!,IF('لیستوفر هوشمند (2)'!D65=10,#REF!,IF(D65=12,#REF!,IF('لیستوفر هوشمند (2)'!D65=14,#REF!,IF('لیستوفر هوشمند (2)'!D65=16,#REF!,IF('لیستوفر هوشمند (2)'!D65=18,#REF!,IF('لیستوفر هوشمند (2)'!D65=20,#REF!,IF('لیستوفر هوشمند (2)'!D65=22,#REF!,IF('لیستوفر هوشمند (2)'!D65=24,#REF!,IF('لیستوفر هوشمند (2)'!D65=25,#REF!,IF('لیستوفر هوشمند (2)'!D65=26,#REF!,IF('لیستوفر هوشمند (2)'!D65=28,#REF!,IF('لیستوفر هوشمند (2)'!D65=30,#REF!,IF('لیستوفر هوشمند (2)'!D65=32,#REF!,0))))))))))))))) -> 0 | J65: =G65*H65 -> 0 | W65: {=IFERROR(INDEX($D$4:$D$95,MATCH(0,COUNTIF($W$3:W4,$D$4:$D$95),0)),"")} -> 16 | Y65: {=IFERROR(INDEX($L$4:$L$95,MATCH(0,COUNTIF($Y$3:Y64,$L$4:$L$95),0),0),0)} -> 0
B66: 68 | C66: 6 | E66: 0 | F66: 1.8 | G66: =F66*E66 -> 0 | H66: =IF(D66=6,#REF!,IF('لیستوفر هوشمند (2)'!D66=8,#REF!,IF('لیستوفر هوشمند (2)'!D66=10,#REF!,IF(D66=12,#REF!,IF('لیستوفر هوشمند (2)'!D66=14,#REF!,IF('لیستوفر هوشمند (2)'!D66=16,#REF!,IF('لیستوفر هوشمند (2)'!D66=18,#REF!,IF('لیستوفر هوشمند (2)'!D66=20,#REF!,IF('لیستوفر هوشمند (2)'!D66=22,#REF!,IF('لیستوفر هوشمند (2)'!D66=24,#REF!,IF('لیستوفر هوشمند (2)'!D66=25,#REF!,IF('لیستوفر هوشمند (2)'!D66=26,#REF!,IF('لیستوفر هوشمند (2)'!D66=28,#REF!,IF('لیستوفر هوشمند (2)'!D66=30,#REF!,IF('لیستوفر هوشمند (2)'!D66=32,#REF!,0))))))))))))))) -> 0 | J66: =G66*H66 -> 0 | W66: {=IFERROR(INDEX($D$4:$D$95,MATCH(0,COUNTIF($W$3:W7,$D$4:$D$95),0)),"")} -> 10 | Y66: {=IFERROR(INDEX($L$4:$L$95,MATCH(0,COUNTIF($Y$3:Y65,$L$4:$L$95),0),0),0)} -> 0
B67: 69 | C67: 6 | E67: 0 | F67: 1.8 | G67: =F67*E67 -> 0 | H67: =IF(D67=6,#REF!,IF('لیستوفر هوشمند (2)'!D67=8,#REF!,IF('لیستوفر هوشمند (2)'!D67=10,#REF!,IF(D67=12,#REF!,IF('لیستوفر هوشمند (2)'!D67=14,#REF!,IF('لیستوفر هوشمند (2)'!D67=16,#REF!,IF('لیستوفر هوشمند (2)'!D67=18,#REF!,IF('لیستوفر هوشمند (2)'!D67=20,#REF!,IF('لیستوفر هوشمند (2)'!D67=22,#REF!,IF('لیستوفر هوشمند (2)'!D67=24,#REF!,IF('لیستوفر هوشمند (2)'!D67=25,#REF!,IF('لیستوفر هوشمند (2)'!D67=26,#REF!,IF('لیستوفر هوشمند (2)'!D67=28,#REF!,IF('لیستوفر هوشمند (2)'!D67=30,#REF!,IF('لیستوفر هوشمند (2)'!D67=32,#REF!,0))))))))))))))) -> 0 | J67: =G67*H67 -> 0 | W67: {=IFERROR(INDEX($D$4:$D$95,MATCH(0,COUNTIF($W$3:W8,$D$4:$D$95),0)),"")} -> 14 | Y67: {=IFERROR(INDEX($L$4:$L$95,MATCH(0,COUNTIF($Y$3:Y66,$L$4:$L$95),0),0),0)} -> 0
B68: 70 | C68: 6 | E68: 0 | F68: 1.8 | G68: =F68*E68 -> 0 | H68: =IF(D68=6,#REF!,IF('لیستوفر هوشمند (2)'!D68=8,#REF!,IF('لیستوفر هوشمند (2)'!D68=10,#REF!,IF(D68=12,#REF!,IF('لیستوفر هوشمند (2)'!D68=14,#REF!,IF('لیستوفر هوشمند (2)'!D68=16,#REF!,IF('لیستوفر هوشمند (2)'!D68=18,#REF!,IF('لیستوفر هوشمند (2)'!D68=20,#REF!,IF('لیستوفر هوشمند (2)'!D68=22,#REF!,IF('لیستوفر هوشمند (2)'!D68=24,#REF!,IF('لیستوفر هوشمند (2)'!D68=25,#REF!,IF('لیستوفر هوشمند (2)'!D68=26,#REF!,IF('لیستوفر هوشمند (2)'!D68=28,#REF!,IF('لیستوفر هوشمند (2)'!D68=30,#REF!,IF('لیستوفر هوشمند (2)'!D68=32,#REF!,0))))))))))))))) -> 0 | J68: =G68*H68 -> 0 | W68: {=IFERROR(INDEX($D$4:$D$95,MATCH(0,COUNTIF($W$3:W9,$D$4:$D$95),0)),"")} -> 0 | Y68: {=IFERROR(INDEX($L$4:$L$95,MATCH(0,COUNTIF($Y$3:Y67,$L$4:$L$95),0),0),0)} -> 0
